{"text_format":"1","workbook":"xlsx","n_sheets":4,"sheets":["MAIN","ABDICHTUNGSARBEITEN","SANITÄR","Datensatz"],"not_rendered":{"charts":0,"images":3,"macros":1,"external_links":0,"defined_names":2,"comments":0,"pivot_tables":0},"unopened":[],"bounds":{"document_bytes":16777216,"sheet_cells":100000,"rows_first":2000,"rows_last":500,"rows_between":2000,"halvings":0,"cell_chars":16384,"cell_head_chars":4096},"cells_cut":0,"cells_raw":0,"read":"whole","date_system":"1900"}

{"sheet":"MAIN","index":0,"n_rows":10,"n_cols":12,"rows_kept":10,"cut":false,"hidden":false,"merged":[[9,11,9,13],[8,11,8,13],[9,7,9,8],[8,7,8,8],[8,3,8,4],[9,3,9,4],[8,5,8,6],[9,5,9,6]]}
[]
[]
[]
[]
[]
[]
[]
[]
[null,null,"Baupreis- Index Auswahl nach Jahr","Quartal",null,"Gebäudeklasse",null,"Baupreis- Index in %",null,null,null,"Gesamte Positionen"]
[null,null,2020,"II",null,"Wohngebäude",null,{"$f":"Datensatz!C2","v":1.1803809523809523},null,null,null,{"$f":"SANITÄR!J254+ABDICHTUNGSARBEITEN!J99+0","v":234}]

{"sheet":"ABDICHTUNGSARBEITEN","index":1,"n_rows":99,"n_cols":10,"rows_kept":99,"cut":false,"hidden":false,"merged":[]}
[]
[]
[]
[]
[]
[null,null,"Suche:",null,null,null,null,null,"Treffer:"]
[null,null,null,null,null,null,null,null,{"$f":"COUNTIF($C$26:$C$257,\"*\"&$C$7&\"*\")","v":67}]
[]
["Katalog","Pos. Nr.","Ergebnis","Einheit","EP","INDEXPREIS","Von","Mittel","Bis"]
[{"$f":"IF($C$7=\"\",\"\",IFERROR(INDEX(A:A,_xlfn.AGGREGATE(15,6,ROW(Tabelle1[Bezeichnung])/(FIND($C$7,Tabelle1[Bezeichnung],1)>0),ROW()-9),1),\"\"))","v":""},{"$f":"IF($C$7=\"\",\"\",IFERROR(INDEX(B:B,_xlfn.AGGREGATE(15,6,ROW(Tabelle1[Bezeichnung])/(FIND($C$7,Tabelle1[Bezeichnung],1)>0),ROW()-9),1),\"\"))","v":""},{"$f":"IF($C$7=\"\",\"\",IFERROR(INDEX(C:C,_xlfn.AGGREGATE(15,6,ROW(Tabelle1[Bezeichnung])/(FIND($C$7,Tabelle1[Bezeichnung],1)>0),ROW()-9),1),\"\"))","v":""},{"$f":"IF($C$7=\"\",\"\",IFERROR(INDEX(D:D,_xlfn.AGGREGATE(15,6,ROW(Tabelle1[Bezeichnung])/(FIND($C$7,Tabelle1[Bezeichnung],1)>0),ROW()-9),1),\"\"))","v":""},{"$f":"IF($C$7=\"\",\"\",IFERROR(INDEX(E:E,_xlfn.AGGREGATE(15,6,ROW(Tabelle1[Bezeichnung])/(FIND($C$7,Tabelle1[Bezeichnung],1)>0),ROW()-9),1),\"\"))","v":""},{"$f":"IF($C$7=\"\",\"\",IFERROR(INDEX(F:F,_xlfn.AGGREGATE(15,6,ROW(Tabelle1[Bezeichnung])/(FIND($C$7,Tabelle1[Bezeichnung],1)>0),ROW()-9),1),\"\"))","v":""},{"$f":"IF($C$7=\"\",\"\",IFERROR(INDEX(G:G,_xlfn.AGGREGATE(15,6,ROW(Tabelle1[Bezeichnung])/(FIND($C$7,Tabelle1[Bezeichnung],1)>0),ROW()-9),1),\"\"))","v":""},{"$f":"IF($C$7=\"\",\"\",IFERROR(INDEX(H:H,_xlfn.AGGREGATE(15,6,ROW(Tabelle1[Bezeichnung])/(FIND($C$7,Tabelle1[Bezeichnung],1)>0),ROW()-9),1),\"\"))","v":""},{"$f":"IF($C$7=\"\",\"\",IFERROR(INDEX(I:I,_xlfn.AGGREGATE(15,6,ROW(Tabelle1[Bezeichnung])/(FIND($C$7,Tabelle1[Bezeichnung],1)>0),ROW()-9),1),\"\"))","v":""}]
[{"$f":"IF($C$7=\"\",\"\",IFERROR(INDEX(A:A,_xlfn.AGGREGATE(15,6,ROW(Tabelle1[Bezeichnung])/(FIND($C$7,Tabelle1[Bezeichnung],1)>0),ROW()-9),1),\"\"))","v":""},{"$f":"IF($C$7=\"\",\"\",IFERROR(INDEX(B:B,_xlfn.AGGREGATE(15,6,ROW(Tabelle1[Bezeichnung])/(FIND($C$7,Tabelle1[Bezeichnung],1)>0),ROW()-9),1),\"\"))","v":""},{"$f":"IF($C$7=\"\",\"\",IFERROR(INDEX(C:C,_xlfn.AGGREGATE(15,6,ROW(Tabelle1[Bezeichnung])/(FIND($C$7,Tabelle1[Bezeichnung],1)>0),ROW()-9),1),\"\"))","v":""},{"$f":"IF($C$7=\"\",\"\",IFERROR(INDEX(D:D,_xlfn.AGGREGATE(15,6,ROW(Tabelle1[Bezeichnung])/(FIND($C$7,Tabelle1[Bezeichnung],1)>0),ROW()-9),1),\"\"))","v":""},{"$f":"IF($C$7=\"\",\"\",IFERROR(INDEX(E:E,_xlfn.AGGREGATE(15,6,ROW(Tabelle1[Bezeichnung])/(FIND($C$7,Tabelle1[Bezeichnung],1)>0),ROW()-9),1),\"\"))","v":""},{"$f":"IF($C$7=\"\",\"\",IFERROR(INDEX(F:F,_xlfn.AGGREGATE(15,6,ROW(Tabelle1[Bezeichnung])/(FIND($C$7,Tabelle1[Bezeichnung],1)>0),ROW()-9),1),\"\"))","v":""},{"$f":"IF($C$7=\"\",\"\",IFERROR(INDEX(G:G,_xlfn.AGGREGATE(15,6,ROW(Tabelle1[Bezeichnung])/(FIND($C$7,Tabelle1[Bezeichnung],1)>0),ROW()-9),1),\"\"))","v":""},{"$f":"IF($C$7=\"\",\"\",IFERROR(INDEX(H:H,_xlfn.AGGREGATE(15,6,ROW(Tabelle1[Bezeichnung])/(FIND($C$7,Tabelle1[Bezeichnung],1)>0),ROW()-9),1),\"\"))","v":""},{"$f":"IF($C$7=\"\",\"\",IFERROR(INDEX(I:I,_xlfn.AGGREGATE(15,6,ROW(Tabelle1[Bezeichnung])/(FIND($C$7,Tabelle1[Bezeichnung],1)>0),ROW()-9),1),\"\"))","v":""}]
[{"$f":"IF($C$7=\"\",\"\",IFERROR(INDEX(A:A,_xlfn.AGGREGATE(15,6,ROW(Tabelle1[Bezeichnung])/(FIND($C$7,Tabelle1[Bezeichnung],1)>0),ROW()-9),1),\"\"))","v":""},{"$f":"IF($C$7=\"\",\"\",IFERROR(INDEX(B:B,_xlfn.AGGREGATE(15,6,ROW(Tabelle1[Bezeichnung])/(FIND($C$7,Tabelle1[Bezeichnung],1)>0),ROW()-9),1),\"\"))","v":""},{"$f":"IF($C$7=\"\",\"\",IFERROR(INDEX(C:C,_xlfn.AGGREGATE(15,6,ROW(Tabelle1[Bezeichnung])/(FIND($C$7,Tabelle1[Bezeichnung],1)>0),ROW()-9),1),\"\"))","v":""},{"$f":"IF($C$7=\"\",\"\",IFERROR(INDEX(D:D,_xlfn.AGGREGATE(15,6,ROW(Tabelle1[Bezeichnung])/(FIND($C$7,Tabelle1[Bezeichnung],1)>0),ROW()-9),1),\"\"))","v":""},{"$f":"IF($C$7=\"\",\"\",IFERROR(INDEX(E:E,_xlfn.AGGREGATE(15,6,ROW(Tabelle1[Bezeichnung])/(FIND($C$7,Tabelle1[Bezeichnung],1)>0),ROW()-9),1),\"\"))","v":""},{"$f":"IF($C$7=\"\",\"\",IFERROR(INDEX(F:F,_xlfn.AGGREGATE(15,6,ROW(Tabelle1[Bezeichnung])/(FIND($C$7,Tabelle1[Bezeichnung],1)>0),ROW()-9),1),\"\"))","v":""},{"$f":"IF($C$7=\"\",\"\",IFERROR(INDEX(G:G,_xlfn.AGGREGATE(15,6,ROW(Tabelle1[Bezeichnung])/(FIND($C$7,Tabelle1[Bezeichnung],1)>0),ROW()-9),1),\"\"))","v":""},{"$f":"IF($C$7=\"\",\"\",IFERROR(INDEX(H:H,_xlfn.AGGREGATE(15,6,ROW(Tabelle1[Bezeichnung])/(FIND($C$7,Tabelle1[Bezeichnung],1)>0),ROW()-9),1),\"\"))","v":""},{"$f":"IF($C$7=\"\",\"\",IFERROR(INDEX(I:I,_xlfn.AGGREGATE(15,6,ROW(Tabelle1[Bezeichnung])/(FIND($C$7,Tabelle1[Bezeichnung],1)>0),ROW()-9),1),\"\"))","v":""}]
[{"$f":"IF($C$7=\"\",\"\",IFERROR(INDEX(A:A,_xlfn.AGGREGATE(15,6,ROW(Tabelle1[Bezeichnung])/(FIND($C$7,Tabelle1[Bezeichnung],1)>0),ROW()-9),1),\"\"))","v":""},{"$f":"IF($C$7=\"\",\"\",IFERROR(INDEX(B:B,_xlfn.AGGREGATE(15,6,ROW(Tabelle1[Bezeichnung])/(FIND($C$7,Tabelle1[Bezeichnung],1)>0),ROW()-9),1),\"\"))","v":""},{"$f":"IF($C$7=\"\",\"\",IFERROR(INDEX(C:C,_xlfn.AGGREGATE(15,6,ROW(Tabelle1[Bezeichnung])/(FIND($C$7,Tabelle1[Bezeichnung],1)>0),ROW()-9),1),\"\"))","v":""},{"$f":"IF($C$7=\"\",\"\",IFERROR(INDEX(D:D,_xlfn.AGGREGATE(15,6,ROW(Tabelle1[Bezeichnung])/(FIND($C$7,Tabelle1[Bezeichnung],1)>0),ROW()-9),1),\"\"))","v":""},{"$f":"IF($C$7=\"\",\"\",IFERROR(INDEX(E:E,_xlfn.AGGREGATE(15,6,ROW(Tabelle1[Bezeichnung])/(FIND($C$7,Tabelle1[Bezeichnung],1)>0),ROW()-9),1),\"\"))","v":""},{"$f":"IF($C$7=\"\",\"\",IFERROR(INDEX(F:F,_xlfn.AGGREGATE(15,6,ROW(Tabelle1[Bezeichnung])/(FIND($C$7,Tabelle1[Bezeichnung],1)>0),ROW()-9),1),\"\"))","v":""},{"$f":"IF($C$7=\"\",\"\",IFERROR(INDEX(G:G,_xlfn.AGGREGATE(15,6,ROW(Tabelle1[Bezeichnung])/(FIND($C$7,Tabelle1[Bezeichnung],1)>0),ROW()-9),1),\"\"))","v":""},{"$f":"IF($C$7=\"\",\"\",IFERROR(INDEX(H:H,_xlfn.AGGREGATE(15,6,ROW(Tabelle1[Bezeichnung])/(FIND($C$7,Tabelle1[Bezeichnung],1)>0),ROW()-9),1),\"\"))","v":""},{"$f":"IF($C$7=\"\",\"\",IFERROR(INDEX(I:I,_xlfn.AGGREGATE(15,6,ROW(Tabelle1[Bezeichnung])/(FIND($C$7,Tabelle1[Bezeichnung],1)>0),ROW()-9),1),\"\"))","v":""}]
[{"$f":"IF($C$7=\"\",\"\",IFERROR(INDEX(A:A,_xlfn.AGGREGATE(15,6,ROW(Tabelle1[Bezeichnung])/(FIND($C$7,Tabelle1[Bezeichnung],1)>0),ROW()-9),1),\"\"))","v":""},{"$f":"IF($C$7=\"\",\"\",IFERROR(INDEX(B:B,_xlfn.AGGREGATE(15,6,ROW(Tabelle1[Bezeichnung])/(FIND($C$7,Tabelle1[Bezeichnung],1)>0),ROW()-9),1),\"\"))","v":""},{"$f":"IF($C$7=\"\",\"\",IFERROR(INDEX(C:C,_xlfn.AGGREGATE(15,6,ROW(Tabelle1[Bezeichnung])/(FIND($C$7,Tabelle1[Bezeichnung],1)>0),ROW()-9),1),\"\"))","v":""},{"$f":"IF($C$7=\"\",\"\",IFERROR(INDEX(D:D,_xlfn.AGGREGATE(15,6,ROW(Tabelle1[Bezeichnung])/(FIND($C$7,Tabelle1[Bezeichnung],1)>0),ROW()-9),1),\"\"))","v":""},{"$f":"IF($C$7=\"\",\"\",IFERROR(INDEX(E:E,_xlfn.AGGREGATE(15,6,ROW(Tabelle1[Bezeichnung])/(FIND($C$7,Tabelle1[Bezeichnung],1)>0),ROW()-9),1),\"\"))","v":""},{"$f":"IF($C$7=\"\",\"\",IFERROR(INDEX(F:F,_xlfn.AGGREGATE(15,6,ROW(Tabelle1[Bezeichnung])/(FIND($C$7,Tabelle1[Bezeichnung],1)>0),ROW()-9),1),\"\"))","v":""},{"$f":"IF($C$7=\"\",\"\",IFERROR(INDEX(G:G,_xlfn.AGGREGATE(15,6,ROW(Tabelle1[Bezeichnung])/(FIND($C$7,Tabelle1[Bezeichnung],1)>0),ROW()-9),1),\"\"))","v":""},{"$f":"IF($C$7=\"\",\"\",IFERROR(INDEX(H:H,_xlfn.AGGREGATE(15,6,ROW(Tabelle1[Bezeichnung])/(FIND($C$7,Tabelle1[Bezeichnung],1)>0),ROW()-9),1),\"\"))","v":""},{"$f":"IF($C$7=\"\",\"\",IFERROR(INDEX(I:I,_xlfn.AGGREGATE(15,6,ROW(Tabelle1[Bezeichnung])/(FIND($C$7,Tabelle1[Bezeichnung],1)>0),ROW()-9),1),\"\"))","v":""}]
[{"$f":"IF($C$7=\"\",\"\",IFERROR(INDEX(A:A,_xlfn.AGGREGATE(15,6,ROW(Tabelle1[Bezeichnung])/(FIND($C$7,Tabelle1[Bezeichnung],1)>0),ROW()-9),1),\"\"))","v":""},{"$f":"IF($C$7=\"\",\"\",IFERROR(INDEX(B:B,_xlfn.AGGREGATE(15,6,ROW(Tabelle1[Bezeichnung])/(FIND($C$7,Tabelle1[Bezeichnung],1)>0),ROW()-9),1),\"\"))","v":""},{"$f":"IF($C$7=\"\",\"\",IFERROR(INDEX(C:C,_xlfn.AGGREGATE(15,6,ROW(Tabelle1[Bezeichnung])/(FIND($C$7,Tabelle1[Bezeichnung],1)>0),ROW()-9),1),\"\"))","v":""},{"$f":"IF($C$7=\"\",\"\",IFERROR(INDEX(D:D,_xlfn.AGGREGATE(15,6,ROW(Tabelle1[Bezeichnung])/(FIND($C$7,Tabelle1[Bezeichnung],1)>0),ROW()-9),1),\"\"))","v":""},{"$f":"IF($C$7=\"\",\"\",IFERROR(INDEX(E:E,_xlfn.AGGREGATE(15,6,ROW(Tabelle1[Bezeichnung])/(FIND($C$7,Tabelle1[Bezeichnung],1)>0),ROW()-9),1),\"\"))","v":""},{"$f":"IF($C$7=\"\",\"\",IFERROR(INDEX(F:F,_xlfn.AGGREGATE(15,6,ROW(Tabelle1[Bezeichnung])/(FIND($C$7,Tabelle1[Bezeichnung],1)>0),ROW()-9),1),\"\"))","v":""},{"$f":"IF($C$7=\"\",\"\",IFERROR(INDEX(G:G,_xlfn.AGGREGATE(15,6,ROW(Tabelle1[Bezeichnung])/(FIND($C$7,Tabelle1[Bezeichnung],1)>0),ROW()-9),1),\"\"))","v":""},{"$f":"IF($C$7=\"\",\"\",IFERROR(INDEX(H:H,_xlfn.AGGREGATE(15,6,ROW(Tabelle1[Bezeichnung])/(FIND($C$7,Tabelle1[Bezeichnung],1)>0),ROW()-9),1),\"\"))","v":""},{"$f":"IF($C$7=\"\",\"\",IFERROR(INDEX(I:I,_xlfn.AGGREGATE(15,6,ROW(Tabelle1[Bezeichnung])/(FIND($C$7,Tabelle1[Bezeichnung],1)>0),ROW()-9),1),\"\"))","v":""}]
[{"$f":"IF($C$7=\"\",\"\",IFERROR(INDEX(A:A,_xlfn.AGGREGATE(15,6,ROW(Tabelle1[Bezeichnung])/(FIND($C$7,Tabelle1[Bezeichnung],1)>0),ROW()-9),1),\"\"))","v":""},{"$f":"IF($C$7=\"\",\"\",IFERROR(INDEX(B:B,_xlfn.AGGREGATE(15,6,ROW(Tabelle1[Bezeichnung])/(FIND($C$7,Tabelle1[Bezeichnung],1)>0),ROW()-9),1),\"\"))","v":""},{"$f":"IF($C$7=\"\",\"\",IFERROR(INDEX(C:C,_xlfn.AGGREGATE(15,6,ROW(Tabelle1[Bezeichnung])/(FIND($C$7,Tabelle1[Bezeichnung],1)>0),ROW()-9),1),\"\"))","v":""},{"$f":"IF($C$7=\"\",\"\",IFERROR(INDEX(D:D,_xlfn.AGGREGATE(15,6,ROW(Tabelle1[Bezeichnung])/(FIND($C$7,Tabelle1[Bezeichnung],1)>0),ROW()-9),1),\"\"))","v":""},{"$f":"IF($C$7=\"\",\"\",IFERROR(INDEX(E:E,_xlfn.AGGREGATE(15,6,ROW(Tabelle1[Bezeichnung])/(FIND($C$7,Tabelle1[Bezeichnung],1)>0),ROW()-9),1),\"\"))","v":""},{"$f":"IF($C$7=\"\",\"\",IFERROR(INDEX(F:F,_xlfn.AGGREGATE(15,6,ROW(Tabelle1[Bezeichnung])/(FIND($C$7,Tabelle1[Bezeichnung],1)>0),ROW()-9),1),\"\"))","v":""},{"$f":"IF($C$7=\"\",\"\",IFERROR(INDEX(G:G,_xlfn.AGGREGATE(15,6,ROW(Tabelle1[Bezeichnung])/(FIND($C$7,Tabelle1[Bezeichnung],1)>0),ROW()-9),1),\"\"))","v":""},{"$f":"IF($C$7=\"\",\"\",IFERROR(INDEX(H:H,_xlfn.AGGREGATE(15,6,ROW(Tabelle1[Bezeichnung])/(FIND($C$7,Tabelle1[Bezeichnung],1)>0),ROW()-9),1),\"\"))","v":""},{"$f":"IF($C$7=\"\",\"\",IFERROR(INDEX(I:I,_xlfn.AGGREGATE(15,6,ROW(Tabelle1[Bezeichnung])/(FIND($C$7,Tabelle1[Bezeichnung],1)>0),ROW()-9),1),\"\"))","v":""}]
[{"$f":"IF($C$7=\"\",\"\",IFERROR(INDEX(A:A,_xlfn.AGGREGATE(15,6,ROW(Tabelle1[Bezeichnung])/(FIND($C$7,Tabelle1[Bezeichnung],1)>0),ROW()-9),1),\"\"))","v":""},{"$f":"IF($C$7=\"\",\"\",IFERROR(INDEX(B:B,_xlfn.AGGREGATE(15,6,ROW(Tabelle1[Bezeichnung])/(FIND($C$7,Tabelle1[Bezeichnung],1)>0),ROW()-9),1),\"\"))","v":""},{"$f":"IF($C$7=\"\",\"\",IFERROR(INDEX(C:C,_xlfn.AGGREGATE(15,6,ROW(Tabelle1[Bezeichnung])/(FIND($C$7,Tabelle1[Bezeichnung],1)>0),ROW()-9),1),\"\"))","v":""},{"$f":"IF($C$7=\"\",\"\",IFERROR(INDEX(D:D,_xlfn.AGGREGATE(15,6,ROW(Tabelle1[Bezeichnung])/(FIND($C$7,Tabelle1[Bezeichnung],1)>0),ROW()-9),1),\"\"))","v":""},{"$f":"IF($C$7=\"\",\"\",IFERROR(INDEX(E:E,_xlfn.AGGREGATE(15,6,ROW(Tabelle1[Bezeichnung])/(FIND($C$7,Tabelle1[Bezeichnung],1)>0),ROW()-9),1),\"\"))","v":""},{"$f":"IF($C$7=\"\",\"\",IFERROR(INDEX(F:F,_xlfn.AGGREGATE(15,6,ROW(Tabelle1[Bezeichnung])/(FIND($C$7,Tabelle1[Bezeichnung],1)>0),ROW()-9),1),\"\"))","v":""},{"$f":"IF($C$7=\"\",\"\",IFERROR(INDEX(G:G,_xlfn.AGGREGATE(15,6,ROW(Tabelle1[Bezeichnung])/(FIND($C$7,Tabelle1[Bezeichnung],1)>0),ROW()-9),1),\"\"))","v":""},{"$f":"IF($C$7=\"\",\"\",IFERROR(INDEX(H:H,_xlfn.AGGREGATE(15,6,ROW(Tabelle1[Bezeichnung])/(FIND($C$7,Tabelle1[Bezeichnung],1)>0),ROW()-9),1),\"\"))","v":""},{"$f":"IF($C$7=\"\",\"\",IFERROR(INDEX(I:I,_xlfn.AGGREGATE(15,6,ROW(Tabelle1[Bezeichnung])/(FIND($C$7,Tabelle1[Bezeichnung],1)>0),ROW()-9),1),\"\"))","v":""}]
[{"$f":"IF($C$7=\"\",\"\",IFERROR(INDEX(A:A,_xlfn.AGGREGATE(15,6,ROW(Tabelle1[Bezeichnung])/(FIND($C$7,Tabelle1[Bezeichnung],1)>0),ROW()-9),1),\"\"))","v":""},{"$f":"IF($C$7=\"\",\"\",IFERROR(INDEX(B:B,_xlfn.AGGREGATE(15,6,ROW(Tabelle1[Bezeichnung])/(FIND($C$7,Tabelle1[Bezeichnung],1)>0),ROW()-9),1),\"\"))","v":""},{"$f":"IF($C$7=\"\",\"\",IFERROR(INDEX(C:C,_xlfn.AGGREGATE(15,6,ROW(Tabelle1[Bezeichnung])/(FIND($C$7,Tabelle1[Bezeichnung],1)>0),ROW()-9),1),\"\"))","v":""},{"$f":"IF($C$7=\"\",\"\",IFERROR(INDEX(D:D,_xlfn.AGGREGATE(15,6,ROW(Tabelle1[Bezeichnung])/(FIND($C$7,Tabelle1[Bezeichnung],1)>0),ROW()-9),1),\"\"))","v":""},{"$f":"IF($C$7=\"\",\"\",IFERROR(INDEX(E:E,_xlfn.AGGREGATE(15,6,ROW(Tabelle1[Bezeichnung])/(FIND($C$7,Tabelle1[Bezeichnung],1)>0),ROW()-9),1),\"\"))","v":""},{"$f":"IF($C$7=\"\",\"\",IFERROR(INDEX(F:F,_xlfn.AGGREGATE(15,6,ROW(Tabelle1[Bezeichnung])/(FIND($C$7,Tabelle1[Bezeichnung],1)>0),ROW()-9),1),\"\"))","v":""},{"$f":"IF($C$7=\"\",\"\",IFERROR(INDEX(G:G,_xlfn.AGGREGATE(15,6,ROW(Tabelle1[Bezeichnung])/(FIND($C$7,Tabelle1[Bezeichnung],1)>0),ROW()-9),1),\"\"))","v":""},{"$f":"IF($C$7=\"\",\"\",IFERROR(INDEX(H:H,_xlfn.AGGREGATE(15,6,ROW(Tabelle1[Bezeichnung])/(FIND($C$7,Tabelle1[Bezeichnung],1)>0),ROW()-9),1),\"\"))","v":""},{"$f":"IF($C$7=\"\",\"\",IFERROR(INDEX(I:I,_xlfn.AGGREGATE(15,6,ROW(Tabelle1[Bezeichnung])/(FIND($C$7,Tabelle1[Bezeichnung],1)>0),ROW()-9),1),\"\"))","v":""}]
[{"$f":"IF($C$7=\"\",\"\",IFERROR(INDEX(A:A,_xlfn.AGGREGATE(15,6,ROW(Tabelle1[Bezeichnung])/(FIND($C$7,Tabelle1[Bezeichnung],1)>0),ROW()-9),1),\"\"))","v":""},{"$f":"IF($C$7=\"\",\"\",IFERROR(INDEX(B:B,_xlfn.AGGREGATE(15,6,ROW(Tabelle1[Bezeichnung])/(FIND($C$7,Tabelle1[Bezeichnung],1)>0),ROW()-9),1),\"\"))","v":""},{"$f":"IF($C$7=\"\",\"\",IFERROR(INDEX(C:C,_xlfn.AGGREGATE(15,6,ROW(Tabelle1[Bezeichnung])/(FIND($C$7,Tabelle1[Bezeichnung],1)>0),ROW()-9),1),\"\"))","v":""},{"$f":"IF($C$7=\"\",\"\",IFERROR(INDEX(D:D,_xlfn.AGGREGATE(15,6,ROW(Tabelle1[Bezeichnung])/(FIND($C$7,Tabelle1[Bezeichnung],1)>0),ROW()-9),1),\"\"))","v":""},{"$f":"IF($C$7=\"\",\"\",IFERROR(INDEX(E:E,_xlfn.AGGREGATE(15,6,ROW(Tabelle1[Bezeichnung])/(FIND($C$7,Tabelle1[Bezeichnung],1)>0),ROW()-9),1),\"\"))","v":""},{"$f":"IF($C$7=\"\",\"\",IFERROR(INDEX(F:F,_xlfn.AGGREGATE(15,6,ROW(Tabelle1[Bezeichnung])/(FIND($C$7,Tabelle1[Bezeichnung],1)>0),ROW()-9),1),\"\"))","v":""},{"$f":"IF($C$7=\"\",\"\",IFERROR(INDEX(G:G,_xlfn.AGGREGATE(15,6,ROW(Tabelle1[Bezeichnung])/(FIND($C$7,Tabelle1[Bezeichnung],1)>0),ROW()-9),1),\"\"))","v":""},{"$f":"IF($C$7=\"\",\"\",IFERROR(INDEX(H:H,_xlfn.AGGREGATE(15,6,ROW(Tabelle1[Bezeichnung])/(FIND($C$7,Tabelle1[Bezeichnung],1)>0),ROW()-9),1),\"\"))","v":""},{"$f":"IF($C$7=\"\",\"\",IFERROR(INDEX(I:I,_xlfn.AGGREGATE(15,6,ROW(Tabelle1[Bezeichnung])/(FIND($C$7,Tabelle1[Bezeichnung],1)>0),ROW()-9),1),\"\"))","v":""}]
[{"$f":"IF($C$7=\"\",\"\",IFERROR(INDEX(A:A,_xlfn.AGGREGATE(15,6,ROW(Tabelle1[Bezeichnung])/(FIND($C$7,Tabelle1[Bezeichnung],1)>0),ROW()-9),1),\"\"))","v":""},{"$f":"IF($C$7=\"\",\"\",IFERROR(INDEX(B:B,_xlfn.AGGREGATE(15,6,ROW(Tabelle1[Bezeichnung])/(FIND($C$7,Tabelle1[Bezeichnung],1)>0),ROW()-9),1),\"\"))","v":""},{"$f":"IF($C$7=\"\",\"\",IFERROR(INDEX(C:C,_xlfn.AGGREGATE(15,6,ROW(Tabelle1[Bezeichnung])/(FIND($C$7,Tabelle1[Bezeichnung],1)>0),ROW()-9),1),\"\"))","v":""},{"$f":"IF($C$7=\"\",\"\",IFERROR(INDEX(D:D,_xlfn.AGGREGATE(15,6,ROW(Tabelle1[Bezeichnung])/(FIND($C$7,Tabelle1[Bezeichnung],1)>0),ROW()-9),1),\"\"))","v":""},{"$f":"IF($C$7=\"\",\"\",IFERROR(INDEX(E:E,_xlfn.AGGREGATE(15,6,ROW(Tabelle1[Bezeichnung])/(FIND($C$7,Tabelle1[Bezeichnung],1)>0),ROW()-9),1),\"\"))","v":""},{"$f":"IF($C$7=\"\",\"\",IFERROR(INDEX(F:F,_xlfn.AGGREGATE(15,6,ROW(Tabelle1[Bezeichnung])/(FIND($C$7,Tabelle1[Bezeichnung],1)>0),ROW()-9),1),\"\"))","v":""},{"$f":"IF($C$7=\"\",\"\",IFERROR(INDEX(G:G,_xlfn.AGGREGATE(15,6,ROW(Tabelle1[Bezeichnung])/(FIND($C$7,Tabelle1[Bezeichnung],1)>0),ROW()-9),1),\"\"))","v":""},{"$f":"IF($C$7=\"\",\"\",IFERROR(INDEX(H:H,_xlfn.AGGREGATE(15,6,ROW(Tabelle1[Bezeichnung])/(FIND($C$7,Tabelle1[Bezeichnung],1)>0),ROW()-9),1),\"\"))","v":""},{"$f":"IF($C$7=\"\",\"\",IFERROR(INDEX(I:I,_xlfn.AGGREGATE(15,6,ROW(Tabelle1[Bezeichnung])/(FIND($C$7,Tabelle1[Bezeichnung],1)>0),ROW()-9),1),\"\"))","v":""}]
[{"$f":"IF($C$7=\"\",\"\",IFERROR(INDEX(A:A,_xlfn.AGGREGATE(15,6,ROW(Tabelle1[Bezeichnung])/(FIND($C$7,Tabelle1[Bezeichnung],1)>0),ROW()-9),1),\"\"))","v":""},{"$f":"IF($C$7=\"\",\"\",IFERROR(INDEX(B:B,_xlfn.AGGREGATE(15,6,ROW(Tabelle1[Bezeichnung])/(FIND($C$7,Tabelle1[Bezeichnung],1)>0),ROW()-9),1),\"\"))","v":""},{"$f":"IF($C$7=\"\",\"\",IFERROR(INDEX(C:C,_xlfn.AGGREGATE(15,6,ROW(Tabelle1[Bezeichnung])/(FIND($C$7,Tabelle1[Bezeichnung],1)>0),ROW()-9),1),\"\"))","v":""},{"$f":"IF($C$7=\"\",\"\",IFERROR(INDEX(D:D,_xlfn.AGGREGATE(15,6,ROW(Tabelle1[Bezeichnung])/(FIND($C$7,Tabelle1[Bezeichnung],1)>0),ROW()-9),1),\"\"))","v":""},{"$f":"IF($C$7=\"\",\"\",IFERROR(INDEX(E:E,_xlfn.AGGREGATE(15,6,ROW(Tabelle1[Bezeichnung])/(FIND($C$7,Tabelle1[Bezeichnung],1)>0),ROW()-9),1),\"\"))","v":""},{"$f":"IF($C$7=\"\",\"\",IFERROR(INDEX(F:F,_xlfn.AGGREGATE(15,6,ROW(Tabelle1[Bezeichnung])/(FIND($C$7,Tabelle1[Bezeichnung],1)>0),ROW()-9),1),\"\"))","v":""},{"$f":"IF($C$7=\"\",\"\",IFERROR(INDEX(G:G,_xlfn.AGGREGATE(15,6,ROW(Tabelle1[Bezeichnung])/(FIND($C$7,Tabelle1[Bezeichnung],1)>0),ROW()-9),1),\"\"))","v":""},{"$f":"IF($C$7=\"\",\"\",IFERROR(INDEX(H:H,_xlfn.AGGREGATE(15,6,ROW(Tabelle1[Bezeichnung])/(FIND($C$7,Tabelle1[Bezeichnung],1)>0),ROW()-9),1),\"\"))","v":""},{"$f":"IF($C$7=\"\",\"\",IFERROR(INDEX(I:I,_xlfn.AGGREGATE(15,6,ROW(Tabelle1[Bezeichnung])/(FIND($C$7,Tabelle1[Bezeichnung],1)>0),ROW()-9),1),\"\"))","v":""}]
[{"$f":"IF($C$7=\"\",\"\",IFERROR(INDEX(A:A,_xlfn.AGGREGATE(15,6,ROW(Tabelle1[Bezeichnung])/(FIND($C$7,Tabelle1[Bezeichnung],1)>0),ROW()-9),1),\"\"))","v":""},{"$f":"IF($C$7=\"\",\"\",IFERROR(INDEX(B:B,_xlfn.AGGREGATE(15,6,ROW(Tabelle1[Bezeichnung])/(FIND($C$7,Tabelle1[Bezeichnung],1)>0),ROW()-9),1),\"\"))","v":""},{"$f":"IF($C$7=\"\",\"\",IFERROR(INDEX(C:C,_xlfn.AGGREGATE(15,6,ROW(Tabelle1[Bezeichnung])/(FIND($C$7,Tabelle1[Bezeichnung],1)>0),ROW()-9),1),\"\"))","v":""},{"$f":"IF($C$7=\"\",\"\",IFERROR(INDEX(D:D,_xlfn.AGGREGATE(15,6,ROW(Tabelle1[Bezeichnung])/(FIND($C$7,Tabelle1[Bezeichnung],1)>0),ROW()-9),1),\"\"))","v":""},{"$f":"IF($C$7=\"\",\"\",IFERROR(INDEX(E:E,_xlfn.AGGREGATE(15,6,ROW(Tabelle1[Bezeichnung])/(FIND($C$7,Tabelle1[Bezeichnung],1)>0),ROW()-9),1),\"\"))","v":""},{"$f":"IF($C$7=\"\",\"\",IFERROR(INDEX(F:F,_xlfn.AGGREGATE(15,6,ROW(Tabelle1[Bezeichnung])/(FIND($C$7,Tabelle1[Bezeichnung],1)>0),ROW()-9),1),\"\"))","v":""},{"$f":"IF($C$7=\"\",\"\",IFERROR(INDEX(G:G,_xlfn.AGGREGATE(15,6,ROW(Tabelle1[Bezeichnung])/(FIND($C$7,Tabelle1[Bezeichnung],1)>0),ROW()-9),1),\"\"))","v":""},{"$f":"IF($C$7=\"\",\"\",IFERROR(INDEX(H:H,_xlfn.AGGREGATE(15,6,ROW(Tabelle1[Bezeichnung])/(FIND($C$7,Tabelle1[Bezeichnung],1)>0),ROW()-9),1),\"\"))","v":""},{"$f":"IF($C$7=\"\",\"\",IFERROR(INDEX(I:I,_xlfn.AGGREGATE(15,6,ROW(Tabelle1[Bezeichnung])/(FIND($C$7,Tabelle1[Bezeichnung],1)>0),ROW()-9),1),\"\"))","v":""}]
[{"$f":"IF($C$7=\"\",\"\",IFERROR(INDEX(A:A,_xlfn.AGGREGATE(15,6,ROW(Tabelle1[Bezeichnung])/(FIND($C$7,Tabelle1[Bezeichnung],1)>0),ROW()-9),1),\"\"))","v":""},{"$f":"IF($C$7=\"\",\"\",IFERROR(INDEX(B:B,_xlfn.AGGREGATE(15,6,ROW(Tabelle1[Bezeichnung])/(FIND($C$7,Tabelle1[Bezeichnung],1)>0),ROW()-9),1),\"\"))","v":""},{"$f":"IF($C$7=\"\",\"\",IFERROR(INDEX(C:C,_xlfn.AGGREGATE(15,6,ROW(Tabelle1[Bezeichnung])/(FIND($C$7,Tabelle1[Bezeichnung],1)>0),ROW()-9),1),\"\"))","v":""},{"$f":"IF($C$7=\"\",\"\",IFERROR(INDEX(D:D,_xlfn.AGGREGATE(15,6,ROW(Tabelle1[Bezeichnung])/(FIND($C$7,Tabelle1[Bezeichnung],1)>0),ROW()-9),1),\"\"))","v":""},{"$f":"IF($C$7=\"\",\"\",IFERROR(INDEX(E:E,_xlfn.AGGREGATE(15,6,ROW(Tabelle1[Bezeichnung])/(FIND($C$7,Tabelle1[Bezeichnung],1)>0),ROW()-9),1),\"\"))","v":""},{"$f":"IF($C$7=\"\",\"\",IFERROR(INDEX(F:F,_xlfn.AGGREGATE(15,6,ROW(Tabelle1[Bezeichnung])/(FIND($C$7,Tabelle1[Bezeichnung],1)>0),ROW()-9),1),\"\"))","v":""},{"$f":"IF($C$7=\"\",\"\",IFERROR(INDEX(G:G,_xlfn.AGGREGATE(15,6,ROW(Tabelle1[Bezeichnung])/(FIND($C$7,Tabelle1[Bezeichnung],1)>0),ROW()-9),1),\"\"))","v":""},{"$f":"IF($C$7=\"\",\"\",IFERROR(INDEX(H:H,_xlfn.AGGREGATE(15,6,ROW(Tabelle1[Bezeichnung])/(FIND($C$7,Tabelle1[Bezeichnung],1)>0),ROW()-9),1),\"\"))","v":""},{"$f":"IF($C$7=\"\",\"\",IFERROR(INDEX(I:I,_xlfn.AGGREGATE(15,6,ROW(Tabelle1[Bezeichnung])/(FIND($C$7,Tabelle1[Bezeichnung],1)>0),ROW()-9),1),\"\"))","v":""}]
[]
["Katalog","Pos. Nr.","Bezeichnung","Einheit","EP","INDEXPREIS","Von","Mittel","Bis"]
[null,null,"Vorarbeiten"]
[null,1,"Untergrund der Betonbodenplatte von Verschmutzungen reinigen und entsorgen","m²",2.2000000000000002,{"$f":"Tabelle1[[#This Row],[EP]]*MAIN!$H$10","v":2.5968380952380952},{"$f":"Tabelle1[[#This Row],[INDEXPREIS]]*0.85","v":2.2073123809523807},{"$f":"Tabelle1[[#This Row],[INDEXPREIS]]","v":2.5968380952380952},{"$f":"Tabelle1[[#This Row],[EP]]*1.2","v":2.64},{"$f":"IF(Tabelle1[[#This Row],[EP]]>0,1,0)","v":1}]
[null,{"$f":"B27+1","v":2},"Schutt an den Abdichtungsflächen zusammentragen und entsorgen","m³",34,{"$f":"Tabelle1[[#This Row],[EP]]*MAIN!$H$10","v":40.132952380952375},{"$f":"Tabelle1[[#This Row],[INDEXPREIS]]*0.85","v":34.113009523809517},{"$f":"Tabelle1[[#This Row],[INDEXPREIS]]","v":40.132952380952375},{"$f":"Tabelle1[[#This Row],[EP]]*1.2","v":40.799999999999997},{"$f":"IF(Tabelle1[[#This Row],[EP]]>0,1,0)","v":1}]
[null,{"$f":"B28+1","v":3},"Trocknen des Untergrundes von Boden-und Wandflächen","m²",3.1,{"$f":"Tabelle1[[#This Row],[EP]]*MAIN!$H$10","v":3.6591809523809524},{"$f":"Tabelle1[[#This Row],[INDEXPREIS]]*0.85","v":3.1103038095238094},{"$f":"Tabelle1[[#This Row],[INDEXPREIS]]","v":3.6591809523809524},{"$f":"Tabelle1[[#This Row],[EP]]*1.2","v":3.7199999999999998},{"$f":"IF(Tabelle1[[#This Row],[EP]]>0,1,0)","v":1}]
[null,4,"Betonflächen von haftungsmindernden Rückständen und Verunreinigungen abschleifen","m²",8.6999999999999993,{"$f":"Tabelle1[[#This Row],[EP]]*MAIN!$H$10","v":10.269314285714284},{"$f":"Tabelle1[[#This Row],[INDEXPREIS]]*0.85","v":8.7289171428571404},{"$f":"Tabelle1[[#This Row],[INDEXPREIS]]","v":10.269314285714284},{"$f":"Tabelle1[[#This Row],[EP]]*1.2","v":10.44},{"$f":"IF(Tabelle1[[#This Row],[EP]]>0,1,0)","v":1}]
[null,5,"Betonflächen mit Spachtelmasse bis 10mm          egalisieren","m²",20.5,{"$f":"Tabelle1[[#This Row],[EP]]*MAIN!$H$10","v":24.197809523809521},{"$f":"Tabelle1[[#This Row],[INDEXPREIS]]*0.85","v":20.568138095238094},{"$f":"Tabelle1[[#This Row],[INDEXPREIS]]","v":24.197809523809521},{"$f":"Tabelle1[[#This Row],[EP]]*1.2","v":24.599999999999998},{"$f":"IF(Tabelle1[[#This Row],[EP]]>0,1,0)","v":1}]
[null,6,"Trennlage unterhalb von Bodenplatten mit PE-Folie 0,2mm auf Perimeterdämmung oder Kiesfilterschicht stossüberlappend verlegen","m²",1.9,{"$f":"Tabelle1[[#This Row],[EP]]*MAIN!$H$10","v":2.2427238095238091},{"$f":"Tabelle1[[#This Row],[INDEXPREIS]]*0.85","v":1.9063152380952377},{"$f":"Tabelle1[[#This Row],[INDEXPREIS]]","v":2.2427238095238091},{"$f":"Tabelle1[[#This Row],[EP]]*1.2","v":2.2799999999999998},{"$f":"IF(Tabelle1[[#This Row],[EP]]>0,1,0)","v":1}]
[null,7,"Voranstrich für Bitumenbahn auf gereinigten Boden-und Deckenflächen","m²",2.9,{"$f":"Tabelle1[[#This Row],[EP]]*MAIN!$H$10","v":3.4231047619047614},{"$f":"Tabelle1[[#This Row],[INDEXPREIS]]*0.85","v":2.9096390476190472},{"$f":"Tabelle1[[#This Row],[INDEXPREIS]]","v":3.4231047619047614},{"$f":"Tabelle1[[#This Row],[EP]]*1.2","v":3.48},{"$f":"IF(Tabelle1[[#This Row],[EP]]>0,1,0)","v":1}]
[null,8,"Grundierung d. Bodenflächen aus Kunstharz f. Verbundabd.","m²",3.4,{"$f":"Tabelle1[[#This Row],[EP]]*MAIN!$H$10","v":4.013295238095238},{"$f":"Tabelle1[[#This Row],[INDEXPREIS]]*0.85","v":3.4113009523809521},{"$f":"Tabelle1[[#This Row],[INDEXPREIS]]","v":4.013295238095238},{"$f":"Tabelle1[[#This Row],[EP]]*1.2","v":4.08},{"$f":"IF(Tabelle1[[#This Row],[EP]]>0,1,0)","v":1}]
[null,9,"Voranstrich mit Bitumen.Emulsion auf Wandflächen","m²",3.3,{"$f":"Tabelle1[[#This Row],[EP]]*MAIN!$H$10","v":3.8952571428571425},{"$f":"Tabelle1[[#This Row],[INDEXPREIS]]*0.85","v":3.310968571428571},{"$f":"Tabelle1[[#This Row],[INDEXPREIS]]","v":3.8952571428571425},{"$f":"Tabelle1[[#This Row],[EP]]*1.2","v":3.9599999999999995},{"$f":"IF(Tabelle1[[#This Row],[EP]]>0,1,0)","v":1}]
[null,null,null,null,null,null,null,null,null,{"$f":"IF(Tabelle1[[#This Row],[EP]]>0,1,0)","v":0}]
[null,null,"Abdichtung mit Bitumenbahnen",null,null,null,null,null,null,{"$f":"IF(Tabelle1[[#This Row],[EP]]>0,1,0)","v":0}]
[null,{"$f":"B35+1","v":10},"Hohlkehle gerundet zwischen Fundament und Wand mit zementgebundener Dichtungsschlämme abdichten","m",9.8000000000000007,{"$f":"Tabelle1[[#This Row],[EP]]*MAIN!$H$10","v":11.567733333333333},{"$f":"Tabelle1[[#This Row],[INDEXPREIS]]*0.85","v":9.8325733333333325},{"$f":"Tabelle1[[#This Row],[INDEXPREIS]]","v":11.567733333333333},{"$f":"Tabelle1[[#This Row],[EP]]*1.2","v":11.76},{"$f":"IF(Tabelle1[[#This Row],[EP]]>0,1,0)","v":1}]
[null,{"$f":"B38+1","v":11},"Hohlkehle gerundet wie vor mit bituminöser Dickbe-schichtung","m",10.4,{"$f":"Tabelle1[[#This Row],[EP]]*MAIN!$H$10","v":12.275961904761905},{"$f":"Tabelle1[[#This Row],[INDEXPREIS]]*0.85","v":10.43456761904762},{"$f":"Tabelle1[[#This Row],[INDEXPREIS]]","v":12.275961904761905},{"$f":"Tabelle1[[#This Row],[EP]]*1.2","v":12.48},{"$f":"IF(Tabelle1[[#This Row],[EP]]>0,1,0)","v":1}]
[null,{"$f":"B39+1","v":12},"Abdichtung an aufgehende Wandbauteile als Übergang von Bodenplatte/Wand, rechtwinkelig verklebt","m",4.9000000000000004,{"$f":"Tabelle1[[#This Row],[EP]]*MAIN!$H$10","v":5.7838666666666665},{"$f":"Tabelle1[[#This Row],[INDEXPREIS]]*0.85","v":4.9162866666666662},{"$f":"Tabelle1[[#This Row],[INDEXPREIS]]","v":5.7838666666666665},{"$f":"Tabelle1[[#This Row],[EP]]*1.2","v":5.88},{"$f":"IF(Tabelle1[[#This Row],[EP]]>0,1,0)","v":1}]
[null,13,"Bitumen-Schweissbahn BA G200 S4, einlagig, vollflächig und stossüberlappend auf Bodenplatte im Schweißverfahren","m²",14.4,{"$f":"Tabelle1[[#This Row],[EP]]*MAIN!$H$10","v":16.997485714285713},{"$f":"Tabelle1[[#This Row],[INDEXPREIS]]*0.85","v":14.447862857142855},{"$f":"Tabelle1[[#This Row],[INDEXPREIS]]","v":16.997485714285713},{"$f":"Tabelle1[[#This Row],[EP]]*1.2","v":17.28},{"$f":"IF(Tabelle1[[#This Row],[EP]]>0,1,0)","v":1}]
[null,14,"Bitumenbahn R500N 3-Lag. im Bürsten-Streichverfahren auf Bodenflächen","m²",22.7,{"$f":"Tabelle1[[#This Row],[EP]]*MAIN!$H$10","v":26.794647619047616},{"$f":"Tabelle1[[#This Row],[INDEXPREIS]]*0.85","v":22.775450476190475},{"$f":"Tabelle1[[#This Row],[INDEXPREIS]]","v":26.794647619047616},{"$f":"Tabelle1[[#This Row],[EP]]*1.2","v":27.24},{"$f":"IF(Tabelle1[[#This Row],[EP]]>0,1,0)","v":1}]
[null,15,"Bitumenbahn R500N 3-lag. wie vor auf Wandflächen","m²",23.8,{"$f":"Tabelle1[[#This Row],[EP]]*MAIN!$H$10","v":28.093066666666665},{"$f":"Tabelle1[[#This Row],[INDEXPREIS]]*0.85","v":23.879106666666665},{"$f":"Tabelle1[[#This Row],[INDEXPREIS]]","v":28.093066666666665},{"$f":"Tabelle1[[#This Row],[EP]]*1.2","v":28.56},{"$f":"IF(Tabelle1[[#This Row],[EP]]>0,1,0)","v":1}]
[null,16,"Bitumenbahn R500N 3-lag. im Gieß-u..Einwälzverfahren für Wand-u. Bodenflächen","m²",28.5,{"$f":"Tabelle1[[#This Row],[EP]]*MAIN!$H$10","v":33.640857142857143},{"$f":"Tabelle1[[#This Row],[INDEXPREIS]]*0.85","v":28.594728571428572},{"$f":"Tabelle1[[#This Row],[INDEXPREIS]]","v":33.640857142857143},{"$f":"Tabelle1[[#This Row],[EP]]*1.2","v":34.199999999999996},{"$f":"IF(Tabelle1[[#This Row],[EP]]>0,1,0)","v":1}]
[null,17,"Polymerbitumen-Dachdichtungsbahn BA PYE-PV200 1-lag.,Ober-u. Unterseite besandet im Gieß-u. Einrollverfahr.","m²",15.8,{"$f":"Tabelle1[[#This Row],[EP]]*MAIN!$H$10","v":18.650019047619047},{"$f":"Tabelle1[[#This Row],[INDEXPREIS]]*0.85","v":15.852516190476189},{"$f":"Tabelle1[[#This Row],[INDEXPREIS]]","v":18.650019047619047},{"$f":"Tabelle1[[#This Row],[EP]]*1.2","v":18.96},{"$f":"IF(Tabelle1[[#This Row],[EP]]>0,1,0)","v":1}]
[null,null,null,null,null,null,null,null,null,{"$f":"IF(Tabelle1[[#This Row],[EP]]>0,1,0)","v":0}]
[null,null,"Abdichtung mit Kunststoffbahnen",null,null,null,null,null,null,{"$f":"IF(Tabelle1[[#This Row],[EP]]>0,1,0)","v":0}]
[null,{"$f":"B45+1","v":18},"Kunststoffbahn aus  PVC--P-NB 1,2, 1-lagig, lose verlegt auf Bodenplatte","m²",15.7,{"$f":"Tabelle1[[#This Row],[EP]]*MAIN!$H$10","v":18.531980952380952},{"$f":"Tabelle1[[#This Row],[INDEXPREIS]]*0.85","v":15.752183809523808},{"$f":"Tabelle1[[#This Row],[INDEXPREIS]]","v":18.531980952380952},{"$f":"Tabelle1[[#This Row],[EP]]*1.2","v":18.84},{"$f":"IF(Tabelle1[[#This Row],[EP]]>0,1,0)","v":1}]
[null,{"$f":"B48+1","v":19},"Kunststoffbahn aus PVC- P-NB 1,5, einlagig, im           Bürstenstreichverfahren verkleben","m²",29.7,{"$f":"Tabelle1[[#This Row],[EP]]*MAIN!$H$10","v":35.057314285714284},{"$f":"Tabelle1[[#This Row],[INDEXPREIS]]*0.85","v":29.798717142857139},{"$f":"Tabelle1[[#This Row],[INDEXPREIS]]","v":35.057314285714284},{"$f":"Tabelle1[[#This Row],[EP]]*1.2","v":35.64},{"$f":"IF(Tabelle1[[#This Row],[EP]]>0,1,0)","v":1}]
[null,{"$f":"B49+1","v":20},"Elastomerbahn EPDM, einlagig mit Schweißrand d=1,2mm auf Betonsohle mit PU-Kleber","m²",25.6,{"$f":"Tabelle1[[#This Row],[EP]]*MAIN!$H$10","v":30.21775238095238},{"$f":"Tabelle1[[#This Row],[INDEXPREIS]]*0.85","v":25.685089523809523},{"$f":"Tabelle1[[#This Row],[INDEXPREIS]]","v":30.21775238095238},{"$f":"Tabelle1[[#This Row],[EP]]*1.2","v":30.72},{"$f":"IF(Tabelle1[[#This Row],[EP]]>0,1,0)","v":1}]
[null,21,"Kunststoffbahn PVC-P-BV1,5 im Selbstklebeverfahren","m²",30.5,{"$f":"Tabelle1[[#This Row],[EP]]*MAIN!$H$10","v":36.001619047619045},{"$f":"Tabelle1[[#This Row],[INDEXPREIS]]*0.85","v":30.601376190476188},{"$f":"Tabelle1[[#This Row],[INDEXPREIS]]","v":36.001619047619045},{"$f":"Tabelle1[[#This Row],[EP]]*1.2","v":36.6},{"$f":"IF(Tabelle1[[#This Row],[EP]]>0,1,0)","v":1}]
[null,null,null,null,null,null,null,null,null,{"$f":"IF(Tabelle1[[#This Row],[EP]]>0,1,0)","v":0}]
[null,null,"Horizontalabdichtung",null,null,null,null,null,null,{"$f":"IF(Tabelle1[[#This Row],[EP]]>0,1,0)","v":0}]
[null,{"$f":"B51+1","v":22},"Querschnittsabdichtung mit Kunststoffbahn PVC-P-BV1,5 1-lag., lose verlegt","m²",9.6999999999999993,{"$f":"Tabelle1[[#This Row],[EP]]*MAIN!$H$10","v":11.449695238095236},{"$f":"Tabelle1[[#This Row],[INDEXPREIS]]*0.85","v":9.7322409523809501},{"$f":"Tabelle1[[#This Row],[INDEXPREIS]]","v":11.449695238095236},{"$f":"Tabelle1[[#This Row],[EP]]*1.2","v":11.639999999999999},{"$f":"IF(Tabelle1[[#This Row],[EP]]>0,1,0)","v":1}]
[null,{"$f":"B54+1","v":23}," Querschnittsabdichtung m. Bitumenbahn G200DD 1-lag. b=24cm gegen aufsteigende Feucjhtigkeit","m²",5.9,{"$f":"Tabelle1[[#This Row],[EP]]*MAIN!$H$10","v":6.9642476190476188},{"$f":"Tabelle1[[#This Row],[INDEXPREIS]]*0.85","v":5.919610476190476},{"$f":"Tabelle1[[#This Row],[INDEXPREIS]]","v":6.9642476190476188},{"$f":"Tabelle1[[#This Row],[EP]]*1.2","v":7.08},{"$f":"IF(Tabelle1[[#This Row],[EP]]>0,1,0)","v":1}]
[null,{"$f":"B55+1","v":24}," Querschnittsabdichtung wie vor, b=36,5cm","m²",9.4,{"$f":"Tabelle1[[#This Row],[EP]]*MAIN!$H$10","v":11.095580952380953},{"$f":"Tabelle1[[#This Row],[INDEXPREIS]]*0.85","v":9.43124380952381},{"$f":"Tabelle1[[#This Row],[INDEXPREIS]]","v":11.095580952380953},{"$f":"Tabelle1[[#This Row],[EP]]*1.2","v":11.28},{"$f":"IF(Tabelle1[[#This Row],[EP]]>0,1,0)","v":1}]
[null,25," Horizontalabdichtung von Mauerwerk nachträglich mit WU-Mörtel in Bohrlochreihe","m",88.5,{"$f":"Tabelle1[[#This Row],[EP]]*MAIN!$H$10","v":104.46371428571427},{"$f":"Tabelle1[[#This Row],[INDEXPREIS]]*0.85","v":88.794157142857131},{"$f":"Tabelle1[[#This Row],[INDEXPREIS]]","v":104.46371428571427},{"$f":"Tabelle1[[#This Row],[EP]]*1.2","v":106.2},{"$f":"IF(Tabelle1[[#This Row],[EP]]>0,1,0)","v":1}]
[null,26,"Horizontalabdichtung von Mauerwerk nachträglich mit Einbau von nicht rostenden Stahlblechen","m",110,{"$f":"Tabelle1[[#This Row],[EP]]*MAIN!$H$10","v":129.84190476190474},{"$f":"Tabelle1[[#This Row],[INDEXPREIS]]*0.85","v":110.36561904761903},{"$f":"Tabelle1[[#This Row],[INDEXPREIS]]","v":129.84190476190474},{"$f":"Tabelle1[[#This Row],[EP]]*1.2","v":132},{"$f":"IF(Tabelle1[[#This Row],[EP]]>0,1,0)","v":1}]
[null,27,"Löcher für Druckinjektion bohren und wieder mit Mörtelmasse verschliessen","St",8.1999999999999993,{"$f":"Tabelle1[[#This Row],[EP]]*MAIN!$H$10","v":9.6791238095238086},{"$f":"Tabelle1[[#This Row],[INDEXPREIS]]*0.85","v":8.2272552380952373},{"$f":"Tabelle1[[#This Row],[INDEXPREIS]]","v":9.6791238095238086},{"$f":"Tabelle1[[#This Row],[EP]]*1.2","v":9.8399999999999981},{"$f":"IF(Tabelle1[[#This Row],[EP]]>0,1,0)","v":1}]
[null,null,null,null,null,null,null,null,null,{"$f":"IF(Tabelle1[[#This Row],[EP]]>0,1,0)","v":0}]
[null,null,"Abdichtung mit Beschichtungen",null,null,null,null,null,null,{"$f":"IF(Tabelle1[[#This Row],[EP]]>0,1,0)","v":0}]
[null,{"$f":"B59+1","v":28},"Trenn-u. Schutzschicht aus Rohglasvlies 100g/m², 1-lag. auf Betonplatte","m²",3.6,{"$f":"Tabelle1[[#This Row],[EP]]*MAIN!$H$10","v":4.2493714285714281},{"$f":"Tabelle1[[#This Row],[INDEXPREIS]]*0.85","v":3.6119657142857138},{"$f":"Tabelle1[[#This Row],[INDEXPREIS]]","v":4.2493714285714281},{"$f":"Tabelle1[[#This Row],[EP]]*1.2","v":4.32},{"$f":"IF(Tabelle1[[#This Row],[EP]]>0,1,0)","v":1}]
[null,{"$f":"B62+1","v":29},"Trenn-u. Schutzschicht wie vor auf Aussenwandflächen","m²",4.0999999999999996,{"$f":"Tabelle1[[#This Row],[EP]]*MAIN!$H$10","v":4.8395619047619043},{"$f":"Tabelle1[[#This Row],[INDEXPREIS]]*0.85","v":4.1136276190476186},{"$f":"Tabelle1[[#This Row],[INDEXPREIS]]","v":4.8395619047619043},{"$f":"Tabelle1[[#This Row],[EP]]*1.2","v":4.919999999999999},{"$f":"IF(Tabelle1[[#This Row],[EP]]>0,1,0)","v":1}]
[null,{"$f":"B63+1","v":30},"Abdichtung von Betonbodenflächen mit Bitumen-dickbeschichtung 3mm einschl. einer Gewebeeinlage","m²",22.6,{"$f":"Tabelle1[[#This Row],[EP]]*MAIN!$H$10","v":26.676609523809525},{"$f":"Tabelle1[[#This Row],[INDEXPREIS]]*0.85","v":22.675118095238094},{"$f":"Tabelle1[[#This Row],[INDEXPREIS]]","v":26.676609523809525},{"$f":"Tabelle1[[#This Row],[EP]]*1.2","v":27.12},{"$f":"IF(Tabelle1[[#This Row],[EP]]>0,1,0)","v":1}]
[null,31,"Abdichtung von Betonbodenflächen mit flexibler, mineralischen Dichtungsschlämme 3mm einschl. Gewebeeinlage","m²",28.4,{"$f":"Tabelle1[[#This Row],[EP]]*MAIN!$H$10","v":33.522819047619045},{"$f":"Tabelle1[[#This Row],[INDEXPREIS]]*0.85","v":28.494396190476188},{"$f":"Tabelle1[[#This Row],[INDEXPREIS]]","v":33.522819047619045},{"$f":"Tabelle1[[#This Row],[EP]]*1.2","v":34.08},{"$f":"IF(Tabelle1[[#This Row],[EP]]>0,1,0)","v":1}]
[null,32,"Wandflächen für Voranstrich abbürsten und reinigen","m²",7.6,{"$f":"Tabelle1[[#This Row],[EP]]*MAIN!$H$10","v":8.9708952380952365},{"$f":"Tabelle1[[#This Row],[INDEXPREIS]]*0.85","v":7.6252609523809509},{"$f":"Tabelle1[[#This Row],[INDEXPREIS]]","v":8.9708952380952365},{"$f":"Tabelle1[[#This Row],[EP]]*1.2","v":9.1199999999999992},{"$f":"IF(Tabelle1[[#This Row],[EP]]>0,1,0)","v":1}]
[null,33,"Voranstrich für Wandabdichtung mit Bitumenemulsion auf Wandfläche vollflächig aufbringen","m²",3.2,{"$f":"Tabelle1[[#This Row],[EP]]*MAIN!$H$10","v":3.7772190476190475},{"$f":"Tabelle1[[#This Row],[INDEXPREIS]]*0.85","v":3.2106361904761904},{"$f":"Tabelle1[[#This Row],[INDEXPREIS]]","v":3.7772190476190475},{"$f":"Tabelle1[[#This Row],[EP]]*1.2","v":3.84},{"$f":"IF(Tabelle1[[#This Row],[EP]]>0,1,0)","v":1}]
[null,34,"Ausgleichsputz aus Zementmörtel d=1,5cm auf Kelleraussenwänden als Tragschicht aufbringen","m²",19.600000000000001,{"$f":"Tabelle1[[#This Row],[EP]]*MAIN!$H$10","v":23.135466666666666},{"$f":"Tabelle1[[#This Row],[INDEXPREIS]]*0.85","v":19.665146666666665},{"$f":"Tabelle1[[#This Row],[INDEXPREIS]]","v":23.135466666666666},{"$f":"Tabelle1[[#This Row],[EP]]*1.2","v":23.52},{"$f":"IF(Tabelle1[[#This Row],[EP]]>0,1,0)","v":1}]
[null,35,"Wandabdichtung für erdberührte Aussenwände gegen Bodenfeuchte und nicht stauendes Sickerwasser mit kunststoffmodif. Bitumendickbeschichtung 3mm","m²",29.6,{"$f":"Tabelle1[[#This Row],[EP]]*MAIN!$H$10","v":34.939276190476193},{"$f":"Tabelle1[[#This Row],[INDEXPREIS]]*0.85","v":29.698384761904762},{"$f":"Tabelle1[[#This Row],[INDEXPREIS]]","v":34.939276190476193},{"$f":"Tabelle1[[#This Row],[EP]]*1.2","v":35.520000000000003},{"$f":"IF(Tabelle1[[#This Row],[EP]]>0,1,0)","v":1}]
[null,36,"Wandabdichtung für Aussenwände gegen aufstauendes Sickerwasser mit zementgebundener, starrer Dichtungs-schlämme 3mm","m²",28.7,{"$f":"Tabelle1[[#This Row],[EP]]*MAIN!$H$10","v":33.876933333333334},{"$f":"Tabelle1[[#This Row],[INDEXPREIS]]*0.85","v":28.795393333333333},{"$f":"Tabelle1[[#This Row],[INDEXPREIS]]","v":33.876933333333334},{"$f":"Tabelle1[[#This Row],[EP]]*1.2","v":34.44},{"$f":"IF(Tabelle1[[#This Row],[EP]]>0,1,0)","v":1}]
[null,37,"Wandabdichtung gegen nicht drückendes Wasser mit zementgebundener Dichtungsschlämme d=3mm","m²",18.8,{"$f":"Tabelle1[[#This Row],[EP]]*MAIN!$H$10","v":22.191161904761906},{"$f":"Tabelle1[[#This Row],[INDEXPREIS]]*0.85","v":18.86248761904762},{"$f":"Tabelle1[[#This Row],[INDEXPREIS]]","v":22.191161904761906},{"$f":"Tabelle1[[#This Row],[EP]]*1.2","v":22.56},{"$f":"IF(Tabelle1[[#This Row],[EP]]>0,1,0)","v":1}]
[null,38,"Wandabdichtung wie vor mit kunststoffmodifizierter Dickbe-schichtung d=4,0mm mit Gewebeeinlage","m²",20.399999999999999,{"$f":"Tabelle1[[#This Row],[EP]]*MAIN!$H$10","v":24.079771428571426},{"$f":"Tabelle1[[#This Row],[INDEXPREIS]]*0.85","v":20.467805714285713},{"$f":"Tabelle1[[#This Row],[INDEXPREIS]]","v":24.079771428571426},{"$f":"Tabelle1[[#This Row],[EP]]*1.2","v":24.479999999999997},{"$f":"IF(Tabelle1[[#This Row],[EP]]>0,1,0)","v":1}]
[null,39,"Wandabdichtung gegen drückendes Wasser mit Bitumenbahn G200DD und Polymer-Schweißbahn PV 200DD","m²",28.5,{"$f":"Tabelle1[[#This Row],[EP]]*MAIN!$H$10","v":33.640857142857143},{"$f":"Tabelle1[[#This Row],[INDEXPREIS]]*0.85","v":28.594728571428572},{"$f":"Tabelle1[[#This Row],[INDEXPREIS]]","v":33.640857142857143},{"$f":"Tabelle1[[#This Row],[EP]]*1.2","v":34.199999999999996},{"$f":"IF(Tabelle1[[#This Row],[EP]]>0,1,0)","v":1}]
[null,40,"Wandabdichtung gegen drückendes Wasser mit Bitumenbahn R500N mit Kupfer-oder Alu-Trägereinlage, mehrlag.","m²",37.6,{"$f":"Tabelle1[[#This Row],[EP]]*MAIN!$H$10","v":44.382323809523811},{"$f":"Tabelle1[[#This Row],[INDEXPREIS]]*0.85","v":37.72497523809524},{"$f":"Tabelle1[[#This Row],[INDEXPREIS]]","v":44.382323809523811},{"$f":"Tabelle1[[#This Row],[EP]]*1.2","v":45.12},{"$f":"IF(Tabelle1[[#This Row],[EP]]>0,1,0)","v":1}]
[null,41,"Wandabdichtung innenseitig von erdberührten Betonwänden mit mineralisch gebundener Dichtungsschlämme 3mm","m²",27.6,{"$f":"Tabelle1[[#This Row],[EP]]*MAIN!$H$10","v":32.578514285714284},{"$f":"Tabelle1[[#This Row],[INDEXPREIS]]*0.85","v":27.691737142857139},{"$f":"Tabelle1[[#This Row],[INDEXPREIS]]","v":32.578514285714284},{"$f":"Tabelle1[[#This Row],[EP]]*1.2","v":33.119999999999997},{"$f":"IF(Tabelle1[[#This Row],[EP]]>0,1,0)","v":1}]
[null,null,null,null,null,null,null,null,null,{"$f":"IF(Tabelle1[[#This Row],[EP]]>0,1,0)","v":0}]
[null,null,"Fugen",null,null,null,null,null,null,{"$f":"IF(Tabelle1[[#This Row],[EP]]>0,1,0)","v":0}]
[null,{"$f":"B75+1","v":42},"Nachbehandlung von Naht-und Stossverbindungen mit PVC-Lösung","m",7.1,{"$f":"Tabelle1[[#This Row],[EP]]*MAIN!$H$10","v":8.3807047619047612},{"$f":"Tabelle1[[#This Row],[INDEXPREIS]]*0.85","v":7.1235990476190469},{"$f":"Tabelle1[[#This Row],[INDEXPREIS]]","v":8.3807047619047612},{"$f":"Tabelle1[[#This Row],[EP]]*1.2","v":8.52},{"$f":"IF(Tabelle1[[#This Row],[EP]]>0,1,0)","v":1}]
[null,{"$f":"B78+1","v":43},"Bewegungsfugen in Bodenplatten mit Bitumenschweissbahn PYE-PV b=500mm abdichten","m",24.8,{"$f":"Tabelle1[[#This Row],[EP]]*MAIN!$H$10","v":29.273447619047619},{"$f":"Tabelle1[[#This Row],[INDEXPREIS]]*0.85","v":24.882430476190475},{"$f":"Tabelle1[[#This Row],[INDEXPREIS]]","v":29.273447619047619},{"$f":"Tabelle1[[#This Row],[EP]]*1.2","v":29.759999999999998},{"$f":"IF(Tabelle1[[#This Row],[EP]]>0,1,0)","v":1}]
[null,{"$f":"B79+1","v":44},"Bewegungsfugen gegen drückendes Wasser mit Kunststoff-bahn d=2mm flächig abdichten","m",19.600000000000001,{"$f":"Tabelle1[[#This Row],[EP]]*MAIN!$H$10","v":23.135466666666666},{"$f":"Tabelle1[[#This Row],[INDEXPREIS]]*0.85","v":19.665146666666665},{"$f":"Tabelle1[[#This Row],[INDEXPREIS]]","v":23.135466666666666},{"$f":"Tabelle1[[#This Row],[EP]]*1.2","v":23.52},{"$f":"IF(Tabelle1[[#This Row],[EP]]>0,1,0)","v":1}]
[null,45,"Bewegungsfugen gegen drückendes Wasser mit Kupferband und aufgeschweisster Bitumenbahn b=300mm abdichten","m",28.3,{"$f":"Tabelle1[[#This Row],[EP]]*MAIN!$H$10","v":33.404780952380953},{"$f":"Tabelle1[[#This Row],[INDEXPREIS]]*0.85","v":28.394063809523811},{"$f":"Tabelle1[[#This Row],[INDEXPREIS]]","v":33.404780952380953},{"$f":"Tabelle1[[#This Row],[EP]]*1.2","v":33.96},{"$f":"IF(Tabelle1[[#This Row],[EP]]>0,1,0)","v":1}]
[null,46,"Wandfugen in erdberührten Aussenwänden mit elastischer Dichtungsmasse abdichten","m",11.8,{"$f":"Tabelle1[[#This Row],[EP]]*MAIN!$H$10","v":13.928495238095238},{"$f":"Tabelle1[[#This Row],[INDEXPREIS]]*0.85","v":11.839220952380952},{"$f":"Tabelle1[[#This Row],[INDEXPREIS]]","v":13.928495238095238},{"$f":"Tabelle1[[#This Row],[EP]]*1.2","v":14.16},{"$f":"IF(Tabelle1[[#This Row],[EP]]>0,1,0)","v":1}]
[null,47,"Wandfugen in erdberührten Aussenwänden mit Streifen aus Kunststoffdichtungsbahn mit Gewebevlieskaschierung abdich-ten","m",21.6,{"$f":"Tabelle1[[#This Row],[EP]]*MAIN!$H$10","v":25.496228571428571},{"$f":"Tabelle1[[#This Row],[INDEXPREIS]]*0.85","v":21.671794285714284},{"$f":"Tabelle1[[#This Row],[INDEXPREIS]]","v":25.496228571428571},{"$f":"Tabelle1[[#This Row],[EP]]*1.2","v":25.92},{"$f":"IF(Tabelle1[[#This Row],[EP]]>0,1,0)","v":1}]
[null,48,"Wandfugen in erdberührten Aussenwänden mit elastischem Fugenband abdichten","m",24.6,{"$f":"Tabelle1[[#This Row],[EP]]*MAIN!$H$10","v":29.037371428571429},{"$f":"Tabelle1[[#This Row],[INDEXPREIS]]*0.85","v":24.681765714285714},{"$f":"Tabelle1[[#This Row],[INDEXPREIS]]","v":29.037371428571429},{"$f":"Tabelle1[[#This Row],[EP]]*1.2","v":29.52},{"$f":"IF(Tabelle1[[#This Row],[EP]]>0,1,0)","v":1}]
[null,49,"Wandfugen schliessen bei Bauteilen mit chemischer Belastung mit Polyurethan-Dichtungsmasse","m",6.8,{"$f":"Tabelle1[[#This Row],[EP]]*MAIN!$H$10","v":8.0265904761904761},{"$f":"Tabelle1[[#This Row],[INDEXPREIS]]*0.85","v":6.8226019047619042},{"$f":"Tabelle1[[#This Row],[INDEXPREIS]]","v":8.0265904761904761},{"$f":"Tabelle1[[#This Row],[EP]]*1.2","v":8.16},{"$f":"IF(Tabelle1[[#This Row],[EP]]>0,1,0)","v":1}]
[null,null,null,null,null,null,null,null,null,{"$f":"IF(Tabelle1[[#This Row],[EP]]>0,1,0)","v":0}]
[null,null,"Abdichtungsanschlüsse",null,null,null,null,null,null,{"$f":"IF(Tabelle1[[#This Row],[EP]]>0,1,0)","v":0}]
[null,{"$f":"B85+1","v":50},"Abdichtungsanschluss an Durchdringungen in    Bodenplatten mit Anschweissflansch und Dichtungsbeilage","St",13.4,{"$f":"Tabelle1[[#This Row],[EP]]*MAIN!$H$10","v":15.817104761904762},{"$f":"Tabelle1[[#This Row],[INDEXPREIS]]*0.85","v":13.444539047619047},{"$f":"Tabelle1[[#This Row],[INDEXPREIS]]","v":15.817104761904762},{"$f":"Tabelle1[[#This Row],[EP]]*1.2","v":16.079999999999998},{"$f":"IF(Tabelle1[[#This Row],[EP]]>0,1,0)","v":1}]
[null,{"$f":"B88+1","v":51},"Abdichtungsanschluss an Durchdringungen in Bodenplatten mit Klemmflansch","St",29.6,{"$f":"Tabelle1[[#This Row],[EP]]*MAIN!$H$10","v":34.939276190476193},{"$f":"Tabelle1[[#This Row],[INDEXPREIS]]*0.85","v":29.698384761904762},{"$f":"Tabelle1[[#This Row],[INDEXPREIS]]","v":34.939276190476193},{"$f":"Tabelle1[[#This Row],[EP]]*1.2","v":35.520000000000003},{"$f":"IF(Tabelle1[[#This Row],[EP]]>0,1,0)","v":1}]
[null,{"$f":"B89+1","v":52},"Abdichtungsanschluss gegen drückendes Wasser für Rohrdurchführungen bis 150 mm mit Curaflex Dich-tungseinsatz","St",195,{"$f":"Tabelle1[[#This Row],[EP]]*MAIN!$H$10","v":230.1742857142857},{"$f":"Tabelle1[[#This Row],[INDEXPREIS]]*0.85","v":195.64814285714283},{"$f":"Tabelle1[[#This Row],[INDEXPREIS]]","v":230.1742857142857},{"$f":"Tabelle1[[#This Row],[EP]]*1.2","v":234},{"$f":"IF(Tabelle1[[#This Row],[EP]]>0,1,0)","v":1}]
[null,53,"Abschluss Bitumenbahnabdichtung mit Klebeflansch und Kappstreifen herstellen einschl. Abdichtung der Oberkante","m",13.4,{"$f":"Tabelle1[[#This Row],[EP]]*MAIN!$H$10","v":15.817104761904762},{"$f":"Tabelle1[[#This Row],[INDEXPREIS]]*0.85","v":13.444539047619047},{"$f":"Tabelle1[[#This Row],[INDEXPREIS]]","v":15.817104761904762},{"$f":"Tabelle1[[#This Row],[EP]]*1.2","v":16.079999999999998},{"$f":"IF(Tabelle1[[#This Row],[EP]]>0,1,0)","v":1}]
[null,54,"Abschluss Bitumenbahnabdichtung mit Klemmpofil herstellen und Abdichtung der Oberkante","m",17.7,{"$f":"Tabelle1[[#This Row],[EP]]*MAIN!$H$10","v":20.892742857142856},{"$f":"Tabelle1[[#This Row],[INDEXPREIS]]*0.85","v":17.758831428571426},{"$f":"Tabelle1[[#This Row],[INDEXPREIS]]","v":20.892742857142856},{"$f":"Tabelle1[[#This Row],[EP]]*1.2","v":21.24},{"$f":"IF(Tabelle1[[#This Row],[EP]]>0,1,0)","v":1}]
[null,55,"Spritzbewurf volldeckend auf Wandflächen als Haftvermittler für Sperrputz aufbringen","m²",13.2,{"$f":"Tabelle1[[#This Row],[EP]]*MAIN!$H$10","v":15.58102857142857},{"$f":"Tabelle1[[#This Row],[INDEXPREIS]]*0.85","v":13.243874285714284},{"$f":"Tabelle1[[#This Row],[INDEXPREIS]]","v":15.58102857142857},{"$f":"Tabelle1[[#This Row],[EP]]*1.2","v":15.839999999999998},{"$f":"IF(Tabelle1[[#This Row],[EP]]>0,1,0)","v":1}]
[null,56,"Perimeterdämmung aus extrudierten Polystyrolplatten XPS d=120mm unterhalb von Bodenplatten verlegen","m²",29.6,{"$f":"Tabelle1[[#This Row],[EP]]*MAIN!$H$10","v":34.939276190476193},{"$f":"Tabelle1[[#This Row],[INDEXPREIS]]*0.85","v":29.698384761904762},{"$f":"Tabelle1[[#This Row],[INDEXPREIS]]","v":34.939276190476193},{"$f":"Tabelle1[[#This Row],[EP]]*1.2","v":35.520000000000003},{"$f":"IF(Tabelle1[[#This Row],[EP]]>0,1,0)","v":1}]
[null,57,"Perimeterdämmung CG aus Schaumglas d=120mm vor erdberührten Wandbauteilen mit drückendem Wasser","m²",67.5,{"$f":"Tabelle1[[#This Row],[EP]]*MAIN!$H$10","v":79.675714285714278},{"$f":"Tabelle1[[#This Row],[INDEXPREIS]]*0.85","v":67.72435714285713},{"$f":"Tabelle1[[#This Row],[INDEXPREIS]]","v":79.675714285714278},{"$f":"Tabelle1[[#This Row],[EP]]*1.2","v":81},{"$f":"IF(Tabelle1[[#This Row],[EP]]>0,1,0)","v":1}]
[null,58,"Kunststoffnoppenbahn als Sickerschicht auf Keller-aussenmauerwerk einschl. Eckausbildung u.Randabschlüsse","m²",14.6,{"$f":"Tabelle1[[#This Row],[EP]]*MAIN!$H$10","v":17.233561904761903},{"$f":"Tabelle1[[#This Row],[INDEXPREIS]]*0.85","v":14.648527619047616},{"$f":"Tabelle1[[#This Row],[INDEXPREIS]]","v":17.233561904761903},{"$f":"Tabelle1[[#This Row],[EP]]*1.2","v":17.52},{"$f":"IF(Tabelle1[[#This Row],[EP]]>0,1,0)","v":1}]
[null,59,"Sickerplatten, bitumengebunden, auf Kelleraussen-mauerwerk einschl.Eckausbildung und Randabschlüsse","m²",21.8,{"$f":"Tabelle1[[#This Row],[EP]]*MAIN!$H$10","v":25.732304761904761},{"$f":"Tabelle1[[#This Row],[INDEXPREIS]]*0.85","v":21.872459047619046},{"$f":"Tabelle1[[#This Row],[INDEXPREIS]]","v":25.732304761904761},{"$f":"Tabelle1[[#This Row],[EP]]*1.2","v":26.16},{"$f":"IF(Tabelle1[[#This Row],[EP]]>0,1,0)","v":1}]
[null,60,"Filtervliesmatten als Schutzschicht vor Sickerplatten anbringen","m²",5.8,{"$f":"Tabelle1[[#This Row],[EP]]*MAIN!$H$10","v":6.8462095238095229},{"$f":"Tabelle1[[#This Row],[INDEXPREIS]]*0.85","v":5.8192780952380945},{"$f":"Tabelle1[[#This Row],[INDEXPREIS]]","v":6.8462095238095229},{"$f":"Tabelle1[[#This Row],[EP]]*1.2","v":6.96},{"$f":"IF(Tabelle1[[#This Row],[EP]]>0,1,0)","v":1}]
[null,null,null,null,null,null,null,null,null,{"$f":"SUM(J27:J98)","v":60}]

{"sheet":"SANITÄR","index":2,"n_rows":254,"n_cols":10,"rows_kept":254,"cut":false,"hidden":false,"merged":[]}
[]
[]
[]
[]
[]
[null,null,"Suche:",null,null,null,null,null,"Treffer:"]
[null,null,null,null,null,null,null,null,{"$f":"COUNTIF($C$26:$C$253,\"*\"&$C$7&\"*\")","v":212}]
[]
["Katalog","Pos. Nr.","Ergebnis","Einheit","EP","INDEXPREIS","Von","Mittel","Bis"]
[{"$f":"IF($C$7=\"\",\"\",IFERROR(INDEX(A:A,_xlfn.AGGREGATE(15,6,ROW(Tabelle2[Bezeichnung])/(FIND($C$7,Tabelle2[Bezeichnung],1)>0),ROW()-9),1),\"\"))","v":""},{"$f":"IF($C$7=\"\",\"\",IFERROR(INDEX(B:B,_xlfn.AGGREGATE(15,6,ROW(Tabelle2[Bezeichnung])/(FIND($C$7,Tabelle2[Bezeichnung],1)>0),ROW()-9),1),\"\"))","v":""},{"$f":"IF($C$7=\"\",\"\",IFERROR(INDEX(C:C,_xlfn.AGGREGATE(15,6,ROW(Tabelle2[Bezeichnung])/(FIND($C$7,Tabelle2[Bezeichnung],1)>0),ROW()-9),1),\"\"))","v":""},{"$f":"IF($C$7=\"\",\"\",IFERROR(INDEX(D:D,_xlfn.AGGREGATE(15,6,ROW(Tabelle2[Bezeichnung])/(FIND($C$7,Tabelle2[Bezeichnung],1)>0),ROW()-9),1),\"\"))","v":""},{"$f":"IF($C$7=\"\",\"\",IFERROR(INDEX(E:E,_xlfn.AGGREGATE(15,6,ROW(Tabelle2[Bezeichnung])/(FIND($C$7,Tabelle2[Bezeichnung],1)>0),ROW()-9),1),\"\"))","v":""},{"$f":"IF($C$7=\"\",\"\",IFERROR(INDEX(F:F,_xlfn.AGGREGATE(15,6,ROW(Tabelle2[Bezeichnung])/(FIND($C$7,Tabelle2[Bezeichnung],1)>0),ROW()-9),1),\"\"))","v":""},{"$f":"IF($C$7=\"\",\"\",IFERROR(INDEX(G:G,_xlfn.AGGREGATE(15,6,ROW(Tabelle2[Bezeichnung])/(FIND($C$7,Tabelle2[Bezeichnung],1)>0),ROW()-9),1),\"\"))","v":""},{"$f":"IF($C$7=\"\",\"\",IFERROR(INDEX(H:H,_xlfn.AGGREGATE(15,6,ROW(Tabelle2[Bezeichnung])/(FIND($C$7,Tabelle2[Bezeichnung],1)>0),ROW()-9),1),\"\"))","v":""},{"$f":"IF($C$7=\"\",\"\",IFERROR(INDEX(I:I,_xlfn.AGGREGATE(15,6,ROW(Tabelle2[Bezeichnung])/(FIND($C$7,Tabelle2[Bezeichnung],1)>0),ROW()-9),1),\"\"))","v":""}]
[{"$f":"IF($C$7=\"\",\"\",IFERROR(INDEX(A:A,_xlfn.AGGREGATE(15,6,ROW(Tabelle2[Bezeichnung])/(FIND($C$7,Tabelle2[Bezeichnung],1)>0),ROW()-9),1),\"\"))","v":""},{"$f":"IF($C$7=\"\",\"\",IFERROR(INDEX(B:B,_xlfn.AGGREGATE(15,6,ROW(Tabelle2[Bezeichnung])/(FIND($C$7,Tabelle2[Bezeichnung],1)>0),ROW()-9),1),\"\"))","v":""},{"$f":"IF($C$7=\"\",\"\",IFERROR(INDEX(C:C,_xlfn.AGGREGATE(15,6,ROW(Tabelle2[Bezeichnung])/(FIND($C$7,Tabelle2[Bezeichnung],1)>0),ROW()-9),1),\"\"))","v":""},{"$f":"IF($C$7=\"\",\"\",IFERROR(INDEX(D:D,_xlfn.AGGREGATE(15,6,ROW(Tabelle2[Bezeichnung])/(FIND($C$7,Tabelle2[Bezeichnung],1)>0),ROW()-9),1),\"\"))","v":""},{"$f":"IF($C$7=\"\",\"\",IFERROR(INDEX(E:E,_xlfn.AGGREGATE(15,6,ROW(Tabelle2[Bezeichnung])/(FIND($C$7,Tabelle2[Bezeichnung],1)>0),ROW()-9),1),\"\"))","v":""},{"$f":"IF($C$7=\"\",\"\",IFERROR(INDEX(F:F,_xlfn.AGGREGATE(15,6,ROW(Tabelle2[Bezeichnung])/(FIND($C$7,Tabelle2[Bezeichnung],1)>0),ROW()-9),1),\"\"))","v":""},{"$f":"IF($C$7=\"\",\"\",IFERROR(INDEX(G:G,_xlfn.AGGREGATE(15,6,ROW(Tabelle2[Bezeichnung])/(FIND($C$7,Tabelle2[Bezeichnung],1)>0),ROW()-9),1),\"\"))","v":""},{"$f":"IF($C$7=\"\",\"\",IFERROR(INDEX(H:H,_xlfn.AGGREGATE(15,6,ROW(Tabelle2[Bezeichnung])/(FIND($C$7,Tabelle2[Bezeichnung],1)>0),ROW()-9),1),\"\"))","v":""},{"$f":"IF($C$7=\"\",\"\",IFERROR(INDEX(I:I,_xlfn.AGGREGATE(15,6,ROW(Tabelle2[Bezeichnung])/(FIND($C$7,Tabelle2[Bezeichnung],1)>0),ROW()-9),1),\"\"))","v":""}]
[{"$f":"IF($C$7=\"\",\"\",IFERROR(INDEX(A:A,_xlfn.AGGREGATE(15,6,ROW(Tabelle2[Bezeichnung])/(FIND($C$7,Tabelle2[Bezeichnung],1)>0),ROW()-9),1),\"\"))","v":""},{"$f":"IF($C$7=\"\",\"\",IFERROR(INDEX(B:B,_xlfn.AGGREGATE(15,6,ROW(Tabelle2[Bezeichnung])/(FIND($C$7,Tabelle2[Bezeichnung],1)>0),ROW()-9),1),\"\"))","v":""},{"$f":"IF($C$7=\"\",\"\",IFERROR(INDEX(C:C,_xlfn.AGGREGATE(15,6,ROW(Tabelle2[Bezeichnung])/(FIND($C$7,Tabelle2[Bezeichnung],1)>0),ROW()-9),1),\"\"))","v":""},{"$f":"IF($C$7=\"\",\"\",IFERROR(INDEX(D:D,_xlfn.AGGREGATE(15,6,ROW(Tabelle2[Bezeichnung])/(FIND($C$7,Tabelle2[Bezeichnung],1)>0),ROW()-9),1),\"\"))","v":""},{"$f":"IF($C$7=\"\",\"\",IFERROR(INDEX(E:E,_xlfn.AGGREGATE(15,6,ROW(Tabelle2[Bezeichnung])/(FIND($C$7,Tabelle2[Bezeichnung],1)>0),ROW()-9),1),\"\"))","v":""},{"$f":"IF($C$7=\"\",\"\",IFERROR(INDEX(F:F,_xlfn.AGGREGATE(15,6,ROW(Tabelle2[Bezeichnung])/(FIND($C$7,Tabelle2[Bezeichnung],1)>0),ROW()-9),1),\"\"))","v":""},{"$f":"IF($C$7=\"\",\"\",IFERROR(INDEX(G:G,_xlfn.AGGREGATE(15,6,ROW(Tabelle2[Bezeichnung])/(FIND($C$7,Tabelle2[Bezeichnung],1)>0),ROW()-9),1),\"\"))","v":""},{"$f":"IF($C$7=\"\",\"\",IFERROR(INDEX(H:H,_xlfn.AGGREGATE(15,6,ROW(Tabelle2[Bezeichnung])/(FIND($C$7,Tabelle2[Bezeichnung],1)>0),ROW()-9),1),\"\"))","v":""},{"$f":"IF($C$7=\"\",\"\",IFERROR(INDEX(I:I,_xlfn.AGGREGATE(15,6,ROW(Tabelle2[Bezeichnung])/(FIND($C$7,Tabelle2[Bezeichnung],1)>0),ROW()-9),1),\"\"))","v":""}]
[{"$f":"IF($C$7=\"\",\"\",IFERROR(INDEX(A:A,_xlfn.AGGREGATE(15,6,ROW(Tabelle2[Bezeichnung])/(FIND($C$7,Tabelle2[Bezeichnung],1)>0),ROW()-9),1),\"\"))","v":""},{"$f":"IF($C$7=\"\",\"\",IFERROR(INDEX(B:B,_xlfn.AGGREGATE(15,6,ROW(Tabelle2[Bezeichnung])/(FIND($C$7,Tabelle2[Bezeichnung],1)>0),ROW()-9),1),\"\"))","v":""},{"$f":"IF($C$7=\"\",\"\",IFERROR(INDEX(C:C,_xlfn.AGGREGATE(15,6,ROW(Tabelle2[Bezeichnung])/(FIND($C$7,Tabelle2[Bezeichnung],1)>0),ROW()-9),1),\"\"))","v":""},{"$f":"IF($C$7=\"\",\"\",IFERROR(INDEX(D:D,_xlfn.AGGREGATE(15,6,ROW(Tabelle2[Bezeichnung])/(FIND($C$7,Tabelle2[Bezeichnung],1)>0),ROW()-9),1),\"\"))","v":""},{"$f":"IF($C$7=\"\",\"\",IFERROR(INDEX(E:E,_xlfn.AGGREGATE(15,6,ROW(Tabelle2[Bezeichnung])/(FIND($C$7,Tabelle2[Bezeichnung],1)>0),ROW()-9),1),\"\"))","v":""},{"$f":"IF($C$7=\"\",\"\",IFERROR(INDEX(F:F,_xlfn.AGGREGATE(15,6,ROW(Tabelle2[Bezeichnung])/(FIND($C$7,Tabelle2[Bezeichnung],1)>0),ROW()-9),1),\"\"))","v":""},{"$f":"IF($C$7=\"\",\"\",IFERROR(INDEX(G:G,_xlfn.AGGREGATE(15,6,ROW(Tabelle2[Bezeichnung])/(FIND($C$7,Tabelle2[Bezeichnung],1)>0),ROW()-9),1),\"\"))","v":""},{"$f":"IF($C$7=\"\",\"\",IFERROR(INDEX(H:H,_xlfn.AGGREGATE(15,6,ROW(Tabelle2[Bezeichnung])/(FIND($C$7,Tabelle2[Bezeichnung],1)>0),ROW()-9),1),\"\"))","v":""},{"$f":"IF($C$7=\"\",\"\",IFERROR(INDEX(I:I,_xlfn.AGGREGATE(15,6,ROW(Tabelle2[Bezeichnung])/(FIND($C$7,Tabelle2[Bezeichnung],1)>0),ROW()-9),1),\"\"))","v":""}]
[{"$f":"IF($C$7=\"\",\"\",IFERROR(INDEX(A:A,_xlfn.AGGREGATE(15,6,ROW(Tabelle2[Bezeichnung])/(FIND($C$7,Tabelle2[Bezeichnung],1)>0),ROW()-9),1),\"\"))","v":""},{"$f":"IF($C$7=\"\",\"\",IFERROR(INDEX(B:B,_xlfn.AGGREGATE(15,6,ROW(Tabelle2[Bezeichnung])/(FIND($C$7,Tabelle2[Bezeichnung],1)>0),ROW()-9),1),\"\"))","v":""},{"$f":"IF($C$7=\"\",\"\",IFERROR(INDEX(C:C,_xlfn.AGGREGATE(15,6,ROW(Tabelle2[Bezeichnung])/(FIND($C$7,Tabelle2[Bezeichnung],1)>0),ROW()-9),1),\"\"))","v":""},{"$f":"IF($C$7=\"\",\"\",IFERROR(INDEX(D:D,_xlfn.AGGREGATE(15,6,ROW(Tabelle2[Bezeichnung])/(FIND($C$7,Tabelle2[Bezeichnung],1)>0),ROW()-9),1),\"\"))","v":""},{"$f":"IF($C$7=\"\",\"\",IFERROR(INDEX(E:E,_xlfn.AGGREGATE(15,6,ROW(Tabelle2[Bezeichnung])/(FIND($C$7,Tabelle2[Bezeichnung],1)>0),ROW()-9),1),\"\"))","v":""},{"$f":"IF($C$7=\"\",\"\",IFERROR(INDEX(F:F,_xlfn.AGGREGATE(15,6,ROW(Tabelle2[Bezeichnung])/(FIND($C$7,Tabelle2[Bezeichnung],1)>0),ROW()-9),1),\"\"))","v":""},{"$f":"IF($C$7=\"\",\"\",IFERROR(INDEX(G:G,_xlfn.AGGREGATE(15,6,ROW(Tabelle2[Bezeichnung])/(FIND($C$7,Tabelle2[Bezeichnung],1)>0),ROW()-9),1),\"\"))","v":""},{"$f":"IF($C$7=\"\",\"\",IFERROR(INDEX(H:H,_xlfn.AGGREGATE(15,6,ROW(Tabelle2[Bezeichnung])/(FIND($C$7,Tabelle2[Bezeichnung],1)>0),ROW()-9),1),\"\"))","v":""},{"$f":"IF($C$7=\"\",\"\",IFERROR(INDEX(I:I,_xlfn.AGGREGATE(15,6,ROW(Tabelle2[Bezeichnung])/(FIND($C$7,Tabelle2[Bezeichnung],1)>0),ROW()-9),1),\"\"))","v":""}]
[{"$f":"IF($C$7=\"\",\"\",IFERROR(INDEX(A:A,_xlfn.AGGREGATE(15,6,ROW(Tabelle2[Bezeichnung])/(FIND($C$7,Tabelle2[Bezeichnung],1)>0),ROW()-9),1),\"\"))","v":""},{"$f":"IF($C$7=\"\",\"\",IFERROR(INDEX(B:B,_xlfn.AGGREGATE(15,6,ROW(Tabelle2[Bezeichnung])/(FIND($C$7,Tabelle2[Bezeichnung],1)>0),ROW()-9),1),\"\"))","v":""},{"$f":"IF($C$7=\"\",\"\",IFERROR(INDEX(C:C,_xlfn.AGGREGATE(15,6,ROW(Tabelle2[Bezeichnung])/(FIND($C$7,Tabelle2[Bezeichnung],1)>0),ROW()-9),1),\"\"))","v":""},{"$f":"IF($C$7=\"\",\"\",IFERROR(INDEX(D:D,_xlfn.AGGREGATE(15,6,ROW(Tabelle2[Bezeichnung])/(FIND($C$7,Tabelle2[Bezeichnung],1)>0),ROW()-9),1),\"\"))","v":""},{"$f":"IF($C$7=\"\",\"\",IFERROR(INDEX(E:E,_xlfn.AGGREGATE(15,6,ROW(Tabelle2[Bezeichnung])/(FIND($C$7,Tabelle2[Bezeichnung],1)>0),ROW()-9),1),\"\"))","v":""},{"$f":"IF($C$7=\"\",\"\",IFERROR(INDEX(F:F,_xlfn.AGGREGATE(15,6,ROW(Tabelle2[Bezeichnung])/(FIND($C$7,Tabelle2[Bezeichnung],1)>0),ROW()-9),1),\"\"))","v":""},{"$f":"IF($C$7=\"\",\"\",IFERROR(INDEX(G:G,_xlfn.AGGREGATE(15,6,ROW(Tabelle2[Bezeichnung])/(FIND($C$7,Tabelle2[Bezeichnung],1)>0),ROW()-9),1),\"\"))","v":""},{"$f":"IF($C$7=\"\",\"\",IFERROR(INDEX(H:H,_xlfn.AGGREGATE(15,6,ROW(Tabelle2[Bezeichnung])/(FIND($C$7,Tabelle2[Bezeichnung],1)>0),ROW()-9),1),\"\"))","v":""},{"$f":"IF($C$7=\"\",\"\",IFERROR(INDEX(I:I,_xlfn.AGGREGATE(15,6,ROW(Tabelle2[Bezeichnung])/(FIND($C$7,Tabelle2[Bezeichnung],1)>0),ROW()-9),1),\"\"))","v":""}]
[{"$f":"IF($C$7=\"\",\"\",IFERROR(INDEX(A:A,_xlfn.AGGREGATE(15,6,ROW(Tabelle2[Bezeichnung])/(FIND($C$7,Tabelle2[Bezeichnung],1)>0),ROW()-9),1),\"\"))","v":""},{"$f":"IF($C$7=\"\",\"\",IFERROR(INDEX(B:B,_xlfn.AGGREGATE(15,6,ROW(Tabelle2[Bezeichnung])/(FIND($C$7,Tabelle2[Bezeichnung],1)>0),ROW()-9),1),\"\"))","v":""},{"$f":"IF($C$7=\"\",\"\",IFERROR(INDEX(C:C,_xlfn.AGGREGATE(15,6,ROW(Tabelle2[Bezeichnung])/(FIND($C$7,Tabelle2[Bezeichnung],1)>0),ROW()-9),1),\"\"))","v":""},{"$f":"IF($C$7=\"\",\"\",IFERROR(INDEX(D:D,_xlfn.AGGREGATE(15,6,ROW(Tabelle2[Bezeichnung])/(FIND($C$7,Tabelle2[Bezeichnung],1)>0),ROW()-9),1),\"\"))","v":""},{"$f":"IF($C$7=\"\",\"\",IFERROR(INDEX(E:E,_xlfn.AGGREGATE(15,6,ROW(Tabelle2[Bezeichnung])/(FIND($C$7,Tabelle2[Bezeichnung],1)>0),ROW()-9),1),\"\"))","v":""},{"$f":"IF($C$7=\"\",\"\",IFERROR(INDEX(F:F,_xlfn.AGGREGATE(15,6,ROW(Tabelle2[Bezeichnung])/(FIND($C$7,Tabelle2[Bezeichnung],1)>0),ROW()-9),1),\"\"))","v":""},{"$f":"IF($C$7=\"\",\"\",IFERROR(INDEX(G:G,_xlfn.AGGREGATE(15,6,ROW(Tabelle2[Bezeichnung])/(FIND($C$7,Tabelle2[Bezeichnung],1)>0),ROW()-9),1),\"\"))","v":""},{"$f":"IF($C$7=\"\",\"\",IFERROR(INDEX(H:H,_xlfn.AGGREGATE(15,6,ROW(Tabelle2[Bezeichnung])/(FIND($C$7,Tabelle2[Bezeichnung],1)>0),ROW()-9),1),\"\"))","v":""},{"$f":"IF($C$7=\"\",\"\",IFERROR(INDEX(I:I,_xlfn.AGGREGATE(15,6,ROW(Tabelle2[Bezeichnung])/(FIND($C$7,Tabelle2[Bezeichnung],1)>0),ROW()-9),1),\"\"))","v":""}]
[{"$f":"IF($C$7=\"\",\"\",IFERROR(INDEX(A:A,_xlfn.AGGREGATE(15,6,ROW(Tabelle2[Bezeichnung])/(FIND($C$7,Tabelle2[Bezeichnung],1)>0),ROW()-9),1),\"\"))","v":""},{"$f":"IF($C$7=\"\",\"\",IFERROR(INDEX(B:B,_xlfn.AGGREGATE(15,6,ROW(Tabelle2[Bezeichnung])/(FIND($C$7,Tabelle2[Bezeichnung],1)>0),ROW()-9),1),\"\"))","v":""},{"$f":"IF($C$7=\"\",\"\",IFERROR(INDEX(C:C,_xlfn.AGGREGATE(15,6,ROW(Tabelle2[Bezeichnung])/(FIND($C$7,Tabelle2[Bezeichnung],1)>0),ROW()-9),1),\"\"))","v":""},{"$f":"IF($C$7=\"\",\"\",IFERROR(INDEX(D:D,_xlfn.AGGREGATE(15,6,ROW(Tabelle2[Bezeichnung])/(FIND($C$7,Tabelle2[Bezeichnung],1)>0),ROW()-9),1),\"\"))","v":""},{"$f":"IF($C$7=\"\",\"\",IFERROR(INDEX(E:E,_xlfn.AGGREGATE(15,6,ROW(Tabelle2[Bezeichnung])/(FIND($C$7,Tabelle2[Bezeichnung],1)>0),ROW()-9),1),\"\"))","v":""},{"$f":"IF($C$7=\"\",\"\",IFERROR(INDEX(F:F,_xlfn.AGGREGATE(15,6,ROW(Tabelle2[Bezeichnung])/(FIND($C$7,Tabelle2[Bezeichnung],1)>0),ROW()-9),1),\"\"))","v":""},{"$f":"IF($C$7=\"\",\"\",IFERROR(INDEX(G:G,_xlfn.AGGREGATE(15,6,ROW(Tabelle2[Bezeichnung])/(FIND($C$7,Tabelle2[Bezeichnung],1)>0),ROW()-9),1),\"\"))","v":""},{"$f":"IF($C$7=\"\",\"\",IFERROR(INDEX(H:H,_xlfn.AGGREGATE(15,6,ROW(Tabelle2[Bezeichnung])/(FIND($C$7,Tabelle2[Bezeichnung],1)>0),ROW()-9),1),\"\"))","v":""},{"$f":"IF($C$7=\"\",\"\",IFERROR(INDEX(I:I,_xlfn.AGGREGATE(15,6,ROW(Tabelle2[Bezeichnung])/(FIND($C$7,Tabelle2[Bezeichnung],1)>0),ROW()-9),1),\"\"))","v":""}]
[{"$f":"IF($C$7=\"\",\"\",IFERROR(INDEX(A:A,_xlfn.AGGREGATE(15,6,ROW(Tabelle2[Bezeichnung])/(FIND($C$7,Tabelle2[Bezeichnung],1)>0),ROW()-9),1),\"\"))","v":""},{"$f":"IF($C$7=\"\",\"\",IFERROR(INDEX(B:B,_xlfn.AGGREGATE(15,6,ROW(Tabelle2[Bezeichnung])/(FIND($C$7,Tabelle2[Bezeichnung],1)>0),ROW()-9),1),\"\"))","v":""},{"$f":"IF($C$7=\"\",\"\",IFERROR(INDEX(C:C,_xlfn.AGGREGATE(15,6,ROW(Tabelle2[Bezeichnung])/(FIND($C$7,Tabelle2[Bezeichnung],1)>0),ROW()-9),1),\"\"))","v":""},{"$f":"IF($C$7=\"\",\"\",IFERROR(INDEX(D:D,_xlfn.AGGREGATE(15,6,ROW(Tabelle2[Bezeichnung])/(FIND($C$7,Tabelle2[Bezeichnung],1)>0),ROW()-9),1),\"\"))","v":""},{"$f":"IF($C$7=\"\",\"\",IFERROR(INDEX(E:E,_xlfn.AGGREGATE(15,6,ROW(Tabelle2[Bezeichnung])/(FIND($C$7,Tabelle2[Bezeichnung],1)>0),ROW()-9),1),\"\"))","v":""},{"$f":"IF($C$7=\"\",\"\",IFERROR(INDEX(F:F,_xlfn.AGGREGATE(15,6,ROW(Tabelle2[Bezeichnung])/(FIND($C$7,Tabelle2[Bezeichnung],1)>0),ROW()-9),1),\"\"))","v":""},{"$f":"IF($C$7=\"\",\"\",IFERROR(INDEX(G:G,_xlfn.AGGREGATE(15,6,ROW(Tabelle2[Bezeichnung])/(FIND($C$7,Tabelle2[Bezeichnung],1)>0),ROW()-9),1),\"\"))","v":""},{"$f":"IF($C$7=\"\",\"\",IFERROR(INDEX(H:H,_xlfn.AGGREGATE(15,6,ROW(Tabelle2[Bezeichnung])/(FIND($C$7,Tabelle2[Bezeichnung],1)>0),ROW()-9),1),\"\"))","v":""},{"$f":"IF($C$7=\"\",\"\",IFERROR(INDEX(I:I,_xlfn.AGGREGATE(15,6,ROW(Tabelle2[Bezeichnung])/(FIND($C$7,Tabelle2[Bezeichnung],1)>0),ROW()-9),1),\"\"))","v":""}]
[{"$f":"IF($C$7=\"\",\"\",IFERROR(INDEX(A:A,_xlfn.AGGREGATE(15,6,ROW(Tabelle2[Bezeichnung])/(FIND($C$7,Tabelle2[Bezeichnung],1)>0),ROW()-9),1),\"\"))","v":""},{"$f":"IF($C$7=\"\",\"\",IFERROR(INDEX(B:B,_xlfn.AGGREGATE(15,6,ROW(Tabelle2[Bezeichnung])/(FIND($C$7,Tabelle2[Bezeichnung],1)>0),ROW()-9),1),\"\"))","v":""},{"$f":"IF($C$7=\"\",\"\",IFERROR(INDEX(C:C,_xlfn.AGGREGATE(15,6,ROW(Tabelle2[Bezeichnung])/(FIND($C$7,Tabelle2[Bezeichnung],1)>0),ROW()-9),1),\"\"))","v":""},{"$f":"IF($C$7=\"\",\"\",IFERROR(INDEX(D:D,_xlfn.AGGREGATE(15,6,ROW(Tabelle2[Bezeichnung])/(FIND($C$7,Tabelle2[Bezeichnung],1)>0),ROW()-9),1),\"\"))","v":""},{"$f":"IF($C$7=\"\",\"\",IFERROR(INDEX(E:E,_xlfn.AGGREGATE(15,6,ROW(Tabelle2[Bezeichnung])/(FIND($C$7,Tabelle2[Bezeichnung],1)>0),ROW()-9),1),\"\"))","v":""},{"$f":"IF($C$7=\"\",\"\",IFERROR(INDEX(F:F,_xlfn.AGGREGATE(15,6,ROW(Tabelle2[Bezeichnung])/(FIND($C$7,Tabelle2[Bezeichnung],1)>0),ROW()-9),1),\"\"))","v":""},{"$f":"IF($C$7=\"\",\"\",IFERROR(INDEX(G:G,_xlfn.AGGREGATE(15,6,ROW(Tabelle2[Bezeichnung])/(FIND($C$7,Tabelle2[Bezeichnung],1)>0),ROW()-9),1),\"\"))","v":""},{"$f":"IF($C$7=\"\",\"\",IFERROR(INDEX(H:H,_xlfn.AGGREGATE(15,6,ROW(Tabelle2[Bezeichnung])/(FIND($C$7,Tabelle2[Bezeichnung],1)>0),ROW()-9),1),\"\"))","v":""},{"$f":"IF($C$7=\"\",\"\",IFERROR(INDEX(I:I,_xlfn.AGGREGATE(15,6,ROW(Tabelle2[Bezeichnung])/(FIND($C$7,Tabelle2[Bezeichnung],1)>0),ROW()-9),1),\"\"))","v":""}]
[{"$f":"IF($C$7=\"\",\"\",IFERROR(INDEX(A:A,_xlfn.AGGREGATE(15,6,ROW(Tabelle2[Bezeichnung])/(FIND($C$7,Tabelle2[Bezeichnung],1)>0),ROW()-9),1),\"\"))","v":""},{"$f":"IF($C$7=\"\",\"\",IFERROR(INDEX(B:B,_xlfn.AGGREGATE(15,6,ROW(Tabelle2[Bezeichnung])/(FIND($C$7,Tabelle2[Bezeichnung],1)>0),ROW()-9),1),\"\"))","v":""},{"$f":"IF($C$7=\"\",\"\",IFERROR(INDEX(C:C,_xlfn.AGGREGATE(15,6,ROW(Tabelle2[Bezeichnung])/(FIND($C$7,Tabelle2[Bezeichnung],1)>0),ROW()-9),1),\"\"))","v":""},{"$f":"IF($C$7=\"\",\"\",IFERROR(INDEX(D:D,_xlfn.AGGREGATE(15,6,ROW(Tabelle2[Bezeichnung])/(FIND($C$7,Tabelle2[Bezeichnung],1)>0),ROW()-9),1),\"\"))","v":""},{"$f":"IF($C$7=\"\",\"\",IFERROR(INDEX(E:E,_xlfn.AGGREGATE(15,6,ROW(Tabelle2[Bezeichnung])/(FIND($C$7,Tabelle2[Bezeichnung],1)>0),ROW()-9),1),\"\"))","v":""},{"$f":"IF($C$7=\"\",\"\",IFERROR(INDEX(F:F,_xlfn.AGGREGATE(15,6,ROW(Tabelle2[Bezeichnung])/(FIND($C$7,Tabelle2[Bezeichnung],1)>0),ROW()-9),1),\"\"))","v":""},{"$f":"IF($C$7=\"\",\"\",IFERROR(INDEX(G:G,_xlfn.AGGREGATE(15,6,ROW(Tabelle2[Bezeichnung])/(FIND($C$7,Tabelle2[Bezeichnung],1)>0),ROW()-9),1),\"\"))","v":""},{"$f":"IF($C$7=\"\",\"\",IFERROR(INDEX(H:H,_xlfn.AGGREGATE(15,6,ROW(Tabelle2[Bezeichnung])/(FIND($C$7,Tabelle2[Bezeichnung],1)>0),ROW()-9),1),\"\"))","v":""},{"$f":"IF($C$7=\"\",\"\",IFERROR(INDEX(I:I,_xlfn.AGGREGATE(15,6,ROW(Tabelle2[Bezeichnung])/(FIND($C$7,Tabelle2[Bezeichnung],1)>0),ROW()-9),1),\"\"))","v":""}]
[{"$f":"IF($C$7=\"\",\"\",IFERROR(INDEX(A:A,_xlfn.AGGREGATE(15,6,ROW(Tabelle2[Bezeichnung])/(FIND($C$7,Tabelle2[Bezeichnung],1)>0),ROW()-9),1),\"\"))","v":""},{"$f":"IF($C$7=\"\",\"\",IFERROR(INDEX(B:B,_xlfn.AGGREGATE(15,6,ROW(Tabelle2[Bezeichnung])/(FIND($C$7,Tabelle2[Bezeichnung],1)>0),ROW()-9),1),\"\"))","v":""},{"$f":"IF($C$7=\"\",\"\",IFERROR(INDEX(C:C,_xlfn.AGGREGATE(15,6,ROW(Tabelle2[Bezeichnung])/(FIND($C$7,Tabelle2[Bezeichnung],1)>0),ROW()-9),1),\"\"))","v":""},{"$f":"IF($C$7=\"\",\"\",IFERROR(INDEX(D:D,_xlfn.AGGREGATE(15,6,ROW(Tabelle2[Bezeichnung])/(FIND($C$7,Tabelle2[Bezeichnung],1)>0),ROW()-9),1),\"\"))","v":""},{"$f":"IF($C$7=\"\",\"\",IFERROR(INDEX(E:E,_xlfn.AGGREGATE(15,6,ROW(Tabelle2[Bezeichnung])/(FIND($C$7,Tabelle2[Bezeichnung],1)>0),ROW()-9),1),\"\"))","v":""},{"$f":"IF($C$7=\"\",\"\",IFERROR(INDEX(F:F,_xlfn.AGGREGATE(15,6,ROW(Tabelle2[Bezeichnung])/(FIND($C$7,Tabelle2[Bezeichnung],1)>0),ROW()-9),1),\"\"))","v":""},{"$f":"IF($C$7=\"\",\"\",IFERROR(INDEX(G:G,_xlfn.AGGREGATE(15,6,ROW(Tabelle2[Bezeichnung])/(FIND($C$7,Tabelle2[Bezeichnung],1)>0),ROW()-9),1),\"\"))","v":""},{"$f":"IF($C$7=\"\",\"\",IFERROR(INDEX(H:H,_xlfn.AGGREGATE(15,6,ROW(Tabelle2[Bezeichnung])/(FIND($C$7,Tabelle2[Bezeichnung],1)>0),ROW()-9),1),\"\"))","v":""},{"$f":"IF($C$7=\"\",\"\",IFERROR(INDEX(I:I,_xlfn.AGGREGATE(15,6,ROW(Tabelle2[Bezeichnung])/(FIND($C$7,Tabelle2[Bezeichnung],1)>0),ROW()-9),1),\"\"))","v":""}]
[{"$f":"IF($C$7=\"\",\"\",IFERROR(INDEX(A:A,_xlfn.AGGREGATE(15,6,ROW(Tabelle2[Bezeichnung])/(FIND($C$7,Tabelle2[Bezeichnung],1)>0),ROW()-9),1),\"\"))","v":""},{"$f":"IF($C$7=\"\",\"\",IFERROR(INDEX(B:B,_xlfn.AGGREGATE(15,6,ROW(Tabelle2[Bezeichnung])/(FIND($C$7,Tabelle2[Bezeichnung],1)>0),ROW()-9),1),\"\"))","v":""},{"$f":"IF($C$7=\"\",\"\",IFERROR(INDEX(C:C,_xlfn.AGGREGATE(15,6,ROW(Tabelle2[Bezeichnung])/(FIND($C$7,Tabelle2[Bezeichnung],1)>0),ROW()-9),1),\"\"))","v":""},{"$f":"IF($C$7=\"\",\"\",IFERROR(INDEX(D:D,_xlfn.AGGREGATE(15,6,ROW(Tabelle2[Bezeichnung])/(FIND($C$7,Tabelle2[Bezeichnung],1)>0),ROW()-9),1),\"\"))","v":""},{"$f":"IF($C$7=\"\",\"\",IFERROR(INDEX(E:E,_xlfn.AGGREGATE(15,6,ROW(Tabelle2[Bezeichnung])/(FIND($C$7,Tabelle2[Bezeichnung],1)>0),ROW()-9),1),\"\"))","v":""},{"$f":"IF($C$7=\"\",\"\",IFERROR(INDEX(F:F,_xlfn.AGGREGATE(15,6,ROW(Tabelle2[Bezeichnung])/(FIND($C$7,Tabelle2[Bezeichnung],1)>0),ROW()-9),1),\"\"))","v":""},{"$f":"IF($C$7=\"\",\"\",IFERROR(INDEX(G:G,_xlfn.AGGREGATE(15,6,ROW(Tabelle2[Bezeichnung])/(FIND($C$7,Tabelle2[Bezeichnung],1)>0),ROW()-9),1),\"\"))","v":""},{"$f":"IF($C$7=\"\",\"\",IFERROR(INDEX(H:H,_xlfn.AGGREGATE(15,6,ROW(Tabelle2[Bezeichnung])/(FIND($C$7,Tabelle2[Bezeichnung],1)>0),ROW()-9),1),\"\"))","v":""},{"$f":"IF($C$7=\"\",\"\",IFERROR(INDEX(I:I,_xlfn.AGGREGATE(15,6,ROW(Tabelle2[Bezeichnung])/(FIND($C$7,Tabelle2[Bezeichnung],1)>0),ROW()-9),1),\"\"))","v":""}]
[{"$f":"IF($C$7=\"\",\"\",IFERROR(INDEX(A:A,_xlfn.AGGREGATE(15,6,ROW(Tabelle2[Bezeichnung])/(FIND($C$7,Tabelle2[Bezeichnung],1)>0),ROW()-9),1),\"\"))","v":""},{"$f":"IF($C$7=\"\",\"\",IFERROR(INDEX(B:B,_xlfn.AGGREGATE(15,6,ROW(Tabelle2[Bezeichnung])/(FIND($C$7,Tabelle2[Bezeichnung],1)>0),ROW()-9),1),\"\"))","v":""},{"$f":"IF($C$7=\"\",\"\",IFERROR(INDEX(C:C,_xlfn.AGGREGATE(15,6,ROW(Tabelle2[Bezeichnung])/(FIND($C$7,Tabelle2[Bezeichnung],1)>0),ROW()-9),1),\"\"))","v":""},{"$f":"IF($C$7=\"\",\"\",IFERROR(INDEX(D:D,_xlfn.AGGREGATE(15,6,ROW(Tabelle2[Bezeichnung])/(FIND($C$7,Tabelle2[Bezeichnung],1)>0),ROW()-9),1),\"\"))","v":""},{"$f":"IF($C$7=\"\",\"\",IFERROR(INDEX(E:E,_xlfn.AGGREGATE(15,6,ROW(Tabelle2[Bezeichnung])/(FIND($C$7,Tabelle2[Bezeichnung],1)>0),ROW()-9),1),\"\"))","v":""},{"$f":"IF($C$7=\"\",\"\",IFERROR(INDEX(F:F,_xlfn.AGGREGATE(15,6,ROW(Tabelle2[Bezeichnung])/(FIND($C$7,Tabelle2[Bezeichnung],1)>0),ROW()-9),1),\"\"))","v":""},{"$f":"IF($C$7=\"\",\"\",IFERROR(INDEX(G:G,_xlfn.AGGREGATE(15,6,ROW(Tabelle2[Bezeichnung])/(FIND($C$7,Tabelle2[Bezeichnung],1)>0),ROW()-9),1),\"\"))","v":""},{"$f":"IF($C$7=\"\",\"\",IFERROR(INDEX(H:H,_xlfn.AGGREGATE(15,6,ROW(Tabelle2[Bezeichnung])/(FIND($C$7,Tabelle2[Bezeichnung],1)>0),ROW()-9),1),\"\"))","v":""},{"$f":"IF($C$7=\"\",\"\",IFERROR(INDEX(I:I,_xlfn.AGGREGATE(15,6,ROW(Tabelle2[Bezeichnung])/(FIND($C$7,Tabelle2[Bezeichnung],1)>0),ROW()-9),1),\"\"))","v":""}]
[]
["Katalog","Pos. Nr.","Bezeichnung","Einheit","EP","INDEXPREIS","Von","Mittel","Bis"]
[null,null,"Kupferrohre"]
[null,null,"Rohrleitung aus nahtlos gezogenem Kupfer gem. DIN EN 1057 für Trinkwasser verlegen; Lötver-bind."]
["*",1,"Rohrleitung Kupfer wie vor; 15x1,0mm","m",17.600000000000001,{"$f":"Tabelle2[[#This Row],[EP]]*MAIN!$H$10","v":20.774704761904761},{"$f":"H28*0.85","v":17.658499047619046},{"$f":"F28","v":20.774704761904761},{"$f":"H28*1.2","v":24.929645714285712},{"$f":"IF(Tabelle2[[#This Row],[Bis]]>0,1,0)","v":1}]
["*",{"$f":"B28+1","v":2},"Rohrleitung Kupfer wie vor; 18x1,0mm","m",17.899999999999999,{"$f":"Tabelle2[[#This Row],[EP]]*MAIN!$H$10","v":21.128819047619043},{"$f":"H29*0.85","v":17.959496190476187},21.128819047619043,{"$f":"H29*1.2","v":25.354582857142852},{"$f":"IF(Tabelle2[[#This Row],[Bis]]>0,1,0)","v":1}]
["*",{"$f":"B29+1","v":3},"Rohrleitung Kupfer wie vor; 22x1,0mm","m",18.899999999999999,{"$f":"Tabelle2[[#This Row],[EP]]*MAIN!$H$10","v":22.309199999999997},18.962819999999997,22.309199999999997,26.771039999999996,{"$f":"IF(Tabelle2[[#This Row],[Bis]]>0,1,0)","v":1}]
["*",4,"Rohrleitung Kupfer wie vor; 28x1,0mm","m",23.2,{"$f":"Tabelle2[[#This Row],[EP]]*MAIN!$H$10","v":27.384838095238091},23.277112380952378,27.384838095238091,32.861805714285708,{"$f":"IF(Tabelle2[[#This Row],[Bis]]>0,1,0)","v":1}]
["*",5,"Rohrleitung Kupfer wie vor; 35x1,2mm","m",25.97,{"$f":"Tabelle2[[#This Row],[EP]]*MAIN!$H$10","v":30.654493333333331},26.056319333333331,30.654493333333331,36.785391999999995,{"$f":"IF(Tabelle2[[#This Row],[Bis]]>0,1,0)","v":1}]
[null,6,"Rohrleitung Kupfer wie vor; 42x1,5mm","m",33.6,{"$f":"Tabelle2[[#This Row],[EP]]*MAIN!$H$10","v":39.660800000000002},33.711680000000001,39.660800000000002,47.592959999999998,{"$f":"IF(Tabelle2[[#This Row],[Bis]]>0,1,0)","v":1}]
[null,7,"Rohrleitung Kupfer wie vor; 54x2,0mm","m",46.8,{"$f":"Tabelle2[[#This Row],[EP]]*MAIN!$H$10","v":55.241828571428563},46.955554285714278,55.241828571428563,66.290194285714279,{"$f":"IF(Tabelle2[[#This Row],[Bis]]>0,1,0)","v":1}]
["*",8,"Rohrleitung Kupfer mit Kunststoffummantelung, Abm. 15x1,0mm","m",17.600000000000001,{"$f":"Tabelle2[[#This Row],[EP]]*MAIN!$H$10","v":20.774704761904761},17.658499047619046,20.774704761904761,24.929645714285712,{"$f":"IF(Tabelle2[[#This Row],[Bis]]>0,1,0)","v":1}]
["*",9,"Rohrleitung Kupfer mit Kunststoffummantelung, 18x1,0mm","m",18.7,{"$f":"Tabelle2[[#This Row],[EP]]*MAIN!$H$10","v":22.073123809523807},18.762155238095236,22.073123809523807,26.487748571428568,{"$f":"IF(Tabelle2[[#This Row],[Bis]]>0,1,0)","v":1}]
["*",10,"Rohrleitung Kupfer mit Kunststoffummantelung, 22x1,0mm","m",19.8,{"$f":"Tabelle2[[#This Row],[EP]]*MAIN!$H$10","v":23.371542857142856},19.865811428571426,23.371542857142856,28.045851428571428,{"$f":"IF(Tabelle2[[#This Row],[Bis]]>0,1,0)","v":1}]
[null,null,null,null,null,null,null,null,null,{"$f":"IF(Tabelle2[[#This Row],[Bis]]>0,1,0)","v":0}]
[null,null,"Bogen 90° Lötanschluss",null,null,null,null,null,null,{"$f":"IF(Tabelle2[[#This Row],[Bis]]>0,1,0)","v":0}]
[null,null,"Bogen 90° mit beidseitigem Lötanschluss für Kupferrohre für Rohrleitung liefern und einbauen",null,null,null,null,null,null,{"$f":"IF(Tabelle2[[#This Row],[Bis]]>0,1,0)","v":0}]
["*",11,"Bogen 90° wie vor, Abm. 15x1,0mm Löt","St",5.36,{"$f":"Tabelle2[[#This Row],[EP]]*MAIN!$H$10","v":6.3268419047619044},{"$f":"H41*0.85","v":5.3778156190476185},{"$f":"F41","v":6.3268419047619044},{"$f":"H41*1.2","v":7.5922102857142848},{"$f":"IF(Tabelle2[[#This Row],[Bis]]>0,1,0)","v":1}]
["*",{"$f":"B41+1","v":12},"Bogen 90° wie vor, Abm. 18x1,0mm Löt","St",6.5,{"$f":"Tabelle2[[#This Row],[EP]]*MAIN!$H$10","v":7.67247619047619},{"$f":"H42*0.85","v":6.5216047619047615},7.67247619047619,{"$f":"H42*1.2","v":9.2069714285714284},{"$f":"IF(Tabelle2[[#This Row],[Bis]]>0,1,0)","v":1}]
["*",{"$f":"B42+1","v":13},"Bogen 90° wie vor, Abm. 22x1,0mm Löt","St",7.8,{"$f":"Tabelle2[[#This Row],[EP]]*MAIN!$H$10","v":9.2069714285714284},7.8259257142857139,9.2069714285714284,11.048365714285714,{"$f":"IF(Tabelle2[[#This Row],[Bis]]>0,1,0)","v":1}]
["*",14,"Bogen 90° wie vor, Abm. 28x1,5mm Löt","St",11.2,{"$f":"Tabelle2[[#This Row],[EP]]*MAIN!$H$10","v":13.220266666666666},11.237226666666665,13.220266666666666,15.864319999999998,{"$f":"IF(Tabelle2[[#This Row],[Bis]]>0,1,0)","v":1}]
["*",15,"Bogen 90° wie vor, Abm. 35x1,0mm Löt","St",18.850000000000001,{"$f":"Tabelle2[[#This Row],[EP]]*MAIN!$H$10","v":22.250180952380951},{"$f":"H45*0.85","v":18.912653809523807},{"$f":"F45","v":22.250180952380951},{"$f":"H45*1.2","v":26.700217142857142},{"$f":"IF(Tabelle2[[#This Row],[Bis]]>0,1,0)","v":1}]
["*",16,"Bogen 90° wie vor, Abm. 42x1,5mm Löt","St",26.5,{"$f":"Tabelle2[[#This Row],[EP]]*MAIN!$H$10","v":31.280095238095235},26.588080952380949,31.280095238095235,37.536114285714284,{"$f":"IF(Tabelle2[[#This Row],[Bis]]>0,1,0)","v":1}]
[null,null,null,null,null,null,null,null,null,{"$f":"IF(Tabelle2[[#This Row],[Bis]]>0,1,0)","v":0}]
[null,null,"Bogen 45° Lötanschluss",null,null,null,null,null,null,{"$f":"IF(Tabelle2[[#This Row],[Bis]]>0,1,0)","v":0}]
[null,null,"Bogen 45° mit beidseitigem Lötanschluss für Kupferrohre für Rohrleitung liefern und einbauen",null,null,null,null,null,null,{"$f":"IF(Tabelle2[[#This Row],[Bis]]>0,1,0)","v":0}]
["*",{"$f":"B46+1","v":17},"Bogen 45° wie vor, Abm. 15x1,0mm Löt","St",5.36,{"$f":"Tabelle2[[#This Row],[EP]]*MAIN!$H$10","v":6.3268419047619044},{"$f":"H50*0.85","v":5.3778156190476185},{"$f":"F50","v":6.3268419047619044},{"$f":"H50*1.2","v":7.5922102857142848},{"$f":"IF(Tabelle2[[#This Row],[Bis]]>0,1,0)","v":1}]
["*",{"$f":"B50+1","v":18},"Bogen 45° wie vor, Abm. 18x1,0mm Löt","St",6.5,{"$f":"Tabelle2[[#This Row],[EP]]*MAIN!$H$10","v":7.67247619047619},{"$f":"H51*0.85","v":6.5216047619047615},7.67247619047619,{"$f":"H51*1.2","v":9.2069714285714284},{"$f":"IF(Tabelle2[[#This Row],[Bis]]>0,1,0)","v":1}]
["*",{"$f":"B51+1","v":19},"Bogen 45° wie vor, Abm. 22x1,0mm Löt","St",7.8,{"$f":"Tabelle2[[#This Row],[EP]]*MAIN!$H$10","v":9.2069714285714284},7.8259257142857139,9.2069714285714284,11.048365714285714,{"$f":"IF(Tabelle2[[#This Row],[Bis]]>0,1,0)","v":1}]
["*",20,"Bogen 45° wie vor, Abm. 28x1,5mm Löt","St",11.2,{"$f":"Tabelle2[[#This Row],[EP]]*MAIN!$H$10","v":13.220266666666666},11.237226666666665,13.220266666666666,15.864319999999998,{"$f":"IF(Tabelle2[[#This Row],[Bis]]>0,1,0)","v":1}]
["*",21,"Bogen 45° wie vor, Abm. 35x1,0mm Löt","St",18.850000000000001,{"$f":"Tabelle2[[#This Row],[EP]]*MAIN!$H$10","v":22.250180952380951},{"$f":"H54*0.85","v":18.912653809523807},{"$f":"F54","v":22.250180952380951},{"$f":"H54*1.2","v":26.700217142857142},{"$f":"IF(Tabelle2[[#This Row],[Bis]]>0,1,0)","v":1}]
["*",22,"Bogen 45° wie vor, Abm. 42x1,5mm Löt","St",26.5,{"$f":"Tabelle2[[#This Row],[EP]]*MAIN!$H$10","v":31.280095238095235},{"$f":"H55*0.85","v":26.588080952380949},31.280095238095235,{"$f":"H55*1.2","v":37.536114285714284},{"$f":"IF(Tabelle2[[#This Row],[Bis]]>0,1,0)","v":1}]
[null,null,null,null,null,null,null,null,null,{"$f":"IF(Tabelle2[[#This Row],[Bis]]>0,1,0)","v":0}]
[null,null,"Bogen 90° Pressanschluss VC Viega",null,null,null,null,null,null,{"$f":"IF(Tabelle2[[#This Row],[Bis]]>0,1,0)","v":0}]
[null,null,"Bogen 90° mit beidseitigem Pressanschluss VC für Kupferrohre für Rohrleitung liefern und einbauen",null,null,null,null,null,null,{"$f":"IF(Tabelle2[[#This Row],[Bis]]>0,1,0)","v":0}]
["*",{"$f":"B55+1","v":23},"Bogen 90° wie vor, Abm. 15x1,0mm Press","St",{"$f":"6.3","v":6.3},{"$f":"Tabelle2[[#This Row],[EP]]*MAIN!$H$10","v":7.436399999999999},{"$f":"H59*0.85","v":6.3209399999999993},{"$f":"F59","v":7.436399999999999},{"$f":"H59*1.2","v":8.9236799999999992},{"$f":"IF(Tabelle2[[#This Row],[Bis]]>0,1,0)","v":1}]
["*",{"$f":"B59+1","v":24},"Bogen 90° wie vor, Abm. 18x1,0mm Press","St",{"$f":"6.5","v":6.5},{"$f":"Tabelle2[[#This Row],[EP]]*MAIN!$H$10","v":7.67247619047619},{"$f":"H60*0.85","v":6.5216047619047615},7.67247619047619,{"$f":"H60*1.2","v":9.2069714285714284},{"$f":"IF(Tabelle2[[#This Row],[Bis]]>0,1,0)","v":1}]
["*",{"$f":"B60+1","v":25},"Bogen 90° wie vor, Abm. 22x1,0mm Press","St",{"$f":"7.8","v":7.8},{"$f":"Tabelle2[[#This Row],[EP]]*MAIN!$H$10","v":9.2069714285714284},7.8259257142857139,9.2069714285714284,11.048365714285714,{"$f":"IF(Tabelle2[[#This Row],[Bis]]>0,1,0)","v":1}]
["*",26,"Bogen 90° wie vor, Abm. 28x1,5mm Press","St",{"$f":"11.2","v":11.2},{"$f":"Tabelle2[[#This Row],[EP]]*MAIN!$H$10","v":13.220266666666666},11.237226666666665,13.220266666666666,15.864319999999998,{"$f":"IF(Tabelle2[[#This Row],[Bis]]>0,1,0)","v":1}]
["*",27,"Bogen 90° wie vor, Abm. 35x1,5mm Press","St",{"$f":"14.9","v":14.9},{"$f":"Tabelle2[[#This Row],[EP]]*MAIN!$H$10","v":17.587676190476191},14.949524761904762,17.587676190476191,21.10521142857143,{"$f":"IF(Tabelle2[[#This Row],[Bis]]>0,1,0)","v":1}]
["*",28,"Bogen 90° wie vor, Abm. 42x1,5mm Press","St",{"$f":"29.9","v":29.9},{"$f":"Tabelle2[[#This Row],[EP]]*MAIN!$H$10","v":35.293390476190474},{"$f":"H64*0.85","v":29.999381904761901},35.293390476190474,{"$f":"H64*1.2","v":42.352068571428568},{"$f":"IF(Tabelle2[[#This Row],[Bis]]>0,1,0)","v":1}]
["*",29,"Bogen 90° wie vor, Abm. 54x1,5mm Press","St",{"$f":"55.9","v":55.9},{"$f":"Tabelle2[[#This Row],[EP]]*MAIN!$H$10","v":65.983295238095238},{"$f":"H65*0.85","v":56.08580095238095},65.983295238095238,{"$f":"H65*1.2","v":79.179954285714288},{"$f":"IF(Tabelle2[[#This Row],[Bis]]>0,1,0)","v":1}]
[null,null,null,null,null,null,null,null,null,{"$f":"IF(Tabelle2[[#This Row],[Bis]]>0,1,0)","v":0}]
[null,null,"Bogen 45° Pressanschluss VC Viega",null,null,null,null,null,null,{"$f":"IF(Tabelle2[[#This Row],[Bis]]>0,1,0)","v":0}]
[null,null,"Bogen 45° mit beidseitigem Pressanschluss VC für Kupferrohre für Rohrleitung liefern und einbauen",null,null,null,null,null,null,{"$f":"IF(Tabelle2[[#This Row],[Bis]]>0,1,0)","v":0}]
["*",{"$f":"B65+1","v":30},"Bogen 45° wie vor, Abm. 15x1,0mm Press","St",{"$f":"6.3","v":6.3},{"$f":"Tabelle2[[#This Row],[EP]]*MAIN!$H$10","v":7.436399999999999},{"$f":"H69*0.85","v":6.3209399999999993},{"$f":"F69","v":7.436399999999999},{"$f":"H69*1.2","v":8.9236799999999992},{"$f":"IF(Tabelle2[[#This Row],[Bis]]>0,1,0)","v":1}]
["*",{"$f":"B69+1","v":31},"Bogen 45° wie vor, Abm. 18x1,0mm Press","St",{"$f":"6.5","v":6.5},{"$f":"Tabelle2[[#This Row],[EP]]*MAIN!$H$10","v":7.67247619047619},{"$f":"H70*0.85","v":6.5216047619047615},7.67247619047619,{"$f":"H70*1.2","v":9.2069714285714284},{"$f":"IF(Tabelle2[[#This Row],[Bis]]>0,1,0)","v":1}]
["*",{"$f":"B70+1","v":32},"Bogen 45° wie vor, Abm. 22x1,0mm Press","St",{"$f":"7.8","v":7.8},{"$f":"Tabelle2[[#This Row],[EP]]*MAIN!$H$10","v":9.2069714285714284},7.8259257142857139,9.2069714285714284,11.048365714285714,{"$f":"IF(Tabelle2[[#This Row],[Bis]]>0,1,0)","v":1}]
["*",33,"Bogen 45° wie vor, Abm. 28x1,5mm Press","St",{"$f":"11.2","v":11.2},{"$f":"Tabelle2[[#This Row],[EP]]*MAIN!$H$10","v":13.220266666666666},11.237226666666665,13.220266666666666,15.864319999999998,{"$f":"IF(Tabelle2[[#This Row],[Bis]]>0,1,0)","v":1}]
["*",34,"Bogen 45° wie vor, Abm. 35x1,5mm Press","St",{"$f":"14.9","v":14.9},{"$f":"Tabelle2[[#This Row],[EP]]*MAIN!$H$10","v":17.587676190476191},14.949524761904762,17.587676190476191,21.10521142857143,{"$f":"IF(Tabelle2[[#This Row],[Bis]]>0,1,0)","v":1}]
["*",35,"Bogen 45° wie vor, Abm. 42x1,5mm Press","St",{"$f":"29.9","v":29.9},{"$f":"Tabelle2[[#This Row],[EP]]*MAIN!$H$10","v":35.293390476190474},29.999381904761901,35.293390476190474,42.352068571428568,{"$f":"IF(Tabelle2[[#This Row],[Bis]]>0,1,0)","v":1}]
["*",36,"Bogen 45° wie vor, Abm. 54x1,5mm Press","St",{"$f":"55.9","v":55.9},{"$f":"Tabelle2[[#This Row],[EP]]*MAIN!$H$10","v":65.983295238095238},56.08580095238095,65.983295238095238,79.179954285714288,{"$f":"IF(Tabelle2[[#This Row],[Bis]]>0,1,0)","v":1}]
[null,null,null,null,null,null,null,null,null,{"$f":"IF(Tabelle2[[#This Row],[Bis]]>0,1,0)","v":0}]
[null,null,"PVC-U Rohre",null,null,null,null,null,null,{"$f":"IF(Tabelle2[[#This Row],[Bis]]>0,1,0)","v":0}]
[null,null,"PVC-U Rohre als Druckrohr bis 20bar gem. Anforderung an Trinkwassernorm liefern und montieren;",null,null,null,null,null,null,{"$f":"IF(Tabelle2[[#This Row],[Bis]]>0,1,0)","v":0}]
[null,{"$f":"B75+1","v":37},"PVC-Rohre als Druckrohr bis 16bar wie vor; 16x1,5mm","m",11.8,{"$f":"Tabelle2[[#This Row],[EP]]*MAIN!$H$10","v":13.928495238095238},{"$f":"H79*0.85","v":11.839220952380952},{"$f":"F79","v":13.928495238095238},{"$f":"H79*1.2","v":16.714194285714285},{"$f":"IF(Tabelle2[[#This Row],[Bis]]>0,1,0)","v":1}]
["*",{"$f":"B79+1","v":38},"PVC-Rohre als Druckrohr bis 16bar wie vor; 20x1,5mm","m",12.2,{"$f":"Tabelle2[[#This Row],[EP]]*MAIN!$H$10","v":14.400647619047618},{"$f":"H80*0.85","v":12.240550476190474},14.400647619047618,{"$f":"H80*1.2","v":17.28077714285714},{"$f":"IF(Tabelle2[[#This Row],[Bis]]>0,1,0)","v":1}]
["*",{"$f":"B80+1","v":39},"PVC-Rohre als Druckrohr bis 16bar wie vor; 25x1,9mm","m",12.2,{"$f":"Tabelle2[[#This Row],[EP]]*MAIN!$H$10","v":14.400647619047618},12.240550476190474,14.400647619047618,17.28077714285714,{"$f":"IF(Tabelle2[[#This Row],[Bis]]>0,1,0)","v":1}]
["*",{"$f":"B81+1","v":40},"PVC-Rohre als Druckrohr bis 16bar wie vor; 32x2,4mm","m",12.5,{"$f":"Tabelle2[[#This Row],[EP]]*MAIN!$H$10","v":14.754761904761903},12.541547619047618,14.754761904761903,17.705714285714283,{"$f":"IF(Tabelle2[[#This Row],[Bis]]>0,1,0)","v":1}]
["*",{"$f":"B82+1","v":41},"PVC-Rohre als Druckrohr bis 16bar wie vor; 40x3,0mm","m",14.2,{"$f":"Tabelle2[[#This Row],[EP]]*MAIN!$H$10","v":16.761409523809522},14.247198095238094,16.761409523809522,20.113691428571425,{"$f":"IF(Tabelle2[[#This Row],[Bis]]>0,1,0)","v":1}]
["*",42,"PVC-Rohre als Druckrohr bis 16bar wie vor; 63x3,0mm","m",18.2,{"$f":"Tabelle2[[#This Row],[EP]]*MAIN!$H$10","v":21.482933333333332},{"$f":"H84*0.85","v":18.260493333333333},{"$f":"F84","v":21.482933333333332},{"$f":"H84*1.2","v":25.779519999999998}]
[null,43,"PVC-Rohrleitung einschl. Befestigung ausbauen u. entsorgen","m",7,{"$f":"Tabelle2[[#This Row],[EP]]*MAIN!$H$10","v":8.2626666666666662},7.0232666666666663,8.2626666666666662,9.9151999999999987,{"$f":"IF(Tabelle2[[#This Row],[Bis]]>0,1,0)","v":1}]
[null,null,null,null,null,null,null,null,null,{"$f":"IF(Tabelle2[[#This Row],[Bis]]>0,1,0)","v":0}]
[null,null,"PVC-U Winkel 90°",null,null,null,null,null,null,{"$f":"IF(Tabelle2[[#This Row],[Bis]]>0,1,0)","v":0}]
[null,null,"PVC-U-Winkel 90° mit Klebemuffe  liefern und einsetzen;",null,null,null,null,null,null,{"$f":"IF(Tabelle2[[#This Row],[Bis]]>0,1,0)","v":0}]
[null,{"$f":"B85+1","v":44},"PVC-U-Winkel 90°  d = 16 mm","St",5.8,{"$f":"Tabelle2[[#This Row],[EP]]*MAIN!$H$10","v":6.8462095238095229},{"$f":"H89*0.85","v":5.8192780952380945},{"$f":"F89","v":6.8462095238095229},{"$f":"H89*1.2","v":8.2154514285714271},{"$f":"IF(Tabelle2[[#This Row],[Bis]]>0,1,0)","v":1}]
["*",{"$f":"B89+1","v":45},"PVC-U-Winkel 90°  d = 20 mm","St",5.9,{"$f":"Tabelle2[[#This Row],[EP]]*MAIN!$H$10","v":6.9642476190476188},{"$f":"H90*0.85","v":5.919610476190476},{"$f":"F90","v":6.9642476190476188},{"$f":"H90*1.2","v":8.3570971428571426},{"$f":"IF(Tabelle2[[#This Row],[Bis]]>0,1,0)","v":1}]
["*",{"$f":"B90+1","v":46},"PVC-U-Winkel 90°  d = 25 mm","St",6.1,{"$f":"Tabelle2[[#This Row],[EP]]*MAIN!$H$10","v":7.2003238095238089},6.1202752380952372,{"$f":"F91","v":7.2003238095238089},8.64038857142857,{"$f":"IF(Tabelle2[[#This Row],[Bis]]>0,1,0)","v":1}]
["*",47,"PVC-U-Winkel 90°  d = 32 mm        ","St",6.3,{"$f":"Tabelle2[[#This Row],[EP]]*MAIN!$H$10","v":7.436399999999999},6.3209399999999993,{"$f":"F92","v":7.436399999999999},8.9236799999999992,{"$f":"IF(Tabelle2[[#This Row],[Bis]]>0,1,0)","v":1}]
["*",48,"PVC-U-Winkel 90°  d = 50 mm        ","St",6.9,{"$f":"Tabelle2[[#This Row],[EP]]*MAIN!$H$10","v":8.1446285714285711},{"$f":"H93*0.85","v":6.9229342857142848},{"$f":"F93","v":8.1446285714285711},{"$f":"H93*1.2","v":9.773554285714285}]
[null,null,null,null,null,null,null,null,null,{"$f":"IF(Tabelle2[[#This Row],[Bis]]>0,1,0)","v":0}]
[null,null,"PVC-U Winkel 45°",null,null,null,null,null,null,{"$f":"IF(Tabelle2[[#This Row],[Bis]]>0,1,0)","v":0}]
[null,null,"PVC-U-Winkel 45° mit Klebemuffe  liefern und einsetzen;",null,null,null,null,null,null,{"$f":"IF(Tabelle2[[#This Row],[Bis]]>0,1,0)","v":0}]
[null,{"$f":"B93+1","v":49},"PVC-U-Winkel 45°  d = 16 mm","St",5.8,{"$f":"Tabelle2[[#This Row],[EP]]*MAIN!$H$10","v":6.8462095238095229},{"$f":"H97*0.85","v":5.8192780952380945},{"$f":"F97","v":6.8462095238095229},{"$f":"H97*1.2","v":8.2154514285714271},{"$f":"IF(Tabelle2[[#This Row],[Bis]]>0,1,0)","v":1}]
["*",{"$f":"B97+1","v":50},"PVC-U-Winkel 45°  d = 20 mm","St",5.9,{"$f":"Tabelle2[[#This Row],[EP]]*MAIN!$H$10","v":6.9642476190476188},{"$f":"H98*0.85","v":5.919610476190476},{"$f":"F98","v":6.9642476190476188},{"$f":"H98*1.2","v":8.3570971428571426},{"$f":"IF(Tabelle2[[#This Row],[Bis]]>0,1,0)","v":1}]
["*",{"$f":"B98+1","v":51},"PVC-U-Winkel 45°  d = 25 mm","St",6.1,{"$f":"Tabelle2[[#This Row],[EP]]*MAIN!$H$10","v":7.2003238095238089},6.1202752380952372,{"$f":"F99","v":7.2003238095238089},8.64038857142857,{"$f":"IF(Tabelle2[[#This Row],[Bis]]>0,1,0)","v":1}]
["*",52,"PVC-U-Winkel 45°  d = 32 mm        ","St",6.3,{"$f":"Tabelle2[[#This Row],[EP]]*MAIN!$H$10","v":7.436399999999999},6.3209399999999993,{"$f":"F100","v":7.436399999999999},8.9236799999999992,{"$f":"IF(Tabelle2[[#This Row],[Bis]]>0,1,0)","v":1}]
[null,null,null,null,null,null,null,null,null,{"$f":"IF(Tabelle2[[#This Row],[Bis]]>0,1,0)","v":0}]
[null,null,"PVC-U T-Stück",null,null,null,null,null,null,{"$f":"IF(Tabelle2[[#This Row],[Bis]]>0,1,0)","v":0}]
[null,null,"PVC-U T-Stück liegern und einsetzen;",null,null,null,null,null,null,{"$f":"IF(Tabelle2[[#This Row],[Bis]]>0,1,0)","v":0}]
[null,{"$f":"B100+1","v":53}," T-Stück für PVC-Rohre 16 mm    ","St",6.1,{"$f":"Tabelle2[[#This Row],[EP]]*MAIN!$H$10","v":7.2003238095238089},{"$f":"H104*0.85","v":6.1202752380952372},{"$f":"F104","v":7.2003238095238089},{"$f":"H104*1.2","v":8.64038857142857},{"$f":"IF(Tabelle2[[#This Row],[Bis]]>0,1,0)","v":1}]
["*",{"$f":"B104+1","v":54}," T-Stück für PVC-Rohre 20 mm    ","St",6.3,{"$f":"Tabelle2[[#This Row],[EP]]*MAIN!$H$10","v":7.436399999999999},{"$f":"H105*0.85","v":6.3209399999999993},{"$f":"F105","v":7.436399999999999},{"$f":"H105*1.2","v":8.9236799999999992},{"$f":"IF(Tabelle2[[#This Row],[Bis]]>0,1,0)","v":1}]
["*",{"$f":"B105+1","v":55}," T-Stück für PVC-Rohre 25 mm                    ","St",6.6,{"$f":"Tabelle2[[#This Row],[EP]]*MAIN!$H$10","v":7.7905142857142851},{"$f":"H106*0.85","v":6.6219371428571421},{"$f":"F106","v":7.7905142857142851},{"$f":"H106*1.2","v":9.3486171428571421},{"$f":"IF(Tabelle2[[#This Row],[Bis]]>0,1,0)","v":1}]
["*",56," T-Stück für PVC-Rohre 32 mm    ","St",7.6,{"$f":"Tabelle2[[#This Row],[EP]]*MAIN!$H$10","v":8.9708952380952365},7.6252609523809509,{"$f":"F107","v":8.9708952380952365},10.765074285714283,{"$f":"IF(Tabelle2[[#This Row],[Bis]]>0,1,0)","v":1}]
["*",57," T-Stück für PVC-Rohre 40 mm    ","St",8.6999999999999993,{"$f":"Tabelle2[[#This Row],[EP]]*MAIN!$H$10","v":10.269314285714284},8.7289171428571404,{"$f":"F108","v":10.269314285714284},12.323177142857141,{"$f":"IF(Tabelle2[[#This Row],[Bis]]>0,1,0)","v":1}]
[null,null,null,null,null,null,null,null,null,{"$f":"IF(Tabelle2[[#This Row],[Bis]]>0,1,0)","v":0}]
[null,null,"Reduzierstück für PVC-U-Rohre",null,null,null,null,null,null,{"$f":"IF(Tabelle2[[#This Row],[Bis]]>0,1,0)","v":0}]
[null,{"$f":"B108+1","v":58}," Reduzierstück für PVC-U-Rohre liefern und montieren; Abm.: 20/16 mm",null,null,null,null,null,null,{"$f":"IF(Tabelle2[[#This Row],[Bis]]>0,1,0)","v":0}]
[null,{"$f":"B111+1","v":59}," Reduzierstück für PVC-Rohre 20/16 mm        ","St",6.3,{"$f":"Tabelle2[[#This Row],[EP]]*MAIN!$H$10","v":7.436399999999999},{"$f":"H112*0.85","v":6.3209399999999993},{"$f":"F112","v":7.436399999999999},{"$f":"H112*1.2","v":8.9236799999999992},{"$f":"IF(Tabelle2[[#This Row],[Bis]]>0,1,0)","v":1}]
[null,{"$f":"B112+1","v":60}," Reduzierstück für PVC-Rohre 25/20 mm        ","St",8.1999999999999993,{"$f":"Tabelle2[[#This Row],[EP]]*MAIN!$H$10","v":9.6791238095238086},{"$f":"H113*0.85","v":8.2272552380952373},{"$f":"F113","v":9.6791238095238086},{"$f":"H113*1.2","v":11.61494857142857},{"$f":"IF(Tabelle2[[#This Row],[Bis]]>0,1,0)","v":1}]
[null,61," Reduzierstück für PVC-Rohre 32/25 mm         ","St",8.1999999999999993,{"$f":"Tabelle2[[#This Row],[EP]]*MAIN!$H$10","v":9.6791238095238086},8.2272552380952373,{"$f":"F114","v":9.6791238095238086},11.61494857142857,{"$f":"IF(Tabelle2[[#This Row],[Bis]]>0,1,0)","v":1}]
[null,62," Reduzierstück für PVC-Rohre 40/32 mm          ","St",8.1999999999999993,{"$f":"Tabelle2[[#This Row],[EP]]*MAIN!$H$10","v":9.6791238095238086},8.2272552380952373,{"$f":"F115","v":9.6791238095238086},11.61494857142857,{"$f":"IF(Tabelle2[[#This Row],[Bis]]>0,1,0)","v":1}]
[null,null,null,null,null,null,null,null,null,{"$f":"IF(Tabelle2[[#This Row],[Bis]]>0,1,0)","v":0}]
[null,null,"Aluminium- Mehrschichtverbundrohre",null,null,null,null,null,null,{"$f":"IF(Tabelle2[[#This Row],[Bis]]>0,1,0)","v":0}]
[null,null,"Metall-Verbundrohre für Trinkwasser Warm u. Kaltwasserleitung einschl. Verbindungsstücke und Rohrbefestigungen liefern und verlegen",null,null,null,null,null,null,{"$f":"IF(Tabelle2[[#This Row],[Bis]]>0,1,0)","v":0}]
["*",{"$f":"B115+1","v":63},"Metallverbundrohre wie vor DN 15             ","m",19.2,{"$f":"Tabelle2[[#This Row],[EP]]*MAIN!$H$10","v":22.663314285714282},{"$f":"H119*0.85","v":19.263817142857139},{"$f":"F119","v":22.663314285714282},{"$f":"H119*1.2","v":27.195977142857139},{"$f":"IF(Tabelle2[[#This Row],[Bis]]>0,1,0)","v":1}]
["*",{"$f":"B119+1","v":64},"Metallverbundrohre wie vor DN 20              ","m",19.8,{"$f":"Tabelle2[[#This Row],[EP]]*MAIN!$H$10","v":23.371542857142856},{"$f":"H120*0.85","v":19.865811428571426},{"$f":"F120","v":23.371542857142856},{"$f":"H120*1.2","v":28.045851428571428},{"$f":"IF(Tabelle2[[#This Row],[Bis]]>0,1,0)","v":1}]
["*",{"$f":"B120+1","v":65},"Metallverbundrohre wie vor DN 25  ","m",20.399999999999999,{"$f":"Tabelle2[[#This Row],[EP]]*MAIN!$H$10","v":24.079771428571426},20.467805714285713,{"$f":"F121","v":24.079771428571426},28.89572571428571,{"$f":"IF(Tabelle2[[#This Row],[Bis]]>0,1,0)","v":1}]
["*",66,"Metallverbundrohre wie vor DN 32   ","m",22.3,{"$f":"Tabelle2[[#This Row],[EP]]*MAIN!$H$10","v":26.322495238095236},22.374120952380949,{"$f":"F122","v":26.322495238095236},31.586994285714283,{"$f":"IF(Tabelle2[[#This Row],[Bis]]>0,1,0)","v":1}]
[null,67,"Metallverbundrohre wie vor DN 40             ","m",35.4,{"$f":"Tabelle2[[#This Row],[EP]]*MAIN!$H$10","v":41.785485714285713},35.517662857142852,{"$f":"F123","v":41.785485714285713},50.142582857142855,{"$f":"IF(Tabelle2[[#This Row],[Bis]]>0,1,0)","v":1}]
[null,null,null,null,null,null,null,null,null,{"$f":"IF(Tabelle2[[#This Row],[Bis]]>0,1,0)","v":0}]
[null,null,"Rohrleitungen aus Edelstahl",null,null,null,null,null,null,{"$f":"IF(Tabelle2[[#This Row],[Bis]]>0,1,0)","v":0}]
[null,null,"Rohrleitungen aus Edelstahl V4A, nicht rostend, für Trinkwasserleitungen einschl. Verbindungsstücke u. Rohrbefestigung liefern u. montieren;",null,null,null,null,null,null,{"$f":"IF(Tabelle2[[#This Row],[Bis]]>0,1,0)","v":0}]
["*",{"$f":"B123+1","v":68},"Rohrleitungen aus Stahl, nicht rostend, wie vor DN 15 x 1,0","m",28.3,{"$f":"Tabelle2[[#This Row],[EP]]*MAIN!$H$10","v":33.404780952380953},{"$f":"H127*0.85","v":28.394063809523811},{"$f":"F127","v":33.404780952380953},{"$f":"H127*1.2","v":40.085737142857141},{"$f":"IF(Tabelle2[[#This Row],[Bis]]>0,1,0)","v":1}]
["*",{"$f":"B127+1","v":69},"Rohrleitungen aus Stahl, nicht rostend, wie vor DN 18 x 1,0","m",29.5,{"$f":"Tabelle2[[#This Row],[EP]]*MAIN!$H$10","v":34.821238095238094},{"$f":"H128*0.85","v":29.598052380952378},34.821238095238094,{"$f":"H128*1.2","v":41.785485714285713},{"$f":"IF(Tabelle2[[#This Row],[Bis]]>0,1,0)","v":1}]
["*",{"$f":"B128+1","v":70},"Rohrleitungen aus Stahl, nicht rostend, wie vor DN 22 x 1,2","m",31.4,{"$f":"Tabelle2[[#This Row],[EP]]*MAIN!$H$10","v":37.063961904761904},31.504367619047617,37.063961904761904,44.476754285714286,{"$f":"IF(Tabelle2[[#This Row],[Bis]]>0,1,0)","v":1}]
["*",71,"Rohrleitungen aus Stahl, nicht rostend, wie vor DN 28 x 1,2","m",33.6,{"$f":"Tabelle2[[#This Row],[EP]]*MAIN!$H$10","v":39.660800000000002},33.711680000000001,39.660800000000002,47.592959999999998,{"$f":"IF(Tabelle2[[#This Row],[Bis]]>0,1,0)","v":1}]
["*",72,"Rohrleitungen aus Stahl, nicht rostend, wie vor DN 35 x 1,5","m",36.1,{"$f":"Tabelle2[[#This Row],[EP]]*MAIN!$H$10","v":42.611752380952382},36.219989523809524,42.611752380952382,51.134102857142857,{"$f":"IF(Tabelle2[[#This Row],[Bis]]>0,1,0)","v":1}]
[null,73,"Rohrleitungen aus Stahl, nicht rostend, wie vor DN 42,4 x 2,0","m",37.799999999999997,{"$f":"Tabelle2[[#This Row],[EP]]*MAIN!$H$10","v":44.618399999999994},37.925639999999994,44.618399999999994,53.542079999999991,{"$f":"IF(Tabelle2[[#This Row],[Bis]]>0,1,0)","v":1}]
[null,74,"Stahlrohrleitung, entleert, d=12 bis 25mm eischl. Befestigungsmittel ausbauen und entsorgen","m",5.2,{"$f":"Tabelle2[[#This Row],[EP]]*MAIN!$H$10","v":6.1379809523809525},5.2172838095238099,6.1379809523809525,7.365577142857143,{"$f":"IF(Tabelle2[[#This Row],[Bis]]>0,1,0)","v":1}]
[null,75,"Stahlrohrleit., entleert, d=32 bis 50 mm ausbauen","m",7.1,{"$f":"Tabelle2[[#This Row],[EP]]*MAIN!$H$10","v":8.3807047619047612},7.1235990476190469,8.3807047619047612,10.056845714285712,{"$f":"IF(Tabelle2[[#This Row],[Bis]]>0,1,0)","v":1}]
[null,null,null,null,null,null,null,null,null,{"$f":"IF(Tabelle2[[#This Row],[Bis]]>0,1,0)","v":0}]
[null,null,"PE-Xc Rohre [Polyethylenrohr mit höherer Temperatur-beständigkeit] ",null,null,null,null,null,null,{"$f":"IF(Tabelle2[[#This Row],[Bis]]>0,1,0)","v":0}]
[null,null,"Leitungsrohr aus Polyethylen, 5 Schichten Verbundrohr, temperatur u. korrosionsbest. für Trinkwasserleitung liefern u. verlegen",null,null,null,null,null,null,{"$f":"IF(Tabelle2[[#This Row],[Bis]]>0,1,0)","v":0}]
["*",{"$f":"B134+1","v":76},"Leitungsrohr aus Polyethylen, d = 16mm","m",8.6,{"$f":"Tabelle2[[#This Row],[EP]]*MAIN!$H$10","v":10.151276190476189},{"$f":"H138*0.85","v":8.6285847619047598},{"$f":"F138","v":10.151276190476189},{"$f":"H138*1.2","v":12.181531428571427},{"$f":"IF(Tabelle2[[#This Row],[Bis]]>0,1,0)","v":1}]
["*",{"$f":"B138+1","v":77},"Leitungsrohr aus Polyethylen, d = 20mm           ","m",9.1999999999999993,{"$f":"Tabelle2[[#This Row],[EP]]*MAIN!$H$10","v":10.859504761904761},{"$f":"H139*0.85","v":9.230579047619047},10.859504761904761,{"$f":"H139*1.2","v":13.031405714285713},{"$f":"IF(Tabelle2[[#This Row],[Bis]]>0,1,0)","v":1}]
["*",{"$f":"B139+1","v":78},"Alu-Verbundrohr d=16 x 2,0mm mit 6 mm PE-Isolierung  liefern u. verlegen         ","m",9.6999999999999993,{"$f":"Tabelle2[[#This Row],[EP]]*MAIN!$H$10","v":11.449695238095236},9.7322409523809501,11.449695238095236,13.739634285714283,{"$f":"IF(Tabelle2[[#This Row],[Bis]]>0,1,0)","v":1}]
["*",79,"Alu-Verbundrohr d=20 x 2,0mm mit 6 mm PE-Isolierung  liefern u. verlegen         ","m",10.6,{"$f":"Tabelle2[[#This Row],[EP]]*MAIN!$H$10","v":12.512038095238093},10.635232380952379,12.512038095238093,15.014445714285712,{"$f":"IF(Tabelle2[[#This Row],[Bis]]>0,1,0)","v":1}]
["*",80,"Presswinkel 90° 16 x 2 mm liefern u. einbauen","St",7.5,{"$f":"Tabelle2[[#This Row],[EP]]*MAIN!$H$10","v":8.8528571428571432},7.5249285714285712,8.8528571428571432,10.623428571428571,{"$f":"IF(Tabelle2[[#This Row],[Bis]]>0,1,0)","v":1}]
["*",81,"Presswinkel 90°, 20 x 2mm liefern u. einbauen","St",8.1999999999999993,{"$f":"Tabelle2[[#This Row],[EP]]*MAIN!$H$10","v":9.6791238095238086},8.2272552380952373,9.6791238095238086,11.61494857142857,{"$f":"IF(Tabelle2[[#This Row],[Bis]]>0,1,0)","v":1}]
["*",82,"Pressfitting T-Stück, Mittelabgang erweitert 16 bis 20mm liefern und einbauen","St",9.9,{"$f":"Tabelle2[[#This Row],[EP]]*MAIN!$H$10","v":11.685771428571428},9.9329057142857131,11.685771428571428,14.022925714285714,{"$f":"IF(Tabelle2[[#This Row],[Bis]]>0,1,0)","v":1}]
["*",83,"Wandwinkel/Formstück für PE-X Rohre / Klemmverbindung mit Innengewinde d = 16 mm x 2 auf 1/2\"/ Klemmverb.","St",11.6,{"$f":"Tabelle2[[#This Row],[EP]]*MAIN!$H$10","v":13.692419047619046},11.638556190476189,13.692419047619046,16.430902857142854,{"$f":"IF(Tabelle2[[#This Row],[Bis]]>0,1,0)","v":1}]
[null,84,"Wandwinkel/Formstück für PE-X Rohre / Klemmverbindung mit Innengewinde d = 18 mm x 2 auf 1/2\"/ Klemmverb","St",11.9,{"$f":"Tabelle2[[#This Row],[EP]]*MAIN!$H$10","v":14.046533333333333},11.939553333333333,14.046533333333333,16.855839999999997,{"$f":"IF(Tabelle2[[#This Row],[Bis]]>0,1,0)","v":1}]
["*",85,"Pressfitting Kupplung/Formstück für PE-X-Rohr mit Klemmverbindung, Abm.: 16 bis 20 mm Doppel","St",14.17,{"$f":"Tabelle2[[#This Row],[EP]]*MAIN!$H$10","v":16.725998095238094},14.217098380952379,16.725998095238094,20.071197714285713,{"$f":"IF(Tabelle2[[#This Row],[Bis]]>0,1,0)","v":1}]
[null,null,null,null,null,null,null,null,null,{"$f":"IF(Tabelle2[[#This Row],[Bis]]>0,1,0)","v":0}]
[null,null,"Sanitärobjekte u. Ausstattung",null,null,null,null,null,null,{"$f":"IF(Tabelle2[[#This Row],[Bis]]>0,1,0)","v":0}]
[null,null,"Diese Aufstellung dient nur zur Information. Die Angebote für Objekte und Ausstattung dieser Kategorie unterliegen häufigen Marktvariationen.",null,null,null,null,null,null,{"$f":"IF(Tabelle2[[#This Row],[Bis]]>0,1,0)","v":0}]
["*",{"$f":"B147+1","v":86},"Ausgussbecken aus Stahl 50 x 33 cm, weiß emailliert, ohne Überlauf f. Wirtschaftsräume liefern und montieren","St",89.4,{"$f":"Tabelle2[[#This Row],[EP]]*MAIN!$H$10","v":105.52605714285714},{"$f":"H151*0.85","v":89.697148571428571},{"$f":"F151","v":105.52605714285714},{"$f":"H151*1.2","v":126.63126857142856},{"$f":"IF(Tabelle2[[#This Row],[Bis]]>0,1,0)","v":1}]
["*",{"$f":"B151+1","v":87},"Handwaschbecken, 450-500mm mit Überlauf, Sanitärporzellan weiß, mit verchromten Röhren-siphon 11/4\" und verchromten Eckventilen liefern u. montieren","St",97.1,{"$f":"Tabelle2[[#This Row],[EP]]*MAIN!$H$10","v":114.61499047619046},97.422741904761892,114.61499047619046,137.53798857142854,{"$f":"IF(Tabelle2[[#This Row],[Bis]]>0,1,0)","v":1}]
["*",{"$f":"B152+1","v":88},"Eck-Handwaschbecken b=400mm, sonst wie vor liefern und montieren","St",265.58,{"$f":"Tabelle2[[#This Row],[EP]]*MAIN!$H$10","v":313.48557333333332},266.46273733333334,313.48557333333332,376.18268799999998,{"$f":"IF(Tabelle2[[#This Row],[Bis]]>0,1,0)","v":1}]
["*",89,"Waschtisch, Keramik weiss 600-650mm, sonst wie vor mit Schallschutzset liefern und montieren","St",180.6,{"$f":"Tabelle2[[#This Row],[EP]]*MAIN!$H$10","v":213.17679999999999},181.20027999999999,213.17679999999999,255.81215999999998,{"$f":"IF(Tabelle2[[#This Row],[Bis]]>0,1,0)","v":1}]
["*",90,"Waschtisch, Keramik weiss, 700mm wie vor mit Säule z.B. Ideal Standard liefern und montieren","St",242,{"$f":"Tabelle2[[#This Row],[EP]]*MAIN!$H$10","v":285.65219047619047},242.80436190476189,285.65219047619047,342.78262857142857,{"$f":"IF(Tabelle2[[#This Row],[Bis]]>0,1,0)","v":1}]
[null,91,"Waschtisch einschl. Armatur ausbauen u. entsorgen","St",25,{"$f":"Tabelle2[[#This Row],[EP]]*MAIN!$H$10","v":29.509523809523806},25.083095238095236,29.509523809523806,35.411428571428566,{"$f":"IF(Tabelle2[[#This Row],[Bis]]>0,1,0)","v":1}]
["*",92,"Montageelement für Waschtisch, Stahl verz., pulver-besch. einschl. allem Zubehör liefern u. montieren","St",107,{"$f":"Tabelle2[[#This Row],[EP]]*MAIN!$H$10","v":126.3007619047619},107.35564761904762,126.3007619047619,151.56091428571426,{"$f":"IF(Tabelle2[[#This Row],[Bis]]>0,1,0)","v":1}]
["*",93,"Doppelwaschtisch, Keramik weiss, 121 x 47 cm mit seitlich angeformter Ablagefläche, sonst wie vor","St",349,{"$f":"Tabelle2[[#This Row],[EP]]*MAIN!$H$10","v":411.95295238095235},350.16000952380949,411.95295238095235,494.34354285714278,{"$f":"IF(Tabelle2[[#This Row],[Bis]]>0,1,0)","v":1}]
["*",94,"Duschwanne aus Stahl, weiß emailliert, aussen grundiert 800x800mm z. B. Fabr. Kaldewei einschl. Wannenfüsse, Wannenab-u. überlauf u. Geruchsverschluss liefern und montieren","St",168,{"$f":"Tabelle2[[#This Row],[EP]]*MAIN!$H$10","v":198.30399999999997},168.55839999999998,198.30399999999997,237.96479999999997,{"$f":"IF(Tabelle2[[#This Row],[Bis]]>0,1,0)","v":1}]
["*",95,"Wannenträger für Duschwanne 800/800mm Fabr. Kaldewei aus expand. Polystyrol","St",54.5,{"$f":"Tabelle2[[#This Row],[EP]]*MAIN!$H$10","v":64.3307619047619},54.681147619047614,64.3307619047619,77.196914285714271,{"$f":"IF(Tabelle2[[#This Row],[Bis]]>0,1,0)","v":1}]
["*",96,"Duschwanne, rechteckig,90 x 90 cm tiefe Ausführung, Wannenfüsse, erhöhter Schallschutz mit Anti-dröhnbeschichtung","St",298,{"$f":"Tabelle2[[#This Row],[EP]]*MAIN!$H$10","v":351.75352380952381},298.99049523809521,351.75352380952381,422.10422857142856,{"$f":"IF(Tabelle2[[#This Row],[Bis]]>0,1,0)","v":1}]
["*",97,"Duschwanne, rechteckig, 900/900mm aus Stahl, weiß emailliert einschl. Wannenträger aus Polystyrol","St",354,{"$f":"Tabelle2[[#This Row],[EP]]*MAIN!$H$10","v":417.8548571428571},355.17662857142852,417.8548571428571,501.4258285714285,{"$f":"IF(Tabelle2[[#This Row],[Bis]]>0,1,0)","v":1}]
["*",98,"Duschwanne, rechteckig aus Sanitäracryl, weiss, extraflach 90x90x2,5cm","St",287,{"$f":"Tabelle2[[#This Row],[EP]]*MAIN!$H$10","v":338.76933333333329},287.95393333333328,338.76933333333329,406.52319999999992,{"$f":"IF(Tabelle2[[#This Row],[Bis]]>0,1,0)","v":1}]
["*",99,"Duschkabine,80 x 80 cm, Kunststoff mit Rahmen, schmutzabweis. Beschichtung, Schiebefalztür liefern u. montieren","St",369,{"$f":"Tabelle2[[#This Row],[EP]]*MAIN!$H$10","v":435.56057142857139},370.22648571428567,435.56057142857139,522.67268571428565,{"$f":"IF(Tabelle2[[#This Row],[Bis]]>0,1,0)","v":1}]
["*",100,"Duschwanne, rechteckig 100 x 100cm aus Acryl ","St",385,{"$f":"Tabelle2[[#This Row],[EP]]*MAIN!$H$10","v":454.44666666666666},386.27966666666663,454.44666666666666,545.33600000000001,{"$f":"IF(Tabelle2[[#This Row],[Bis]]>0,1,0)","v":1}]
[null,101,"Duschwanne einschl. Ablauf demontieren u. entsorg.","St",77.900000000000006,{"$f":"Tabelle2[[#This Row],[EP]]*MAIN!$H$10","v":91.951676190476192},78.158924761904757,91.951676190476192,110.34201142857142,{"$f":"IF(Tabelle2[[#This Row],[Bis]]>0,1,0)","v":1}]
["*",102,"Einbauwanne, Rechteck 180 x 80cm Sanitäracryl weiß, inkl. Füsse, Ablaufgarnitur, Wannenbefestigung, liefern u. montieren  ","St",621.99,{"$f":"Tabelle2[[#This Row],[EP]]*MAIN!$H$10","v":734.1851485714285},624.05737628571421,734.1851485714285,881.02217828571418,{"$f":"IF(Tabelle2[[#This Row],[Bis]]>0,1,0)","v":1}]
[null,103,"Einbauwanne, Modell wie vor jedoch 170 x 80 cm  ","St",379,{"$f":"Tabelle2[[#This Row],[EP]]*MAIN!$H$10","v":447.36438095238094},380.25972380952379,447.36438095238094,536.83725714285708,{"$f":"IF(Tabelle2[[#This Row],[Bis]]>0,1,0)","v":1}]
["*",104,"Eckbadewanne 150 x100 cm, Sanitäracryl weiß, z. B. Fabr. Keramag inkl. Ablaufgarnitur","St",558,{"$f":"Tabelle2[[#This Row],[EP]]*MAIN!$H$10","v":658.65257142857138},559.85468571428567,658.65257142857138,790.38308571428558,{"$f":"IF(Tabelle2[[#This Row],[Bis]]>0,1,0)","v":1}]
["*",105,"Wannenträger, Polystyrol für vorgen. Eckbadewanne","St",198.99,{"$f":"Tabelle2[[#This Row],[EP]]*MAIN!$H$10","v":234.88400571428571},199.65140485714284,234.88400571428571,281.86080685714285,{"$f":"IF(Tabelle2[[#This Row],[Bis]]>0,1,0)","v":1}]
[null,106,"Badewanne einschl. Ablauf ausbauen u. entsorgen","St",95,{"$f":"Tabelle2[[#This Row],[EP]]*MAIN!$H$10","v":112.13619047619046},95.315761904761885,112.13619047619046,134.56342857142855,{"$f":"IF(Tabelle2[[#This Row],[Bis]]>0,1,0)","v":1}]
["*",107,"Tiefspül-WC, bodenstehend, Sanitärkeramik weiß mit aufgesetztem Spülkasten b/h/t=360/400/650mm liefern u. montieren","St",122.99,{"$f":"Tabelle2[[#This Row],[EP]]*MAIN!$H$10","v":145.17505333333332},123.39879533333333,145.17505333333332,174.21006399999999,{"$f":"IF(Tabelle2[[#This Row],[Bis]]>0,1,0)","v":1}]
["*",108,"Tiefspül-WC, Ausführung für WC-wandhängend, weiß b/h/t=360/400/660mm","St",129.83000000000001,{"$f":"Tabelle2[[#This Row],[EP]]*MAIN!$H$10","v":153.24885904761905},130.26153019047618,153.24885904761905,183.89863085714285,{"$f":"IF(Tabelle2[[#This Row],[Bis]]>0,1,0)","v":1}]
[null,109,"WC-Anlage abbauen und entsorgen","St",35,{"$f":"Tabelle2[[#This Row],[EP]]*MAIN!$H$10","v":41.313333333333333},35.11633333333333,41.313333333333333,49.576000000000001,{"$f":"IF(Tabelle2[[#This Row],[Bis]]>0,1,0)","v":1}]
["*",110,"Montageelement für wandhängendes WC, Stahl, verz.und pulverbesch. mit UP-Spülkasten anschlussfertig liefern u. montieren","St",205,{"$f":"Tabelle2[[#This Row],[EP]]*MAIN!$H$10","v":241.97809523809522},205.68138095238092,241.97809523809522,290.37371428571424,{"$f":"IF(Tabelle2[[#This Row],[Bis]]>0,1,0)","v":1}]
["*",111,"Montageelement für wandhängendes WC, Stahl, verz.und pulverbesch. mit UP-Spülkasten anschlussfertig liefern u. montieren, barrierefrei","St",519.66999999999996,{"$f":"Tabelle2[[#This Row],[EP]]*MAIN!$H$10","v":613.40856952380943},{"$f":"H176*0.85","v":521.39728409523798},{"$f":"F176","v":613.40856952380943},{"$f":"H176*1.2","v":736.0902834285713}]
[null,112,"Montageelement für wandhängende Sanitärobjekte ausbauen u. entsorgen","St",35,{"$f":"Tabelle2[[#This Row],[EP]]*MAIN!$H$10","v":41.313333333333333},35.11633333333333,41.313333333333333,49.576000000000001,{"$f":"IF(Tabelle2[[#This Row],[Bis]]>0,1,0)","v":1}]
["*",113,"Bidet bodenstehend aus Sanitärporzellan,z.b. V+B O.Novo, Farbe weiß, einschl. verchromter Armatur liefern u. montieren","St",138.91,{"$f":"Tabelle2[[#This Row],[EP]]*MAIN!$H$10","v":163.96671809523809},139.37171038095238,163.96671809523809,196.76006171428571,{"$f":"IF(Tabelle2[[#This Row],[Bis]]>0,1,0)","v":1}]
["*",114,"Bidet z.B. V+B o.Novo,wandhängend, sonst wie vor ","St",342,{"$f":"Tabelle2[[#This Row],[EP]]*MAIN!$H$10","v":403.69028571428566},343.13674285714279,403.69028571428566,484.42834285714275,{"$f":"IF(Tabelle2[[#This Row],[Bis]]>0,1,0)","v":1}]
["*",115,"Urinalbecken aus Sanitärporzellan, Zulauf oben, Ablauf unten, Farbe weiß, liefern u. montieren","St",225,{"$f":"Tabelle2[[#This Row],[EP]]*MAIN!$H$10","v":265.58571428571429},225.74785714285713,265.58571428571429,318.70285714285711,{"$f":"IF(Tabelle2[[#This Row],[Bis]]>0,1,0)","v":1}]
["*",116,"Urinalbecken aus Sanitärporzellan, Zulauf oben, Ablauf unten, Farbe weiß, liefern u. montieren inkl. Montageelement","St",225,{"$f":"Tabelle2[[#This Row],[EP]]*MAIN!$H$10","v":265.58571428571429},{"$f":"H181*0.85","v":225.74785714285713},{"$f":"F181","v":265.58571428571429},{"$f":"H181*1.2","v":318.70285714285711}]
[null,117,"Urinalbecken abbauen u. entsorgen"," St",35,{"$f":"Tabelle2[[#This Row],[EP]]*MAIN!$H$10","v":41.313333333333333},35.11633333333333,41.313333333333333,49.576000000000001,{"$f":"IF(Tabelle2[[#This Row],[Bis]]>0,1,0)","v":1}]
[null,null,null,null,null,null,null,null,null,{"$f":"IF(Tabelle2[[#This Row],[Bis]]>0,1,0)","v":0}]
[null,null,"Ausstattungen vom Fachhandel ohne Montage",null,null,null,null,null,null,{"$f":"IF(Tabelle2[[#This Row],[Bis]]>0,1,0)","v":0}]
[null,{"$f":"B182+1","v":118},"Diese Aufstellung dient nur zur Information. Die Angebote für Objekte und Ausstattung dieser Kategorie unterliegen häufigen Marktvariationen.",null,null,null,null,null,null,{"$f":"IF(Tabelle2[[#This Row],[Bis]]>0,1,0)","v":0}]
["*",{"$f":"B185+1","v":119},"WC-Sitz mit Deckel, leicht abnehmbar, mit Absenkautomatik; Material Duroplast mit Scharnieren aus Edelstahl    ","St",54.9,{"$f":"Tabelle2[[#This Row],[EP]]*MAIN!$H$10","v":64.80291428571428},{"$f":"H186*0.85","v":55.082477142857137},{"$f":"F186","v":64.80291428571428},{"$f":"H186*1.2","v":77.763497142857133},{"$f":"IF(Tabelle2[[#This Row],[Bis]]>0,1,0)","v":1}]
["*",{"$f":"B186+1","v":120},"WC-Sitz mit Deckel aus Holz und Befestigung aus Messing","St",59.99,{"$f":"Tabelle2[[#This Row],[EP]]*MAIN!$H$10","v":70.811053333333334},60.18939533333333,70.811053333333334,84.973264,{"$f":"IF(Tabelle2[[#This Row],[Bis]]>0,1,0)","v":1}]
["*",121,"Toilettenpapierhalter, verchromt, in offener Ausführung ","St",47.26,{"$f":"Tabelle2[[#This Row],[EP]]*MAIN!$H$10","v":55.784803809523801},47.417083238095231,55.784803809523801,66.941764571428564,{"$f":"IF(Tabelle2[[#This Row],[Bis]]>0,1,0)","v":1}]
["*",122,"Toilettenpapierhalter, verchromt, mit Abdeckung","St",53.06,{"$f":"Tabelle2[[#This Row],[EP]]*MAIN!$H$10","v":62.631013333333335},53.236361333333335,62.631013333333335,75.157216000000005,{"$f":"IF(Tabelle2[[#This Row],[Bis]]>0,1,0)","v":1}]
[null,123,"Ablage über Waschbecken aus Sanitärkeramik, b=500mm, Farbe weiß","St",37.840000000000003,{"$f":"Tabelle2[[#This Row],[EP]]*MAIN!$H$10","v":44.665615238095242},37.965772952380952,44.665615238095242,53.59873828571429,{"$f":"IF(Tabelle2[[#This Row],[Bis]]>0,1,0)","v":1}]
[null,124,"Ablageplatte aus Kristallglas, l=600mm","St",48.84,{"$f":"Tabelle2[[#This Row],[EP]]*MAIN!$H$10","v":57.649805714285712},49.002334857142856,57.649805714285712,69.179766857142852,{"$f":"IF(Tabelle2[[#This Row],[Bis]]>0,1,0)","v":1}]
[null,125,"Seifenablage mit Schale aus Kristallglas und verchromten Haltebügel","St",39.78,{"$f":"Tabelle2[[#This Row],[EP]]*MAIN!$H$10","v":46.955554285714285},39.912221142857142,46.955554285714285,56.346665142857141,{"$f":"IF(Tabelle2[[#This Row],[Bis]]>0,1,0)","v":1}]
[null,126,"Kristallspiegel mit Facettenschliff, Form rechteckig        ","St",54.3,{"$f":"Tabelle2[[#This Row],[EP]]*MAIN!$H$10","v":64.094685714285703},54.480482857142846,64.094685714285703,76.91362285714284,{"$f":"IF(Tabelle2[[#This Row],[Bis]]>0,1,0)","v":1}]
[null,127,"Kristallspiegel mit Facettenschliff in runder Ausführung","St",60.98,{"$f":"Tabelle2[[#This Row],[EP]]*MAIN!$H$10","v":71.979630476190465},61.182685904761897,71.979630476190465,86.375556571428561,{"$f":"IF(Tabelle2[[#This Row],[Bis]]>0,1,0)","v":1}]
[null,128,"Handtuchhalter, einarmig in verchromter Ausführung  liefern u. montieren","St",18.57,{"$f":"Tabelle2[[#This Row],[EP]]*MAIN!$H$10","v":21.919674285714283},18.63172314285714,21.919674285714283,26.303609142857137,{"$f":"IF(Tabelle2[[#This Row],[Bis]]>0,1,0)","v":1}]
[null,129,"Handtuchhalter, zweiarmig, verchromt und schwenkbar","St",20.86,{"$f":"Tabelle2[[#This Row],[EP]]*MAIN!$H$10","v":24.622746666666664},20.929334666666666,24.622746666666664,29.547295999999996,{"$f":"IF(Tabelle2[[#This Row],[Bis]]>0,1,0)","v":1}]
[null,130,"Handtuchring, verchromt, Ausführung rund","St",53.68,{"$f":"Tabelle2[[#This Row],[EP]]*MAIN!$H$10","v":63.362849523809523},53.85842209523809,63.362849523809523,76.03541942857143,{"$f":"IF(Tabelle2[[#This Row],[Bis]]>0,1,0)","v":1}]
["*",131,"Badetuchhalter, einarmig, verchromt, Ausladung 600mm","St",34.99,{"$f":"Tabelle2[[#This Row],[EP]]*MAIN!$H$10","v":41.301529523809521},35.10630009523809,41.301529523809521,49.56183542857142,{"$f":"IF(Tabelle2[[#This Row],[Bis]]>0,1,0)","v":1}]
[null,132,"Haltegriff, verchromt, gerade Ausführung","St",27.54,{"$f":"Tabelle2[[#This Row],[EP]]*MAIN!$H$10","v":32.507691428571427},27.631537714285713,32.507691428571427,39.009229714285709,{"$f":"IF(Tabelle2[[#This Row],[Bis]]>0,1,0)","v":1}]
[null,133,"Haltegriff mit Seifenablage, verchromt, in abgewinkelter Ausführung","St",90.2,{"$f":"Tabelle2[[#This Row],[EP]]*MAIN!$H$10","v":106.4703619047619},90.499807619047616,106.4703619047619,127.76443428571427,{"$f":"IF(Tabelle2[[#This Row],[Bis]]>0,1,0)","v":1}]
[null,134,"Seitenwand für Dusche aus 8mm Einscheiben- Sicherheitsglas, rahmenlos in Klarglas, b/h=900/2000mm","St",242,{"$f":"Tabelle2[[#This Row],[EP]]*MAIN!$H$10","v":285.65219047619047},242.80436190476189,285.65219047619047,342.78262857142857,{"$f":"IF(Tabelle2[[#This Row],[Bis]]>0,1,0)","v":1}]
[null,135,"Duschkabine für Eckeinstieg mit 5mm Einscheiben-Sicherheitsglas b/t/h=800/800/1.800mm","St",361.34,{"$f":"Tabelle2[[#This Row],[EP]]*MAIN!$H$10","v":426.51885333333325},362.54102533333327,426.51885333333325,511.82262399999991,{"$f":"IF(Tabelle2[[#This Row],[Bis]]>0,1,0)","v":1}]
[null,136,"Duschabtrennung als Pendeltür für 3-seitig eingebaute Duschen (Nischen) mit 5mm Sicherheitsglas, b/h=800/1,.800mm","St",259.77999999999997,{"$f":"Tabelle2[[#This Row],[EP]]*MAIN!$H$10","v":306.63936380952379},260.6434592380952,306.63936380952379,367.96723657142854,{"$f":"IF(Tabelle2[[#This Row],[Bis]]>0,1,0)","v":1}]
[null,137,"Duschklappsitz für Wandmontage aus Stahl mit Einbrennlackierung, weiß, b=365mm, Sitztiefe 285mm","St",69.260000000000005,{"$f":"Tabelle2[[#This Row],[EP]]*MAIN!$H$10","v":81.753184761904762},69.490207047619052,81.753184761904762,98.103821714285715,{"$f":"IF(Tabelle2[[#This Row],[Bis]]>0,1,0)","v":1}]
[null,null,null,null,null,null,null,null,null,{"$f":"IF(Tabelle2[[#This Row],[Bis]]>0,1,0)","v":0}]
[null,null,"Zubehör vom Fachhandel ohne Montage",null,null,null,null,null,null,{"$f":"IF(Tabelle2[[#This Row],[Bis]]>0,1,0)","v":0}]
[null,null,"Diese Aufstellung dient nur zur Information. Die Angebote für Objekte und Ausstattung dieser Kategorie unterliegen häufigen Marktvariationen. Ohne Versand!",null,null,null,null,null,null,{"$f":"IF(Tabelle2[[#This Row],[Bis]]>0,1,0)","v":0}]
[null,{"$f":"B204+1","v":138},"Druckminderer ohne Manometer 1\" für Wasserleitung bis 6 bar","St",35.700000000000003,{"$f":"Tabelle2[[#This Row],[EP]]*MAIN!$H$10","v":42.139600000000002},{"$f":"H208*0.85","v":35.818660000000001},{"$f":"F208","v":42.139600000000002},{"$f":"H208*1.2","v":50.567520000000002},{"$f":"IF(Tabelle2[[#This Row],[Bis]]>0,1,0)","v":1}]
[null,{"$f":"B208+1","v":139},"Druckminderer wie vor jedoch 1/2\"","St",28.6,{"$f":"Tabelle2[[#This Row],[EP]]*MAIN!$H$10","v":33.758895238095235},28.695060952380949,{"$f":"F209","v":33.758895238095235},40.510674285714281,{"$f":"IF(Tabelle2[[#This Row],[Bis]]>0,1,0)","v":1}]
[null,{"$f":"B209+1","v":140},"Rückschlagventil aus Messing für Rohrabsperrung Abmess.: 1/2","St",9.1999999999999993,{"$f":"Tabelle2[[#This Row],[EP]]*MAIN!$H$10","v":10.859504761904761},9.230579047619047,10.859504761904761,13.031405714285713,{"$f":"IF(Tabelle2[[#This Row],[Bis]]>0,1,0)","v":1}]
[null,141,"Rückschlagventil aus Messing für Rohrabsperrung Abmess.: 3/4","St",12,{"$f":"Tabelle2[[#This Row],[EP]]*MAIN!$H$10","v":14.164571428571428},12.039885714285713,14.164571428571428,16.997485714285713,{"$f":"IF(Tabelle2[[#This Row],[Bis]]>0,1,0)","v":1}]
[null,142,"Rückschlagventil aus Messing für Rohrabsperrung Abmess.: 1","St",18.100000000000001,{"$f":"Tabelle2[[#This Row],[EP]]*MAIN!$H$10","v":21.36489523809524},18.160160952380952,21.36489523809524,25.637874285714286,{"$f":"IF(Tabelle2[[#This Row],[Bis]]>0,1,0)","v":1}]
[null,143,"Absperrventil 1/2\" aus Messing ohne Entleerung","St",7.4,{"$f":"Tabelle2[[#This Row],[EP]]*MAIN!$H$10","v":8.7348190476190481},7.4245961904761906,8.7348190476190481,10.481782857142857,{"$f":"IF(Tabelle2[[#This Row],[Bis]]>0,1,0)","v":1}]
[null,144,"Absperrventil 3/4\" aus Messing ohne Entleerung","St",10.8,{"$f":"Tabelle2[[#This Row],[EP]]*MAIN!$H$10","v":12.748114285714285},10.835897142857142,12.748114285714285,15.297737142857141,{"$f":"IF(Tabelle2[[#This Row],[Bis]]>0,1,0)","v":1}]
[null,145,"Absperrventil 1/2\" aus Messing mit Entleerung","St",10.8,{"$f":"Tabelle2[[#This Row],[EP]]*MAIN!$H$10","v":12.748114285714285},10.835897142857142,12.748114285714285,15.297737142857141,{"$f":"IF(Tabelle2[[#This Row],[Bis]]>0,1,0)","v":1}]
[null,146,"Unterputzventil 1/2\" aus Messing als Absperrventil","St",13.2,{"$f":"Tabelle2[[#This Row],[EP]]*MAIN!$H$10","v":15.58102857142857},13.243874285714284,15.58102857142857,18.697234285714284,{"$f":"IF(Tabelle2[[#This Row],[Bis]]>0,1,0)","v":1}]
[null,147,"Freiflußventil mit Rückflußverhinderer 1/2\" aus Messing","St",12.6,{"$f":"Tabelle2[[#This Row],[EP]]*MAIN!$H$10","v":14.872799999999998},12.641879999999999,14.872799999999998,17.847359999999998,{"$f":"IF(Tabelle2[[#This Row],[Bis]]>0,1,0)","v":1}]
[null,148,"Auslaufventil 1/2\", verchromt mit Schlauchverschraubung","St",14.3,{"$f":"Tabelle2[[#This Row],[EP]]*MAIN!$H$10","v":16.879447619047617},14.347530476190475,16.879447619047617,20.25533714285714,{"$f":"IF(Tabelle2[[#This Row],[Bis]]>0,1,0)","v":1}]
[null,149,"Auslaufventil 1/2\" aus Messing           ","St",9.6999999999999993,{"$f":"Tabelle2[[#This Row],[EP]]*MAIN!$H$10","v":11.449695238095236},9.7322409523809501,11.449695238095236,13.739634285714283,{"$f":"IF(Tabelle2[[#This Row],[Bis]]>0,1,0)","v":1}]
[null,150,"Auslaufventil 3/4\" aus Messing","St",10.1,{"$f":"Tabelle2[[#This Row],[EP]]*MAIN!$H$10","v":11.921847619047618},10.133570476190474,11.921847619047618,14.306217142857141,{"$f":"IF(Tabelle2[[#This Row],[Bis]]>0,1,0)","v":1}]
[null,151,"Kombi-Eckventil 1/2\" verchromt; Fabr. Grohe","St",20.3,{"$f":"Tabelle2[[#This Row],[EP]]*MAIN!$H$10","v":23.961733333333331},20.367473333333329,23.961733333333331,28.754079999999998,{"$f":"IF(Tabelle2[[#This Row],[Bis]]>0,1,0)","v":1}]
[null,152,"Rückspülfilter mit Druckminderer aus Metall u. Kunststoff zur Filterung u. Reinigung DN25=1\"","St",69.099999999999994,{"$f":"Tabelle2[[#This Row],[EP]]*MAIN!$H$10","v":81.564323809523799},69.329675238095234,81.564323809523799,97.877188571428562,{"$f":"IF(Tabelle2[[#This Row],[Bis]]>0,1,0)","v":1}]
[null,153,"Rückspülfilter mit Druckminderer aus Metall u. Kunststoff zur Filterung u. Reinigung DN20=3/4\"","St",75.900000000000006,{"$f":"Tabelle2[[#This Row],[EP]]*MAIN!$H$10","v":89.590914285714291},76.152277142857145,89.590914285714291,107.50909714285714,{"$f":"IF(Tabelle2[[#This Row],[Bis]]>0,1,0)","v":1}]
[null,154,"Unterputz-Montageset für Messkapseln","St",17.899999999999999,{"$f":"Tabelle2[[#This Row],[EP]]*MAIN!$H$10","v":21.128819047619043},17.959496190476187,21.128819047619043,25.354582857142852,{"$f":"IF(Tabelle2[[#This Row],[Bis]]>0,1,0)","v":1}]
[null,155,"Wasserzähler Messkapsel für Kalt-u. Warmwasser","St",22.6,{"$f":"Tabelle2[[#This Row],[EP]]*MAIN!$H$10","v":26.676609523809525},22.675118095238094,26.676609523809525,32.01193142857143,{"$f":"IF(Tabelle2[[#This Row],[Bis]]>0,1,0)","v":1}]
[null,156,"Unterputz Kaltwasserzähler, Allmess","St",32.4,{"$f":"Tabelle2[[#This Row],[EP]]*MAIN!$H$10","v":38.244342857142854},32.507691428571427,38.244342857142854,45.893211428571426,{"$f":"IF(Tabelle2[[#This Row],[Bis]]>0,1,0)","v":1}]
[null,157,"Wohnungs-Wasserzähler 1/2\" für Warmwasser","St",15.1,{"$f":"Tabelle2[[#This Row],[EP]]*MAIN!$H$10","v":17.823752380952378},15.150189523809521,17.823752380952378,21.388502857142853,{"$f":"IF(Tabelle2[[#This Row],[Bis]]>0,1,0)","v":1}]
[null,158,"Grundkörper für 3-Loch Wannenrandarmatur, Unterputz; Fabr. Hansgrohe","St",95.6,{"$f":"Tabelle2[[#This Row],[EP]]*MAIN!$H$10","v":112.84441904761903},95.917756190476169,112.84441904761903,135.41330285714284,{"$f":"IF(Tabelle2[[#This Row],[Bis]]>0,1,0)","v":1}]
[null,159,"Grundkörper für Einhebel-Waschtischmischer DN15, Messing, Unterputz; Fabr. Hansgrohe","St",120.2,{"$f":"Tabelle2[[#This Row],[EP]]*MAIN!$H$10","v":141.88179047619047},120.5995219047619,141.88179047619047,170.25814857142856,{"$f":"IF(Tabelle2[[#This Row],[Bis]]>0,1,0)","v":1}]
[null,160,"Grundkörper für 3-Loch Wannenrand-Einhebelmischer DN15; Fabr. Hansgrohe","St",335.4,{"$f":"Tabelle2[[#This Row],[EP]]*MAIN!$H$10","v":395.8997714285714},336.51480571428567,395.8997714285714,475.07972571428564,{"$f":"IF(Tabelle2[[#This Row],[Bis]]>0,1,0)","v":1}]
[null,161,"Grundkörper für 4-Loch Wannenrandarmatur","St",424.3,{"$f":"Tabelle2[[#This Row],[EP]]*MAIN!$H$10","v":500.8356380952381},425.71029238095235,500.8356380952381,601.00276571428572,{"$f":"IF(Tabelle2[[#This Row],[Bis]]>0,1,0)","v":1}]
[null,162,"3-Loch-Einhand-Wannenkombination; Unterbau für Fliesenbankmontage; Fabr. Grohe","St",655.8,{"$f":"Tabelle2[[#This Row],[EP]]*MAIN!$H$10","v":774.0938285714285},657.97975428571419,774.0938285714285,928.91259428571414,{"$f":"IF(Tabelle2[[#This Row],[Bis]]>0,1,0)","v":1}]
[null,163,"Grundkörper Vierwegeumstellung DN20, Unterputz; Fabr. Hansgrohe","St",133.30000000000001,{"$f":"Tabelle2[[#This Row],[EP]]*MAIN!$H$10","v":157.34478095238094},133.74306380952379,157.34478095238094,188.81373714285712,{"$f":"IF(Tabelle2[[#This Row],[Bis]]>0,1,0)","v":1}]
[null,164,"Vorwandelement für Waschtisch, pulverlackiertes Stahlblech, b/h=500/1,130mm einschl. Wandhalte-rung, WC-Haltebolzen, Keramikbefestigung; Fabr. Grohe","St",105.4,{"$f":"Tabelle2[[#This Row],[EP]]*MAIN!$H$10","v":124.41215238095238},105.75032952380951,124.41215238095238,149.29458285714284,{"$f":"IF(Tabelle2[[#This Row],[Bis]]>0,1,0)","v":1}]
[null,165,"Unterputz Spülkasten für Stand-WC b/h/t=510/1.062/125mm, Spülmenge max. 9l, Anschluß 1/2\"","St",68.599999999999994,{"$f":"Tabelle2[[#This Row],[EP]]*MAIN!$H$10","v":80.974133333333327},68.828013333333331,80.974133333333327,97.168959999999984,{"$f":"IF(Tabelle2[[#This Row],[Bis]]>0,1,0)","v":1}]
[null,166,"Betätigungsplatte für WC-Spülung auf Unterputz-Spülkasten b/h=197/156mm; Fabr. Grohe","St",30.5,{"$f":"Tabelle2[[#This Row],[EP]]*MAIN!$H$10","v":36.001619047619045},30.601376190476188,36.001619047619045,43.201942857142853,{"$f":"IF(Tabelle2[[#This Row],[Bis]]>0,1,0)","v":1}]
[null,167,"Anschlußstutzen-Set für Zu-und Ablauf eines Wand-WC; universal für alle Unterputz-Spülkästen u. Montageelemente","St",29.8,{"$f":"Tabelle2[[#This Row],[EP]]*MAIN!$H$10","v":35.175352380952383},29.899049523809524,35.175352380952383,42.210422857142859,{"$f":"IF(Tabelle2[[#This Row],[Bis]]>0,1,0)","v":1}]
[null,168,"Füllventil Spülkasten DN15 mit Abdeckklappe und Drossel","St",16.5,{"$f":"Tabelle2[[#This Row],[EP]]*MAIN!$H$10","v":19.476285714285712},16.554842857142855,19.476285714285712,23.371542857142853,{"$f":"IF(Tabelle2[[#This Row],[Bis]]>0,1,0)","v":1}]
[null,169,"Druckspüler, Unterputz 1/2\" aus Metall/Kunststoff bis max. 10 bar; Fabr. Grohe","St",44.5,{"$f":"Tabelle2[[#This Row],[EP]]*MAIN!$H$10","v":52.52695238095238},44.647909523809524,52.52695238095238,63.032342857142851,{"$f":"IF(Tabelle2[[#This Row],[Bis]]>0,1,0)","v":1}]
[null,null,"Warmwasserspeicher Untertisch",null,null,null,null,null,null,{"$f":"IF(Tabelle2[[#This Row],[Bis]]>0,1,0)","v":0}]
[null,null,"Warmwasserspeicher Untertisch, wandhängend, spritzwassergeschützt, 230V mit stufenloser Temperatureinstellung; Abmess.: h/b/t=418/252/222 mm; Fabr. Stiebel Eltron  ",null,null,null,null,null,null,{"$f":"IF(Tabelle2[[#This Row],[Bis]]>0,1,0)","v":0}]
[null,{"$f":"B239+1","v":170},"WW Speicher 5l","St",58,{"$f":"Tabelle2[[#This Row],[EP]]*MAIN!$H$10","v":68.46209523809523},58.192780952380943,68.46209523809523,82.154514285714271,{"$f":"IF(Tabelle2[[#This Row],[Bis]]>0,1,0)","v":1}]
[null,{"$f":"B242+1","v":171},"WW Speicher 30l            ","St",91.5,{"$f":"Tabelle2[[#This Row],[EP]]*MAIN!$H$10","v":108.00485714285713},91.804128571428564,108.00485714285713,129.60582857142856,{"$f":"IF(Tabelle2[[#This Row],[Bis]]>0,1,0)","v":1}]
[null,{"$f":"B243+1","v":172},"WW Speicher 50l","St",121,{"$f":"Tabelle2[[#This Row],[EP]]*MAIN!$H$10","v":142.82609523809523},121.40218095238095,142.82609523809523,171.39131428571429,{"$f":"IF(Tabelle2[[#This Row],[Bis]]>0,1,0)","v":1}]
[null,173,"WW Speicher 80l            ","St",189,{"$f":"Tabelle2[[#This Row],[EP]]*MAIN!$H$10","v":223.09199999999998},189.62819999999999,223.09199999999998,267.71039999999999,{"$f":"IF(Tabelle2[[#This Row],[Bis]]>0,1,0)","v":1}]
[null,174,"Durchlauferhitzer 18-27kW, elektron. gesteuert von 35-55°C, 400V, Durchflußmenge 13,8l/min; Fabr. Stiebel Eltron","St",265,{"$f":"Tabelle2[[#This Row],[EP]]*MAIN!$H$10","v":312.80095238095237},265.88080952380949,312.80095238095237,375.36114285714285,{"$f":"IF(Tabelle2[[#This Row],[Bis]]>0,1,0)","v":1}]
[null,175,"Kleindurchlauferhitzer für Handwaschbecken 3,5kW, 230V inkl. Wandhalter; Fabr. AEG","St",87,{"$f":"Tabelle2[[#This Row],[EP]]*MAIN!$H$10","v":102.69314285714285},87.289171428571422,102.69314285714285,123.23177142857141,{"$f":"IF(Tabelle2[[#This Row],[Bis]]>0,1,0)","v":1}]
[null,176,"Sicherheitsgruppe für Eltspeicher bis 200l mit Druckminderer zwecks Absicherung beheizter Trink-wassererwärmer","St",96.6,{"$f":"Tabelle2[[#This Row],[EP]]*MAIN!$H$10","v":114.02479999999998},96.921079999999989,114.02479999999998,136.82975999999996,{"$f":"IF(Tabelle2[[#This Row],[Bis]]>0,1,0)","v":1}]
[null,177,"Filterkombination für Trinkwasserleitung mit Filtereinsatz aus Edelstahl, max. Betriebstemperatur 5-30°C; Fabr. Honeywell ","St",115,{"$f":"Tabelle2[[#This Row],[EP]]*MAIN!$H$10","v":135.74380952380952},115.38223809523808,135.74380952380952,162.89257142857142,{"$f":"IF(Tabelle2[[#This Row],[Bis]]>0,1,0)","v":1}]
[null,178,"Kleinhebeanlage für Vorwandinstallation für WC u. Waschtisch; Förderhöhe max. 3,0m, 230V, Farbe weiß; Fabr. Sanisan","St",230,{"$f":"Tabelle2[[#This Row],[EP]]*MAIN!$H$10","v":271.48761904761903},230.76447619047616,271.48761904761903,325.78514285714283,{"$f":"IF(Tabelle2[[#This Row],[Bis]]>0,1,0)","v":1}]
[null,179,"Wand-WC mit integrierter Kleinhebeanlage, Förderhöhe max. 3,0m, 230V, Farbe weiß; Fabr. Sanisan","St",617,{"$f":"Tabelle2[[#This Row],[EP]]*MAIN!$H$10","v":728.29504761904752},619.0507904761904,728.29504761904752,873.95405714285698,{"$f":"IF(Tabelle2[[#This Row],[Bis]]>0,1,0)","v":1}]
[null,180,"Stand-WC mit integrierter Kleinhebeanlage wie vor; Fabr. Sanisan ","St",395,{"$f":"Tabelle2[[#This Row],[EP]]*MAIN!$H$10","v":466.25047619047615},396.31290476190469,466.25047619047615,559.50057142857133,{"$f":"IF(Tabelle2[[#This Row],[Bis]]>0,1,0)","v":1}]
[]
[null,null,null,null,null,null,null,null,null,{"$f":"SUM(J28:J253)","v":174}]

{"sheet":"Datensatz","index":3,"n_rows":71,"n_cols":9,"rows_kept":71,"cut":false,"hidden":false,"merged":[[1,6,1,8]]}
[]
[null,"Ergebnis",{"$f":"INDEX(1:1048576,C8,B8)","v":1.1803809523809523},null,null,"Quelle, Prüflink:","DESTATITS LINK"]
[null,null,null,null,null,"ø Steigerung in %:",{"$f":"(G28-G8)/21","v":8.3809523809523778E-3},{"$f":"(H28-H8)/21","v":8.6190476190476165E-3},{"$f":"(I28-I8)/21","v":8.6666666666666697E-3}]
["Liste","Trefferspalte","Trefferzeile","Suchindex","Jahr","Quartal","Wohngebäude","Bürogebäude","Industriegebäude"]
[]
[]
[]
[2015,{"$f":"MATCH(MAIN!F10,Datensatz!4:4,0)","v":7},{"$f":"MATCH(MAIN!C10&MAIN!D10,Datensatz!D:D,0)","v":29},{"$f":"Tabelle3[[#This Row],[Jahr]]&Tabelle3[[#This Row],[Quartal]]","v":"2015I"},2015,"I",0.996,0.995,0.995]
[2016,null,null,{"$f":"E8&Tabelle3[[#This Row],[Quartal]]","v":"2015II"},null,"II",0.998,0.998,0.998]
[2017,null,null,{"$f":"E8&Tabelle3[[#This Row],[Quartal]]","v":"2015III"},null,"III",1.002,1.002,0.10299999999999999]
[2018,null,null,{"$f":"E8&Tabelle3[[#This Row],[Quartal]]","v":"2015IV"},null,"IV",1.004,1.0049999999999999,1.004]
[2019,null,null,{"$f":"Tabelle3[[#This Row],[Jahr]]&Tabelle3[[#This Row],[Quartal]]","v":"2016I"},2016,"I",1.012,1.0129999999999999,1.012]
[2020,null,null,{"$f":"E12&Tabelle3[[#This Row],[Quartal]]","v":"2016II"},null,"II",1.0189999999999999,1.02,1.018]
[2021,null,null,{"$f":"E12&Tabelle3[[#This Row],[Quartal]]","v":"2016III"},null,"III",1.024,1.0249999999999999,1.024]
[2022,null,null,{"$f":"E12&Tabelle3[[#This Row],[Quartal]]","v":"2016IV"},null,"IV",1.0269999999999999,1.0289999999999999,1.028]
[2023,null,null,{"$f":"Tabelle3[[#This Row],[Jahr]]&Tabelle3[[#This Row],[Quartal]]","v":"2017I"},2017,"I",1.04,1.042,1.0409999999999999]
[2024,null,null,{"$f":"E16&Tabelle3[[#This Row],[Quartal]]","v":"2017II"},null,"II",1.0489999999999999,1.0509999999999999,1.0509999999999999]
[2025,null,null,{"$f":"E16&Tabelle3[[#This Row],[Quartal]]","v":"2017III"},null,"III",1.0569999999999999,1.0589999999999999,1.0589999999999999]
[2026,null,null,{"$f":"E16&Tabelle3[[#This Row],[Quartal]]","v":"2017IV"},null,"IV",1.0640000000000001,1.0669999999999999,1.0680000000000001]
[2027,null,null,{"$f":"Tabelle3[[#This Row],[Jahr]]&Tabelle3[[#This Row],[Quartal]]","v":"2018I"},2018,"I",1.0820000000000001,1.085,1.085]
[2028,null,null,{"$f":"E20&Tabelle3[[#This Row],[Quartal]]","v":"2018II"},null,"II",1.0920000000000001,1.095,1.095]
[2029,null,null,{"$f":"E20&Tabelle3[[#This Row],[Quartal]]","v":"2018III"},null,"III",1.1060000000000001,1.109,1.1100000000000001]
[2030,null,null,{"$f":"E20&Tabelle3[[#This Row],[Quartal]]","v":"2018IV"},null,"IV",1.115,1.117,1.119]
[null,null,null,{"$f":"Tabelle3[[#This Row],[Jahr]]&Tabelle3[[#This Row],[Quartal]]","v":"2019I"},2019,"I",1.1339999999999999,1.137,1.139]
[null,null,null,{"$f":"E24&Tabelle3[[#This Row],[Quartal]]","v":"2019II"},null,"II",1.143,1.1459999999999999,1.147]
[null,null,null,{"$f":"E24&Tabelle3[[#This Row],[Quartal]]","v":"2019III"},null,"III",1.151,1.1539999999999999,1.1559999999999999]
[null,null,null,{"$f":"E24&Tabelle3[[#This Row],[Quartal]]","v":"2019IV"},null,"IV",1.157,1.161,1.1619999999999999]
[null,null,null,{"$f":"Tabelle3[[#This Row],[Jahr]]&Tabelle3[[#This Row],[Quartal]]","v":"2020I"},2020,"I",1.1719999999999999,1.1759999999999999,1.177]
[null,null,null,{"$f":"E28&Tabelle3[[#This Row],[Quartal]]","v":"2020II"},null,"II",{"$f":"G28+$G$3","v":1.1803809523809523},{"$f":"H28+$H$3","v":1.1846190476190475},{"$f":"I28+$I$3","v":1.1856666666666666}]
[null,null,null,{"$f":"E28&Tabelle3[[#This Row],[Quartal]]","v":"2020III"},null,"III",{"$f":"G29+$G$3","v":1.1887619047619047},{"$f":"H29+$H$3","v":1.193238095238095},{"$f":"I29+$I$3","v":1.1943333333333332}]
[null,null,null,{"$f":"E28&Tabelle3[[#This Row],[Quartal]]","v":"2020IV"},null,"IV",1.1971428571428571,{"$f":"H30+$H$3","v":1.2018571428571425},1.2029999999999998]
[null,null,null,{"$f":"Tabelle3[[#This Row],[Jahr]]&Tabelle3[[#This Row],[Quartal]]","v":"2021I"},2021,"I",{"$f":"G31+$G$3","v":1.2055238095238094},1.21047619047619,1.2116666666666664]
[null,null,null,{"$f":"E32&Tabelle3[[#This Row],[Quartal]]","v":"2021II"},null,"II",{"$f":"G32+$G$3","v":1.2139047619047618},1.2190952380952376,1.220333333333333]
[null,null,null,{"$f":"E32&Tabelle3[[#This Row],[Quartal]]","v":"2021III"},null,"III",1.2222857142857142,1.2277142857142851,1.2289999999999996]
[null,null,null,{"$f":"E32&Tabelle3[[#This Row],[Quartal]]","v":"2021IV"},null,"IV",1.2306666666666666,1.2363333333333326,1.2376666666666662]
[null,null,null,{"$f":"Tabelle3[[#This Row],[Jahr]]&Tabelle3[[#This Row],[Quartal]]","v":"2022I"},2022,"I",{"$f":"G35+$G$3","v":1.239047619047619},1.2449523809523801,1.2463333333333328]
[null,null,null,{"$f":"E36&Tabelle3[[#This Row],[Quartal]]","v":"2022II"},null,"II",{"$f":"G36+$G$3","v":1.2474285714285713},1.2535714285714277,1.2549999999999994]
[null,null,null,{"$f":"E36&Tabelle3[[#This Row],[Quartal]]","v":"2022III"},null,"III",1.2558095238095237,1.2621904761904752,1.263666666666666]
[null,null,null,{"$f":"E36&Tabelle3[[#This Row],[Quartal]]","v":"2022IV"},null,"IV",1.2641904761904761,1.2708095238095227,1.2723333333333327]
[null,null,null,{"$f":"Tabelle3[[#This Row],[Jahr]]&Tabelle3[[#This Row],[Quartal]]","v":"2023I"},2023,"I",{"$f":"G39+$G$3","v":1.2725714285714285},1.2794285714285702,1.2809999999999993]
[null,null,null,{"$f":"E40&Tabelle3[[#This Row],[Quartal]]","v":"2023II"},null,"II",{"$f":"G40+$G$3","v":1.2809523809523808},1.2880476190476178,1.2896666666666659]
[null,null,null,{"$f":"E40&Tabelle3[[#This Row],[Quartal]]","v":"2023III"},null,"III",1.2893333333333332,1.2966666666666653,1.2983333333333325]
[null,null,null,{"$f":"E40&Tabelle3[[#This Row],[Quartal]]","v":"2023IV"},null,"IV",1.2977142857142856,1.3052857142857128,1.3069999999999991]
[null,null,null,{"$f":"Tabelle3[[#This Row],[Jahr]]&Tabelle3[[#This Row],[Quartal]]","v":"2024I"},2024,"I",{"$f":"G43+$G$3","v":1.306095238095238},1.3139047619047604,1.3156666666666657]
[null,null,null,{"$f":"E44&Tabelle3[[#This Row],[Quartal]]","v":"2024II"},null,"II",{"$f":"G44+$G$3","v":1.3144761904761904},1.3225238095238079,1.3243333333333323]
[null,null,null,{"$f":"E44&Tabelle3[[#This Row],[Quartal]]","v":"2024III"},null,"III",1.3228571428571427,1.3311428571428554,1.3329999999999989]
[null,null,null,{"$f":"E44&Tabelle3[[#This Row],[Quartal]]","v":"2024IV"},null,"IV",1.3312380952380951,1.3397619047619029,1.3416666666666655]
[null,null,null,{"$f":"Tabelle3[[#This Row],[Jahr]]&Tabelle3[[#This Row],[Quartal]]","v":"2025I"},2025,"I",{"$f":"G47+$G$3","v":1.3396190476190475},1.3483809523809505,1.3503333333333321]
[null,null,null,{"$f":"E48&Tabelle3[[#This Row],[Quartal]]","v":"2025II"},null,"II",{"$f":"G48+$G$3","v":1.3479999999999999},1.356999999999998,1.3589999999999987]
[null,null,null,{"$f":"E48&Tabelle3[[#This Row],[Quartal]]","v":"2025III"},null,"III",1.3563809523809522,1.3656190476190455,1.3676666666666653]
[null,null,null,{"$f":"E48&Tabelle3[[#This Row],[Quartal]]","v":"2025IV"},null,"IV",1.3647619047619046,1.374238095238093,1.3763333333333319]
[null,null,null,{"$f":"Tabelle3[[#This Row],[Jahr]]&Tabelle3[[#This Row],[Quartal]]","v":"2026I"},2026,"I",{"$f":"G51+$G$3","v":1.373142857142857},{"$f":"H51+$H$3","v":1.3828571428571406},{"$f":"I51+$I$3","v":1.3849999999999985}]
[null,null,null,{"$f":"E52&Tabelle3[[#This Row],[Quartal]]","v":"2026II"},null,"II",{"$f":"G52+$G$3","v":1.3815238095238094},1.3914761904761881,1.3936666666666651]
[null,null,null,{"$f":"E52&Tabelle3[[#This Row],[Quartal]]","v":"2026III"},null,"III",1.3899047619047618,1.4000952380952356,1.4023333333333317]
[null,null,null,{"$f":"E52&Tabelle3[[#This Row],[Quartal]]","v":"2026IV"},null,"IV",1.3982857142857141,1.4087142857142831,1.4109999999999983]
[null,null,null,{"$f":"Tabelle3[[#This Row],[Jahr]]&Tabelle3[[#This Row],[Quartal]]","v":"2027I"},2027,"I",{"$f":"G55+$G$3","v":1.4066666666666665},1.4173333333333307,1.4196666666666649]
[null,null,null,{"$f":"E56&Tabelle3[[#This Row],[Quartal]]","v":"2027II"},null,"II",{"$f":"G56+$G$3","v":1.4150476190476189},1.4259523809523782,1.4283333333333315]
[null,null,null,{"$f":"E56&Tabelle3[[#This Row],[Quartal]]","v":"2027III"},null,"III",1.4234285714285713,1.4345714285714257,1.4369999999999981]
[null,null,null,{"$f":"E56&Tabelle3[[#This Row],[Quartal]]","v":"2027IV"},null,"IV",1.4318095238095236,1.4431904761904732,1.4456666666666647]
[null,null,null,{"$f":"Tabelle3[[#This Row],[Jahr]]&Tabelle3[[#This Row],[Quartal]]","v":"2028I"},2028,"I",{"$f":"G59+$G$3","v":1.440190476190476},1.4518095238095208,1.4543333333333313]
[null,null,null,{"$f":"E60&Tabelle3[[#This Row],[Quartal]]","v":"2028II"},null,"II",{"$f":"G60+$G$3","v":1.4485714285714284},1.4604285714285683,1.4629999999999979]
[null,null,null,{"$f":"E60&Tabelle3[[#This Row],[Quartal]]","v":"2028III"},null,"III",1.4569523809523808,1.4690476190476158,1.4716666666666645]
[null,null,null,{"$f":"E60&Tabelle3[[#This Row],[Quartal]]","v":"2028IV"},null,"IV",1.4653333333333332,1.4776666666666634,1.4803333333333311]
[null,null,null,{"$f":"Tabelle3[[#This Row],[Jahr]]&Tabelle3[[#This Row],[Quartal]]","v":"2029I"},2029,"I",{"$f":"G63+$G$3","v":1.4737142857142855},1.4862857142857109,1.4889999999999977]
[null,null,null,{"$f":"E64&Tabelle3[[#This Row],[Quartal]]","v":"2029II"},null,"II",{"$f":"G64+$G$3","v":1.4820952380952379},1.4949047619047584,1.4976666666666643]
[null,null,null,{"$f":"E64&Tabelle3[[#This Row],[Quartal]]","v":"2029III"},null,"III",1.4904761904761903,1.5035238095238059,1.5063333333333309]
[null,null,null,{"$f":"E64&Tabelle3[[#This Row],[Quartal]]","v":"2029IV"},null,"IV",1.4988571428571427,1.5121428571428535,1.5149999999999975]
[null,null,null,{"$f":"Tabelle3[[#This Row],[Jahr]]&Tabelle3[[#This Row],[Quartal]]","v":"2030I"},2030,"I",{"$f":"G67+$G$3","v":1.507238095238095},1.520761904761901,1.5236666666666641]
[null,null,null,{"$f":"E68&Tabelle3[[#This Row],[Quartal]]","v":"2030II"},null,"II",{"$f":"G68+$G$3","v":1.5156190476190474},1.5293809523809485,1.5323333333333307]
[null,null,null,{"$f":"E68&Tabelle3[[#This Row],[Quartal]]","v":"2030III"},null,"III",1.5239999999999998,1.537999999999996,1.5409999999999973]
[null,null,null,{"$f":"E68&Tabelle3[[#This Row],[Quartal]]","v":"2030IV"},null,"IV",1.5323809523809522,1.5466190476190436,1.5496666666666639]